Back to Multiple platform build/check report for BioC 3.17: simplified long |
|
This page was generated on 2023-10-16 11:37:13 -0400 (Mon, 16 Oct 2023).
Hostname | OS | Arch (*) | R version | Installed pkgs |
---|---|---|---|---|
nebbiolo1 | Linux (Ubuntu 22.04.2 LTS) | x86_64 | 4.3.1 (2023-06-16) -- "Beagle Scouts" | 4626 |
palomino3 | Windows Server 2022 Datacenter | x64 | 4.3.1 (2023-06-16 ucrt) -- "Beagle Scouts" | 4379 |
merida1 | macOS 12.6.4 Monterey | x86_64 | 4.3.1 (2023-06-16) -- "Beagle Scouts" | 4395 |
Click on any hostname to see more info about the system (e.g. compilers) (*) as reported by 'uname -p', except on Windows and Mac OS X |
Package 1152/2230 | Hostname | OS / Arch | INSTALL | BUILD | CHECK | BUILD BIN | ||||||||
MEDIPS 1.52.0 (landing page) Lukas Chavez
| nebbiolo1 | Linux (Ubuntu 22.04.2 LTS) / x86_64 | OK | OK | OK | |||||||||
palomino3 | Windows Server 2022 Datacenter / x64 | OK | OK | OK | OK | |||||||||
merida1 | macOS 12.6.4 Monterey / x86_64 | OK | OK | OK | OK | |||||||||
kjohnson2 | macOS 12.6.1 Monterey / arm64 | see weekly results here | ||||||||||||
To the developers/maintainers of the MEDIPS package: - Allow up to 24 hours (and sometimes 48 hours) for your latest push to git@git.bioconductor.org:packages/MEDIPS.git to reflect on this report. See Troubleshooting Build Report for more information. - Use the following Renviron settings to reproduce errors and warnings. - If 'R CMD check' started to fail recently on the Linux builder(s) over a missing dependency, add the missing dependency to 'Suggests:' in your DESCRIPTION file. See Renviron.bioc for more information. |
Package: MEDIPS |
Version: 1.52.0 |
Command: /Library/Frameworks/R.framework/Resources/bin/R CMD check --install=check:MEDIPS.install-out.txt --library=/Library/Frameworks/R.framework/Resources/library --no-vignettes --timings MEDIPS_1.52.0.tar.gz |
StartedAt: 2023-10-16 03:32:33 -0400 (Mon, 16 Oct 2023) |
EndedAt: 2023-10-16 03:45:26 -0400 (Mon, 16 Oct 2023) |
EllapsedTime: 772.9 seconds |
RetCode: 0 |
Status: OK |
CheckDir: MEDIPS.Rcheck |
Warnings: 0 |
############################################################################## ############################################################################## ### ### Running command: ### ### /Library/Frameworks/R.framework/Resources/bin/R CMD check --install=check:MEDIPS.install-out.txt --library=/Library/Frameworks/R.framework/Resources/library --no-vignettes --timings MEDIPS_1.52.0.tar.gz ### ############################################################################## ############################################################################## * using log directory ‘/Users/biocbuild/bbs-3.17-bioc/meat/MEDIPS.Rcheck’ * using R version 4.3.1 (2023-06-16) * using platform: x86_64-apple-darwin20 (64-bit) * R was compiled by Apple clang version 14.0.3 (clang-1403.0.22.14.1) GNU Fortran (GCC) 12.2.0 * running under: macOS Monterey 12.6.4 * using session charset: UTF-8 * using option ‘--no-vignettes’ * checking for file ‘MEDIPS/DESCRIPTION’ ... OK * checking extension type ... Package * this is package ‘MEDIPS’ version ‘1.52.0’ * checking package namespace information ... OK * checking package dependencies ... OK * checking if this is a source package ... OK * checking if there is a namespace ... OK * checking for hidden files and directories ... OK * checking for portable file names ... OK * checking for sufficient/correct file permissions ... OK * checking whether package ‘MEDIPS’ can be installed ... OK * checking installed package size ... OK * checking package directory ... OK * checking ‘build’ directory ... OK * checking DESCRIPTION meta-information ... OK * checking top-level files ... OK * checking for left-over files ... OK * checking index information ... OK * checking package subdirectories ... OK * checking R files for non-ASCII characters ... OK * checking R files for syntax errors ... OK * checking whether the package can be loaded ... OK * checking whether the package can be loaded with stated dependencies ... OK * checking whether the package can be unloaded cleanly ... OK * checking whether the namespace can be loaded with stated dependencies ... OK * checking whether the namespace can be unloaded cleanly ... OK * checking dependencies in R code ... OK * checking S3 generic/method consistency ... OK * checking replacement functions ... OK * checking foreign function calls ... OK * checking R code for possible problems ... NOTE MEDIPS.CpGenrich: no visible global function definition for ‘seqlevels’ MEDIPS.CpGenrich: no visible global function definition for ‘seqlengths’ MEDIPS.CpGenrich: no visible global function definition for ‘GRangesList’ MEDIPS.CpGenrich : <anonymous>: no visible global function definition for ‘seqnames’ MEDIPS.CpGenrich: no visible global function definition for ‘new’ MEDIPS.addCNV: no visible global function definition for ‘seqnames’ MEDIPS.correlation: no visible global function definition for ‘pdf’ MEDIPS.correlation: no visible global function definition for ‘dev.off’ MEDIPS.couplingVector: no visible global function definition for ‘new’ MEDIPS.createROIset: no visible global function definition for ‘seqnames’ MEDIPS.createROIset: no visible global function definition for ‘seqlengths’ MEDIPS.createROIset: no visible global function definition for ‘new’ MEDIPS.createSet: no visible global function definition for ‘seqnames’ MEDIPS.createSet: no visible global function definition for ‘seqlengths’ MEDIPS.createSet: no visible global function definition for ‘seqlevels’ MEDIPS.createSet: no visible global function definition for ‘new’ MEDIPS.diffMeth: no visible global function definition for ‘p.adjust’ MEDIPS.exportWIG: no visible global function definition for ‘seqnames’ MEDIPS.mergeSets: no visible global function definition for ‘new’ MEDIPS.meth: no visible global function definition for ‘seqnames’ MEDIPS.plotCalibrationPlot: no visible global function definition for ‘seqnames’ MEDIPS.plotCalibrationPlot: no visible global function definition for ‘points’ MEDIPS.plotSeqCoverage: no visible global function definition for ‘pie’ MEDIPS.plotSeqCoverage: no visible global function definition for ‘hist’ MEDIPS.saturation: no visible global function definition for ‘seqlevels’ MEDIPS.saturation: no visible global function definition for ‘seqlengths’ MEDIPS.selectROIs: no visible global function definition for ‘elementMetadata<-’ MEDIPS.selectROIs: no visible global function definition for ‘elementMetadata’ MEDIPS.selectROIs: no visible global function definition for ‘findOverlaps’ MEDIPS.selectROIs: no visible global function definition for ‘values’ MEDIPS.selectROIs: no visible global function definition for ‘seqnames’ MEDIPS.seqCoverage: no visible global function definition for ‘seqlevels’ MEDIPS.seqCoverage: no visible global function definition for ‘seqlengths’ MEDIPS.setAnnotation: no visible global function definition for ‘findOverlaps’ MEDIPS.setAnnotation: no visible global function definition for ‘values’ getGRange: no visible global function definition for ‘qpois’ getGRange: no visible global function definition for ‘seqlengths’ getGRange: no visible global function definition for ‘countMatches’ getGRange: no visible global function definition for ‘strand<-’ getMObjectFromWIG: no visible global function definition for ‘seqlengths’ getMObjectFromWIG: no visible global function definition for ‘values’ getMObjectFromWIG: no visible global function definition for ‘runLength’ getMObjectFromWIG: no visible global function definition for ‘seqnames’ getMObjectFromWIG: no visible global function definition for ‘runValue’ getMObjectFromWIG: no visible global function definition for ‘new’ getPairedGRange: no visible global function definition for ‘sd’ getPairedGRange: no visible global function definition for ‘qpois’ getPairedGRange: no visible global function definition for ‘seqlengths’ getPairedGRange: no visible global function definition for ‘countMatches’ getPairedGRange: no visible global function definition for ‘strand<-’ matSd: no visible binding for global variable ‘sd’ matTtest: no visible binding for global variable ‘sd’ matTtest: no visible global function definition for ‘pt’ Undefined global functions or variables: GRangesList countMatches dev.off elementMetadata elementMetadata<- findOverlaps hist new p.adjust pdf pie points pt qpois runLength runValue sd seqlengths seqlevels seqnames strand<- values Consider adding importFrom("grDevices", "dev.off", "pdf") importFrom("graphics", "hist", "pie", "points") importFrom("methods", "new") importFrom("stats", "p.adjust", "pt", "qpois", "sd") to your NAMESPACE file (and ensure that your DESCRIPTION Imports field contains 'methods'). * checking Rd files ... OK * checking Rd metadata ... OK * checking Rd cross-references ... OK * checking for missing documentation entries ... OK * checking for code/documentation mismatches ... OK * checking Rd \usage sections ... OK * checking Rd contents ... OK * checking for unstated dependencies in examples ... OK * checking sizes of PDF files under ‘inst/doc’ ... OK * checking files in ‘vignettes’ ... OK * checking examples ... OK Examples with CPU (user + system) or elapsed time > 5s user system elapsed MEDIPS.meth 52.575 1.780 69.135 MEDIPS.addCNV 27.526 0.825 35.979 MEDIPS.plotSaturation 9.984 0.528 13.599 MEDIPS.saturation 9.428 0.437 13.195 MEDIPS.plotCalibrationPlot 4.624 0.337 6.211 MEDIPS.couplingVector 4.234 0.149 5.837 MEDIPS.seqCoverage 3.812 0.192 5.278 * checking for unstated dependencies in vignettes ... OK * checking package vignettes in ‘inst/doc’ ... OK * checking running R code from vignettes ... SKIPPED * checking re-building of vignette outputs ... SKIPPED * checking PDF version of manual ... OK * DONE Status: 1 NOTE See ‘/Users/biocbuild/bbs-3.17-bioc/meat/MEDIPS.Rcheck/00check.log’ for details.
MEDIPS.Rcheck/00install.out
############################################################################## ############################################################################## ### ### Running command: ### ### /Library/Frameworks/R.framework/Resources/bin/R CMD INSTALL MEDIPS ### ############################################################################## ############################################################################## * installing to library ‘/Library/Frameworks/R.framework/Versions/4.3-x86_64/Resources/library’ * installing *source* package ‘MEDIPS’ ... ** using staged installation ** R ** inst ** byte-compile and prepare package for lazy loading No methods found in package ‘IRanges’ for request: ‘values’ when loading ‘MEDIPS’ ** help *** installing help indices ** building package indices ** installing vignettes ** testing if installed package can be loaded from temporary location No methods found in package ‘IRanges’ for request: ‘values’ when loading ‘MEDIPS’ ** testing if installed package can be loaded from final location No methods found in package ‘IRanges’ for request: ‘values’ when loading ‘MEDIPS’ ** testing if installed package keeps a record of temporary installation path * DONE (MEDIPS)
MEDIPS.Rcheck/MEDIPS-Ex.timings
name | user | system | elapsed | |
COUPLINGset-class | 0.002 | 0.002 | 0.004 | |
MEDIPS.CpGenrich | 0.077 | 0.009 | 0.095 | |
MEDIPS.addCNV | 27.526 | 0.825 | 35.979 | |
MEDIPS.correlation | 1.900 | 0.109 | 2.554 | |
MEDIPS.couplingVector | 4.234 | 0.149 | 5.837 | |
MEDIPS.createROIset | 1.539 | 0.075 | 2.082 | |
MEDIPS.createSet | 1.632 | 0.052 | 2.144 | |
MEDIPS.exportWIG | 2.952 | 0.076 | 3.838 | |
MEDIPS.getAnnotation | 0.000 | 0.000 | 0.001 | |
MEDIPS.mergeFrames | 0.008 | 0.001 | 0.009 | |
MEDIPS.mergeSets | 0.971 | 0.018 | 1.257 | |
MEDIPS.meth | 52.575 | 1.780 | 69.135 | |
MEDIPS.plotCalibrationPlot | 4.624 | 0.337 | 6.211 | |
MEDIPS.plotSaturation | 9.984 | 0.528 | 13.599 | |
MEDIPS.plotSeqCoverage | 3.940 | 0.125 | 4.951 | |
MEDIPS.saturation | 9.428 | 0.437 | 13.195 | |
MEDIPS.selectROIs | 2.540 | 0.048 | 3.611 | |
MEDIPS.selectSig | 3.541 | 0.162 | 4.917 | |
MEDIPS.seqCoverage | 3.812 | 0.192 | 5.278 | |
MEDIPS.setAnnotation | 3.504 | 0.148 | 4.608 | |
MEDIPSroiSet-class | 0.001 | 0.001 | 0.003 | |
MEDIPSset-class | 0.001 | 0.001 | 0.003 | |