Name | Last modified | Size | Description | |
---|---|---|---|---|
Parent Directory | - | |||
bioc-LATEST/ | 13-Apr-2023 00:06 | - | ||
bioc-longtests-LATEST/ | 16-Apr-2023 10:30 | - | ||
bioc-mac-arm64-LATEST/ | 20-Apr-2023 00:02 | - | ||
books-LATEST/ | 13-Apr-2023 03:00 | - | ||
data-annotation-LATEST/ | 12-Apr-2023 19:00 | - | ||
data-experiment-LATEST/ | 12-Apr-2023 03:50 | - | ||
workflows-LATEST/ | 12-Apr-2023 03:00 | - | ||