This page was generated on 2023-03-22 06:00:05 -0400 (Wed, 22 Mar 2023).
|
Hostname | OS | Arch (*) | R version | Installed pkgs |
---|---|---|---|---|
nebbiolo2 | Linux (Ubuntu 20.04.5 LTS) | x86_64 | 4.2.3 (2023-03-15) -- "Shortstop Beagle" | 353 |
Click on any hostname to see more info about the system (e.g. compilers) (*) as reported by 'uname -p', except on Windows and Mac OS X |
A |
QUICK STATS | OS / Arch | INSTALL | BUILD | CHECK | |||||||||||||||||||||||||||||||
nebbiolo2 | Linux (Ubuntu 20.04.5 LTS) / x86_64 |
|
|
| |||||||||||||||||||||||||||||||
|
| ||||||||||||||||||||||||||||||||||
Package | Maintainer | INSTALL | BUILD | CHECK | |||||||||||||||||||||||||||||||
1/36 | AHCytoBands 0.99.1 (landing page) | Michael Lawrence | OK | OK | OK | ![]() | |||||||||||||||||||||||||||||
2/36 | AHEnsDbs 1.1.8 (landing page) | Johannes Rainer | ERROR | ERROR | skipped | ||||||||||||||||||||||||||||||
3/36 | AHLRBaseDbs 0.99.3 (landing page) | Koki Tsuyuzaki | ERROR | ERROR | skipped | ||||||||||||||||||||||||||||||
4/36 | AHMeSHDbs 0.99.6 (landing page) | Koki Tsuyuzaki | ERROR | ERROR | skipped | ||||||||||||||||||||||||||||||
5/36 | AHPathbankDbs 0.99.5 (landing page) | Kozo Nishida | ERROR | ERROR | skipped | ||||||||||||||||||||||||||||||
6/36 | AHPubMedDbs 0.99.8 (landing page) | Koki Tsuyuzaki | ERROR | ERROR | skipped | ||||||||||||||||||||||||||||||
7/36 | AHWikipathwaysDbs 0.99.4 (landing page) | Kozo Nishida | ERROR | ERROR | skipped | ||||||||||||||||||||||||||||||
8/36 | alternativeSplicingEvents.hg19 1.1.0 (landing page) | Nuno Agostinho | ERROR | OK | OK | ![]() | |||||||||||||||||||||||||||||
9/36 | alternativeSplicingEvents.hg38 1.1.0 (landing page) | Nuno Agostinho | ERROR | OK | ERROR | ||||||||||||||||||||||||||||||
|
| ||||||||||||||||||||||||||||||||||
Package | Maintainer | INSTALL | BUILD | CHECK | |||||||||||||||||||||||||||||||
10/36 | chromhmmData 0.99.2 (landing page) | Mahmoud Ahmed | OK | OK | OK | ![]() | |||||||||||||||||||||||||||||
11/36 | CTCF 0.99.11 (landing page) | Mikhail Dozmorov | OK | ERROR | skipped | ||||||||||||||||||||||||||||||
|
| ||||||||||||||||||||||||||||||||||
Package | Maintainer | INSTALL | BUILD | CHECK | |||||||||||||||||||||||||||||||
12/36 | ENCODExplorerData 0.99.5 (landing page) | Eric Fournier | OK | OK | ERROR | ||||||||||||||||||||||||||||||
13/36 | EpiTxDb.Hs.hg38 0.99.7 (landing page) | Felix G.M. Ernst | ERROR | ERROR | skipped | ||||||||||||||||||||||||||||||
14/36 | EpiTxDb.Mm.mm10 0.99.6 (landing page) | Felix G.M. Ernst | ERROR | ERROR | skipped | ||||||||||||||||||||||||||||||
15/36 | EpiTxDb.Sc.sacCer3 0.99.5 (landing page) | Felix G.M. Ernst | ERROR | ERROR | skipped | ||||||||||||||||||||||||||||||
16/36 | EuPathDB 1.0.1 (landing page) | Keith Hughitt | ERROR | ERROR | skipped | ||||||||||||||||||||||||||||||
17/36 | excluderanges 0.99.8 (landing page) | Mikhail Dozmorov | ERROR | ERROR | skipped | ||||||||||||||||||||||||||||||
|
| ||||||||||||||||||||||||||||||||||
Package | Maintainer | INSTALL | BUILD | CHECK | |||||||||||||||||||||||||||||||
18/36 | geneplast.data 0.99.6 (landing page) | Leonardo Campos | OK | OK | OK | ![]() | |||||||||||||||||||||||||||||
19/36 | GeneSummary 0.99.4 (landing page) | Zuguang Gu | OK | OK | OK | ![]() | |||||||||||||||||||||||||||||
20/36 | GenomicState 0.99.15 (landing page) | Leonardo Collado-Torres | ERROR | ERROR | skipped | ||||||||||||||||||||||||||||||
21/36 | gwascatData 0.99.6 (landing page) | Sara Stankiewicz | OK | ERROR | skipped | ||||||||||||||||||||||||||||||
|
| ||||||||||||||||||||||||||||||||||
Package | Maintainer | INSTALL | BUILD | CHECK | |||||||||||||||||||||||||||||||
22/36 | hpAnnot 1.1.0 (landing page) | Marta R. Hidalgo | OK | ERROR | skipped | ||||||||||||||||||||||||||||||
|
| ||||||||||||||||||||||||||||||||||
Package | Maintainer | INSTALL | BUILD | CHECK | |||||||||||||||||||||||||||||||
23/36 | JASPAR2020 0.99.8 (landing page) | Damir Baranasic | OK | ERROR | skipped | ||||||||||||||||||||||||||||||
24/36 | JASPAR2022 0.99.7 (landing page) | Damir Baranasic | OK | ERROR | skipped | ||||||||||||||||||||||||||||||
|
| ||||||||||||||||||||||||||||||||||
Package | Maintainer | INSTALL | BUILD | CHECK | |||||||||||||||||||||||||||||||
25/36 | metaboliteIDmapping 0.99.10 (landing page) | Sebastian Canzler | ERROR | ERROR | skipped | ||||||||||||||||||||||||||||||
|
| ||||||||||||||||||||||||||||||||||
Package | Maintainer | INSTALL | BUILD | CHECK | |||||||||||||||||||||||||||||||
26/36 | ontoProcData 0.99.9901 (landing page) | Sara Stankiewicz | OK | ERROR | skipped | ||||||||||||||||||||||||||||||
27/36 | org.Mxanthus.db 1.0.27 (landing page) | Eduardo Illueca Fernández | ERROR | ERROR | skipped | ||||||||||||||||||||||||||||||
|
| ||||||||||||||||||||||||||||||||||
Package | Maintainer | INSTALL | BUILD | CHECK | |||||||||||||||||||||||||||||||
28/36 | PANTHER.db 1.0.10 (landing page) | Julius Muller | ERROR | ERROR | skipped | ||||||||||||||||||||||||||||||
29/36 | phastCons30way.UCSC.hg38 3.13.0 (landing page) | Robert Castelo | ERROR | ERROR | skipped | ||||||||||||||||||||||||||||||
|
| ||||||||||||||||||||||||||||||||||
Package | Maintainer | INSTALL | BUILD | CHECK | |||||||||||||||||||||||||||||||
30/36 | rat2302frmavecs 0.99.11 (landing page) | Sylvain Gubian | ERROR | ERROR | skipped | ||||||||||||||||||||||||||||||
31/36 | rGenomeTracksData 0.99.0 (landing page) | Omar Elashkar | ERROR | ERROR | skipped | ||||||||||||||||||||||||||||||
|
| ||||||||||||||||||||||||||||||||||
Package | Maintainer | INSTALL | BUILD | CHECK | |||||||||||||||||||||||||||||||
32/36 | scAnnotatR.models 0.99.10 (landing page) | Johannes Griss | OK | ERROR | skipped | ||||||||||||||||||||||||||||||
33/36 | synaptome.data 0.99.6 (landing page) | Oksana Sorokina | ERROR | ERROR | skipped | ||||||||||||||||||||||||||||||
34/36 | synaptome.db 0.99.12 (landing page) | Oksana Sorokina | ERROR | ERROR | skipped | ||||||||||||||||||||||||||||||
|
| ||||||||||||||||||||||||||||||||||
Package | Maintainer | INSTALL | BUILD | CHECK | |||||||||||||||||||||||||||||||
35/36 | UCSCRepeatMasker 3.15.2 (landing page) | Robert Castelo | ERROR | ERROR | skipped | ||||||||||||||||||||||||||||||
36/36 | UniProtKeywords 0.99.4 (landing page) | Zuguang Gu | OK | OK | OK | ![]() |