Mac ARM64 build report for BioC 3.16

This page was generated on 2023-04-19 11:01:59 -0400 (Wed, 19 Apr 2023).

Approx. Package Snapshot Date (git pull): 2023-04-12 13:00:02 -0400 (Wed, 12 Apr 2023)

HostnameOSArch (*)R versionInstalled pkgs
kjohnsonmacOS 13.0 Venturaarm644.2.2 (2022-10-31) -- "Innocent and Trusting" 4256
Click on any hostname to see more info about the system (e.g. compilers)      (*) as reported by 'uname -p', except on Windows and Mac OS X

Package status is indicated by one of the following glyphs
  TIMEOUT  
INSTALL, BUILD or BUILD BIN of package took more than 40 minutes
  ERROR  
Bad DESCRIPTION file, or INSTALL, BUILD or BUILD BIN of package failed
  OK  
INSTALL, BUILD or BUILD BIN of package went OK
  NA  
INSTALL, BUILD or BUILD BIN result is not available because of an anomaly in the Build System
skipped
BUILD BIN of package was skipped because the BUILD step failed
Click on any glyph in the report below to access the detailed report.
Package propagation status is indicated by one of the following LEDs
YES YES: Package was propagated because it didn't previously exist or version was bumped
NO NO: Package was not propagated because of a problem (impossible dependencies, or version lower than what is already propagated)
UNNEEDED UNNEEDED: Package was not propagated because it is already in the repository with this version. A version bump is required in order to propagate it

A crossed-out package name indicates the package is deprecated


QUICK STATSOS / ArchINSTALLBUILDBUILD BIN
kjohnsonmacOS 13.0 Ventura / arm64
0392135
101032061
002061
A
ABCDEFGHIJKLMNOPQRSTUVWXYZ
PackageMaintainerINSTALLBUILDBUILD BIN
1/2183a4 1.46.0  (landing page)Laure Cougnaud  OK    OK    OK  UNNEEDED, same version is already published
2/2183a4Base 1.46.0  (landing page)Laure Cougnaud  OK    OK    OK  UNNEEDED, same version is already published
3/2183a4Classif 1.46.0  (landing page)Laure Cougnaud  OK    OK    OK  UNNEEDED, same version is already published
4/2183a4Core 1.46.0  (landing page)Laure Cougnaud  OK    OK    OK  UNNEEDED, same version is already published
5/2183a4Preproc 1.46.0  (landing page)Laure Cougnaud  OK    OK    OK  UNNEEDED, same version is already published
6/2183a4Reporting 1.46.0  (landing page)Laure Cougnaud  OK    OK    OK  UNNEEDED, same version is already published
7/2183ABarray 1.66.0  (landing page)Yongming Andrew Sun  OK    OK    OK  UNNEEDED, same version is already published
8/2183abseqR 1.16.0  (landing page)JiaHong Fong  OK    OK    OK  UNNEEDED, same version is already published
9/2183ABSSeq 1.52.0  (landing page)Wentao Yang  OK    OK    OK  UNNEEDED, same version is already published
10/2183acde 1.28.0  (landing page)Juan Pablo Acosta  OK    OK    OK  UNNEEDED, same version is already published
11/2183ACE 1.16.0  (landing page)Jos B Poell  OK    OK    OK  UNNEEDED, same version is already published
12/2183aCGH 1.76.0  (landing page)Peter Dimitrov  OK    OK    OK  UNNEEDED, same version is already published
13/2183ACME 2.54.0  (landing page)Sean Davis  OK    OK    OK  UNNEEDED, same version is already published
14/2183ADaCGH2 2.38.0  (landing page)Ramon Diaz-Uriarte  OK    OK    OK  UNNEEDED, same version is already published
15/2183ADAM 1.14.0  (landing page)Jose Luiz Rybarczyk Filho  OK    OK    OK  UNNEEDED, same version is already published
16/2183ADAMgui 1.14.0  (landing page)Jose Luiz Rybarczyk Filho  OK    OK    OK  UNNEEDED, same version is already published
17/2183adductomicsR 1.14.0  (landing page)Josie Hayes  OK    OK    OK  UNNEEDED, same version is already published
18/2183ADImpute 1.8.0  (landing page)Ana Carolina Leote  OK    OK    OK  UNNEEDED, same version is already published
19/2183adSplit 1.68.0  (landing page)Claudio Lottaz  OK    OK    OK  UNNEEDED, same version is already published
20/2183AffiXcan 1.16.0  (landing page)Alessandro Lussana  OK    OK    OK  UNNEEDED, same version is already published
21/2183affxparser 1.70.0  (landing page)Kasper Daniel Hansen  OK    OK    OK  UNNEEDED, same version is already published
22/2183affy 1.76.0  (landing page)Rafael A. Irizarry  OK    OK    OK  UNNEEDED, same version is already published
23/2183affycomp 1.74.0  (landing page)Rafael A. Irizarry  OK    OK    OK  UNNEEDED, same version is already published
24/2183AffyCompatible 1.58.0  (landing page)Martin Morgan  OK    OK    OK  UNNEEDED, same version is already published
25/2183affyContam 1.56.0  (landing page)V. Carey  OK    OK    OK  UNNEEDED, same version is already published
26/2183affycoretools 1.70.0  (landing page)James W. MacDonald  OK    OK    OK  UNNEEDED, same version is already published
27/2183affyILM 1.50.0  (landing page)Myriam Kroll and Fabrice Berger  OK    OK    OK  UNNEEDED, same version is already published
28/2183affyio 1.68.0  (landing page)Ben Bolstad  OK    OK    OK  UNNEEDED, same version is already published
29/2183affylmGUI 1.72.0  (landing page)Gordon Smyth  OK    OK    OK  UNNEEDED, same version is already published
30/2183affyPLM 1.74.2  (landing page)Ben Bolstad  OK    OK    OK  UNNEEDED, same version is already published
31/2183AffyRNADegradation 1.44.0  (landing page)Mario Fasold  OK    OK    OK  UNNEEDED, same version is already published
32/2183AGDEX 1.46.0  (landing page)Cuilan lani Gao  OK    OK    OK  UNNEEDED, same version is already published
33/2183aggregateBioVar 1.8.0  (landing page)Jason Ratcliff  OK    OK    OK  UNNEEDED, same version is already published
34/2183agilp 3.30.0  (landing page)Benny Chain  OK    OK    OK  UNNEEDED, same version is already published
35/2183AgiMicroRna 2.48.0  (landing page)Pedro Lopez-Romero  OK    OK    OK  UNNEEDED, same version is already published
36/2183AIMS 1.30.0  (landing page)Eric R Paquet  OK    OK    OK  UNNEEDED, same version is already published
37/2183airpart 1.6.0  (landing page)Wancen Mu  OK    OK    OK  UNNEEDED, same version is already published
38/2183ALDEx2 1.30.0  (landing page)Greg Gloor  OK    OK    OK  UNNEEDED, same version is already published
39/2183alevinQC 1.14.0  (landing page)Charlotte Soneson  OK    OK    OK  UNNEEDED, same version is already published
40/2183AllelicImbalance 1.36.0  (landing page)Jesper R Gadin  OK    OK    OK  UNNEEDED, same version is already published
41/2183AlphaBeta 1.12.0  (landing page)Yadollah Shahryary Dizaji  OK    OK    OK  UNNEEDED, same version is already published
42/2183alpine 1.24.0  (landing page)Michael Love  OK    OK    OK  UNNEEDED, same version is already published
43/2183AlpsNMR 4.0.4  (landing page)Sergio Oller Moreno  ERROR    ERROR  skipped
44/2183altcdfenvs 2.60.0  (landing page)Laurent Gautier  OK    OK    OK  UNNEEDED, same version is already published
45/2183AMARETTO 1.14.0  (landing page)Olivier Gevaert  OK    OK    OK  UNNEEDED, same version is already published
46/2183AMOUNTAIN 1.24.0  (landing page)Dong Li  OK    OK    OK  UNNEEDED, same version is already published
47/2183amplican 1.20.0  (landing page)Eivind Valen  OK    OK    OK  UNNEEDED, same version is already published
48/2183Anaquin 2.22.0  (landing page)Ted Wong  OK    OK    OK  UNNEEDED, same version is already published
49/2183ANCOMBC 2.0.3  (landing page)Huang Lin  OK    OK    OK  UNNEEDED, same version is already published
50/2183AneuFinder 1.26.0  (landing page)Aaron Taudt  ERROR    ERROR  skipped
51/2183ANF 1.20.0  (landing page)Tianle Ma  OK    OK    OK  UNNEEDED, same version is already published
52/2183animalcules 1.14.0  (landing page)Yue Zhao  OK    OK    OK  UNNEEDED, same version is already published
53/2183annaffy 1.70.0  (landing page)Colin A. Smith  OK    OK    OK  UNNEEDED, same version is already published
54/2183annmap 1.40.0  (landing page)Chris Wirth  OK    ERROR  skipped
55/2183annotate 1.76.0  (landing page)Bioconductor Package Maintainer  OK    OK    OK  UNNEEDED, same version is already published
56/2183AnnotationDbi 1.60.2  (landing page)Bioconductor Package Maintainer  OK    OK    OK  UNNEEDED, same version is already published
57/2183AnnotationFilter 1.22.0  (landing page)Bioconductor Package Maintainer  OK    OK    OK  UNNEEDED, same version is already published
58/2183AnnotationForge 1.40.2  (landing page)Bioconductor Package Maintainer  OK    OK    OK  UNNEEDED, same version is already published
59/2183AnnotationHub 3.6.0  (landing page)Bioconductor Package Maintainer  OK    OK    OK  UNNEEDED, same version is already published
60/2183AnnotationHubData 1.28.0  (landing page)Bioconductor Package Maintainer  OK    OK    OK  UNNEEDED, same version is already published
61/2183annotationTools 1.72.0  (landing page)Alexandre Kuhn  OK    OK    OK  UNNEEDED, same version is already published
62/2183annotatr 1.24.0  (landing page)Raymond G. Cavalcante  OK    OK    OK  UNNEEDED, same version is already published
63/2183anota 1.46.0  (landing page)Ola Larsson  OK    OK    OK  UNNEEDED, same version is already published
64/2183anota2seq 1.20.0  (landing page)Christian Oertlin , Julie Lorent  OK    OK    OK  UNNEEDED, same version is already published
65/2183antiProfiles 1.38.0  (landing page)Hector Corrada Bravo  OK    OK    OK  UNNEEDED, same version is already published
66/2183AnVIL 1.10.2  (landing page)Martin Morgan  OK    OK    OK  UNNEEDED, same version is already published
67/2183AnVILBilling 1.8.0  (landing page)Vince Carey  OK    OK    OK  UNNEEDED, same version is already published
68/2183AnVILPublish 1.8.0  (landing page)Martin Morgan  OK    OK    OK  UNNEEDED, same version is already published
69/2183APAlyzer 1.12.0  (landing page)Ruijia Wang  OK    OK    OK  UNNEEDED, same version is already published
70/2183apComplex 2.64.0  (landing page)Denise Scholtens  OK    OK    OK  UNNEEDED, same version is already published
71/2183apeglm 1.20.0  (landing page)Anqi Zhu  OK    OK    OK  UNNEEDED, same version is already published
72/2183APL 1.2.0  (landing page)Elzbieta Gralinska  OK    ERROR  skipped
73/2183appreci8R 1.16.0  (landing page)Sarah Sandmann  OK    OK    OK  UNNEEDED, same version is already published
74/2183aroma.light 3.28.0  (landing page)Henrik Bengtsson  OK    OK    OK  UNNEEDED, same version is already published
75/2183ArrayExpress 1.58.0  (landing page)Suhaib Mohammed  OK    ERROR  skipped
76/2183ArrayExpressHTS 1.48.0  (landing page)Angela Goncalves , Andrew Tikhonov  ERROR    ERROR  skipped
77/2183arrayMvout 1.56.0  (landing page)V. Carey  OK    OK    OK  UNNEEDED, same version is already published
78/2183arrayQuality 1.76.0  (landing page)Agnes Paquet  OK    OK    OK  UNNEEDED, same version is already published
79/2183arrayQualityMetrics 3.54.0  (landing page)Mike Smith  OK    OK    OK  UNNEEDED, same version is already published
80/2183ARRmNormalization 1.38.0  (landing page)Jean-Philippe Fortin  OK    OK    OK  UNNEEDED, same version is already published
81/2183artMS 1.16.0  (landing page)David Jimenez-Morales  OK    OK    OK  UNNEEDED, same version is already published
82/2183ASAFE 1.24.0  (landing page)Qian Zhang  OK    OK    OK  UNNEEDED, same version is already published
83/2183ASEB 1.42.0  (landing page)Likun Wang  OK    OK    OK  UNNEEDED, same version is already published
84/2183ASGSCA 1.32.0  (landing page)Hela Romdhani  OK    OK    OK  UNNEEDED, same version is already published
85/2183ASICS 2.14.0  (landing page)Gaëlle Lefort  OK    OK    OK  UNNEEDED, same version is already published
86/2183ASpediaFI 1.12.0  (landing page)Doyeong Yu  ERROR    ERROR  skipped
87/2183ASpli 2.8.0  (landing page)Estefania Mancini  OK    OK    OK  UNNEEDED, same version is already published
88/2183AssessORF 1.16.0  (landing page)Deepank Korandla  OK    OK    OK  UNNEEDED, same version is already published
89/2183ASSET 2.16.0  (landing page)Samsiddhi Bhattacharjee  OK    OK    OK  UNNEEDED, same version is already published
90/2183ASSIGN 1.34.0  (landing page)Ying Shen , W. Evan Johnson  OK    OK    OK  UNNEEDED, same version is already published
91/2183ASURAT 1.2.0  (landing page)Keita Iida  OK    OK    OK  UNNEEDED, same version is already published
92/2183ATACCoGAPS 1.0.0  (landing page)Rossin Erbe  ERROR    ERROR  skipped
93/2183ATACseqQC 1.22.0  (landing page)Jianhong Ou  OK    OK    OK  UNNEEDED, same version is already published
94/2183ATACseqTFEA 1.0.1  (landing page)Jianhong Ou  OK    OK    OK  UNNEEDED, same version is already published
95/2183atena 1.4.1  (landing page)Beatriz Calvo-Serra  OK    OK    OK  UNNEEDED, same version is already published
96/2183atSNP 1.14.0  (landing page)Sunyoung Shin  OK    OK    OK  UNNEEDED, same version is already published
97/2183attract 1.50.0  (landing page)Samuel Zimmerman  OK    OK    OK  UNNEEDED, same version is already published
98/2183AUCell 1.20.2  (landing page)Sara Aibar  OK    OK    OK  UNNEEDED, same version is already published
99/2183autonomics 1.6.0  (landing page)Aditya Bhagwat  OK    OK    OK  UNNEEDED, same version is already published
100/2183AWFisher 1.12.0  (landing page)Zhiguang Huo  OK    OK    OK  UNNEEDED, same version is already published
101/2183awst 1.6.0  (landing page)Davide Risso  OK    OK    OK  UNNEEDED, same version is already published
B
ABCDEFGHIJKLMNOPQRSTUVWXYZ
PackageMaintainerINSTALLBUILDBUILD BIN
102/2183BaalChIP 1.24.0  (landing page)Ines de Santiago  OK    OK    OK  UNNEEDED, same version is already published
103/2183BAC 1.58.0  (landing page)Raphael Gottardo  OK    OK    OK  UNNEEDED, same version is already published
104/2183bacon 1.26.0  (landing page)Maarten van Iterson  OK    OK    OK  UNNEEDED, same version is already published
105/2183BADER 1.36.0  (landing page)Andreas Neudecker  OK    OK    OK  UNNEEDED, same version is already published
106/2183BadRegionFinder 1.26.0  (landing page)Sarah Sandmann  OK    OK    OK  UNNEEDED, same version is already published
107/2183BAGS 2.38.0  (landing page)Alejandro Quiroz-Zarate  OK    OK    OK  UNNEEDED, same version is already published
108/2183ballgown 2.30.0  (landing page)Jack Fu  OK    OK    OK  UNNEEDED, same version is already published
109/2183bambu 3.0.8  (landing page)Ying Chen  OK    OK    OK  UNNEEDED, same version is already published
110/2183bamsignals 1.30.0  (landing page)Johannes Helmuth  OK    OK    OK  UNNEEDED, same version is already published
111/2183BANDITS 1.14.2  (landing page)Simone Tiberi  OK    OK    OK  UNNEEDED, same version is already published
112/2183bandle 1.2.2  (landing page)Oliver M. Crook  OK    OK    OK  UNNEEDED, same version is already published
113/2183banocc 1.22.0  (landing page)George Weingart  OK    OK    OK  UNNEEDED, same version is already published
114/2183barcodetrackR 1.6.0  (landing page)Diego Alexander Espinoza  OK    OK    OK  UNNEEDED, same version is already published
115/2183basecallQC 1.22.0  (landing page)Thomas Carroll  OK    OK    OK  UNNEEDED, same version is already published
116/2183BaseSpaceR 1.42.0  (landing page)Jared O'Connell  OK    OK    OK  UNNEEDED, same version is already published
117/2183Basic4Cseq 1.34.0  (landing page)Carolin Walter  OK    OK    OK  UNNEEDED, same version is already published
118/2183BASiCS 2.10.5  (landing page)Catalina Vallejos  OK    OK    OK  UNNEEDED, same version is already published
119/2183BASiCStan 1.0.0  (landing page)Alan O'Callaghan  OK    OK    OK  UNNEEDED, same version is already published
120/2183BasicSTARRseq 1.26.0  (landing page)Annika Buerger  OK    OK    OK  UNNEEDED, same version is already published
121/2183basilisk 1.10.2  (landing page)Aaron Lun  OK    OK    OK  UNNEEDED, same version is already published
122/2183basilisk.utils 1.10.0  (landing page)Aaron Lun  OK    OK    OK  UNNEEDED, same version is already published
123/2183batchelor 1.14.1  (landing page)Aaron Lun  OK    OK    OK  UNNEEDED, same version is already published
124/2183BatchQC 1.26.0  (landing page)Solaiappan Manimaran  OK    OK    OK  UNNEEDED, same version is already published
125/2183BayesKnockdown 1.24.0  (landing page)William Chad Young  OK    OK    OK  UNNEEDED, same version is already published
126/2183BayesSpace 1.8.2  (landing page)Matt Stone  OK    OK    OK  UNNEEDED, same version is already published
127/2183bayNorm 1.16.2  (landing page)Wenhao Tang  OK    OK    OK  UNNEEDED, same version is already published
128/2183baySeq 2.32.0  (landing page)Thomas J. Hardcastle  OK    OK    OK  UNNEEDED, same version is already published
129/2183BBCAnalyzer 1.28.0  (landing page)Sarah Sandmann  OK    OK    OK  UNNEEDED, same version is already published
130/2183BCRANK 1.60.0  (landing page)Adam Ameur  OK    OK    OK  UNNEEDED, same version is already published
131/2183bcSeq 1.20.0  (landing page)Jiaxing Lin  OK    OK    OK  UNNEEDED, same version is already published
132/2183BDMMAcorrect 1.16.2  (landing page)ZHENWEI DAI  OK    OK    OK  UNNEEDED, same version is already published
133/2183beachmat 2.14.2  (landing page)Aaron Lun  OK    OK    OK  UNNEEDED, same version is already published
134/2183beadarray 2.48.0  (landing page)Mark Dunning  OK    OK    OK  UNNEEDED, same version is already published
135/2183beadarraySNP 1.64.0  (landing page)Jan Oosting  OK    OK    OK  UNNEEDED, same version is already published
136/2183BeadDataPackR 1.50.0  (landing page)Mike Smith  OK    OK    OK  UNNEEDED, same version is already published
137/2183BEARscc 1.18.0  (landing page)Benjamin Schuster-Boeckler  OK    OK    OK  UNNEEDED, same version is already published
138/2183BEAT 1.36.0  (landing page)Kemal Akman  OK    OK    OK  UNNEEDED, same version is already published
139/2183BEclear 2.14.0  (landing page)David Rasp  OK    ERROR  skipped
140/2183beer 1.2.0  (landing page)Athena Chen  OK    OK    OK  UNNEEDED, same version is already published
141/2183benchdamic 1.4.0  (landing page)Matteo Calgaro  OK    OK    OK  UNNEEDED, same version is already published
142/2183BgeeCall 1.14.0  (landing page)Julien Wollbrett  OK    OK    OK  UNNEEDED, same version is already published
143/2183BgeeDB 2.24.0  (landing page)Julien Wollbrett , Julien Roux , Andrea Komljenovic , Frederic Bastian  OK    OK    OK  UNNEEDED, same version is already published
144/2183BGmix 1.58.0  (landing page)Alex Lewin  OK    OK    OK  UNNEEDED, same version is already published
145/2183bgx 1.64.0  (landing page)Ernest Turro  OK    OK    OK  UNNEEDED, same version is already published
146/2183BHC 1.50.0  (landing page)Rich Savage  OK    OK    OK  UNNEEDED, same version is already published
147/2183BicARE 1.56.0  (landing page)Pierre Gestraud  OK    OK    OK  UNNEEDED, same version is already published
148/2183BiFET 1.18.0  (landing page)Ahrim Youn  OK    OK    OK  UNNEEDED, same version is already published
149/2183BiGGR   (landing page)... NOT SUPPORTED ...
150/2183bigmelon 1.24.0  (landing page)Tyler J. Gorrie-Stone  OK    OK    OK  UNNEEDED, same version is already published
151/2183bigPint 1.14.0  (landing page)Lindsay Rutter  OK    OK    OK  UNNEEDED, same version is already published
152/2183BindingSiteFinder 1.4.0  (landing page)Mirko Brüggemann  OK    OK    OK  UNNEEDED, same version is already published
153/2183bioassayR 1.36.0  (landing page)Daniela Cassol  OK    OK    OK  UNNEEDED, same version is already published
154/2183Biobase 2.58.0  (landing page)Bioconductor Package Maintainer  OK    OK    OK  UNNEEDED, same version is already published
155/2183biobroom 1.30.0  (landing page)John D. Storey and Andrew J. Bass  OK    OK    OK  UNNEEDED, same version is already published
156/2183biobtreeR 1.10.0  (landing page)Tamer Gur  OK    OK    OK  UNNEEDED, same version is already published
157/2183bioCancer 1.26.04  (landing page)Karim Mezhoud  OK    OK    OK  UNNEEDED, same version is already published
158/2183BiocBaseUtils 1.0.0  (landing page)Marcel Ramos  OK    OK    OK  UNNEEDED, same version is already published
159/2183BiocCheck 1.34.3  (landing page)Marcel Ramos  OK    OK    OK  UNNEEDED, same version is already published
160/2183BiocDockerManager 1.10.0  (landing page)Bioconductor Package Maintainer  OK    OK    OK  UNNEEDED, same version is already published
161/2183BiocFHIR 1.0.0  (landing page)Vincent Carey  OK    OK    OK  UNNEEDED, same version is already published
162/2183BiocFileCache 2.6.1  (landing page)Lori Shepherd  OK    OK    OK  UNNEEDED, same version is already published
163/2183BiocGenerics 0.44.0  (landing page)Hervé Pagès  OK    OK    OK  UNNEEDED, same version is already published
164/2183biocGraph 1.60.0  (landing page)Florian Hahne  OK    OK    OK  UNNEEDED, same version is already published
165/2183BiocIO 1.8.0  (landing page)Bioconductor Package Maintainer  OK    OK    OK  UNNEEDED, same version is already published
166/2183BiocNeighbors 1.16.0  (landing page)Aaron Lun  OK    OK    OK  UNNEEDED, same version is already published
167/2183BiocOncoTK 1.18.0  (landing page)VJ Carey  OK    OK    OK  UNNEEDED, same version is already published
168/2183BioCor 1.22.0  (landing page)Lluís Revilla Sancho  OK    OK    OK  UNNEEDED, same version is already published
169/2183BiocParallel 1.32.6  (landing page)Martin Morgan  OK    OK    OK  UNNEEDED, same version is already published
170/2183BiocPkgTools 1.16.1  (landing page)Sean Davis  OK    OK    OK  UNNEEDED, same version is already published
171/2183BiocSet 1.12.1  (landing page)Kayla Morrell  OK    OK    OK  UNNEEDED, same version is already published
172/2183BiocSingular 1.14.0  (landing page)Aaron Lun  OK    OK    OK  UNNEEDED, same version is already published
173/2183BiocSklearn 1.20.1  (landing page)Vince Carey  OK    ERROR  skipped
174/2183BiocStyle 2.26.0  (landing page)Bioconductor Package  OK    OK    OK  UNNEEDED, same version is already published
175/2183biocthis 1.8.3  (landing page)Leonardo Collado-Torres  OK    OK    OK  UNNEEDED, same version is already published
176/2183BiocVersion 3.16.0  (landing page)Bioconductor Package Maintainer  OK    OK    OK  UNNEEDED, same version is already published
177/2183biocViews 1.66.3  (landing page)Bioconductor Package Maintainer  OK    OK    OK  UNNEEDED, same version is already published
178/2183BiocWorkflowTools 1.24.0  (landing page)Mike Smith  OK    OK    OK  UNNEEDED, same version is already published
179/2183biodb 1.6.1  (landing page)Pierrick Roger  OK    OK    OK  UNNEEDED, same version is already published
180/2183biodbChebi 1.4.0  (landing page)Pierrick Roger  OK    OK    OK  UNNEEDED, same version is already published
181/2183biodbExpasy 1.2.0  (landing page)Pierrick Roger  OK    OK    OK  UNNEEDED, same version is already published
182/2183biodbHmdb 1.4.0  (landing page)Pierrick Roger  OK    OK    OK  UNNEEDED, same version is already published
183/2183biodbKegg 1.4.0  (landing page)Pierrick Roger  OK    ERROR  skipped
184/2183biodbLipidmaps 1.4.1  (landing page)Pierrick Roger  OK    OK    OK  UNNEEDED, same version is already published
185/2183biodbMirbase 1.2.2  (landing page)Pierrick Roger  OK    OK    OK  UNNEEDED, same version is already published
186/2183biodbNcbi 1.2.0  (landing page)Pierrick Roger  OK    OK    OK  UNNEEDED, same version is already published
187/2183biodbNci 1.2.0  (landing page)Pierrick Roger  OK    OK    OK  UNNEEDED, same version is already published
188/2183biodbUniprot 1.4.0  (landing page)Pierrick Roger  OK    OK    OK  UNNEEDED, same version is already published
189/2183bioDist 1.70.0  (landing page)Bioconductor Package Maintainer  OK    OK    OK  UNNEEDED, same version is already published
190/2183biomaRt 2.54.1  (landing page)Mike Smith  OK    OK    OK  UNNEEDED, same version is already published
191/2183biomformat 1.26.0  (landing page)Paul J. McMurdie  OK    OK    OK  UNNEEDED, same version is already published
192/2183BioMM 1.14.0  (landing page)Junfang Chen  OK    OK    OK  UNNEEDED, same version is already published
193/2183BioMVCClass 1.66.0  (landing page)Elizabeth Whalen  OK    OK    OK  UNNEEDED, same version is already published
194/2183biomvRCNS 1.38.0  (landing page)Yang Du  OK    OK    OK  UNNEEDED, same version is already published
195/2183BioNAR 1.0.0  (landing page)Anatoly Sorokin  OK    OK    OK  UNNEEDED, same version is already published
196/2183BioNERO 1.6.1  (landing page)Fabricio Almeida-Silva  OK    OK    OK  UNNEEDED, same version is already published
197/2183BioNet 1.58.0  (landing page)Marcus Dittrich  OK    OK    OK  UNNEEDED, same version is already published
198/2183BioNetStat 1.18.0  (landing page)Vinicius Jardim  OK    OK    OK  UNNEEDED, same version is already published
199/2183BioQC 1.26.0  (landing page)Jitao David Zhang  OK    OK    OK  UNNEEDED, same version is already published
200/2183biosigner 1.26.0  (landing page)Etienne A. Thevenot  OK    OK    OK  UNNEEDED, same version is already published
201/2183Biostrings 2.66.0  (landing page)H. Pagès  OK    OK    OK  UNNEEDED, same version is already published
202/2183BioTIP 1.12.0  (landing page)Yuxi (Jennifer) Sun , Zhezhen Wang , and X Holly Yang  OK    OK    OK  UNNEEDED, same version is already published
203/2183biotmle 1.22.0  (landing page)Nima Hejazi  OK    OK    OK  UNNEEDED, same version is already published
204/2183biovizBase 1.46.0  (landing page)Michael Lawrence  OK    OK    OK  UNNEEDED, same version is already published
205/2183BiRewire 3.30.0  (landing page)Andrea Gobbi  OK    OK    OK  UNNEEDED, same version is already published
206/2183biscuiteer 1.12.0  (landing page)Jacob Morrison  OK    OK    OK  UNNEEDED, same version is already published
207/2183BiSeq 1.38.0  (landing page)Katja Hebestreit  OK    OK    OK  NO, package depends on 'globaltest' which is not available
208/2183BitSeq 1.42.0  (landing page)Antti Honkela , Panagiotis Papastamoulis  ERROR    ERROR  skipped
209/2183blacksheepr 1.12.0  (landing page)RugglesLab  OK    OK    OK  UNNEEDED, same version is already published
210/2183blima 1.32.0  (landing page)Vojtěch Kulvait  OK    OK    OK  UNNEEDED, same version is already published
211/2183BLMA 1.22.0  (landing page)Hung Nguyen  OK    OK    OK  UNNEEDED, same version is already published
212/2183BloodGen3Module 1.6.0  (landing page)Darawan Rinchai  OK    OK    OK  UNNEEDED, same version is already published
213/2183bluster 1.8.0  (landing page)Aaron Lun  OK    OK    OK  UNNEEDED, same version is already published
214/2183bnbc 1.20.0  (landing page)Kipper Fletez-Brant  OK    OK    OK  UNNEEDED, same version is already published
215/2183bnem 1.6.0  (landing page)Martin Pirkl  OK    OK    OK  UNNEEDED, same version is already published
216/2183BOBaFIT 1.2.0  (landing page)Gaia Mazzocchetti  OK    OK    OK  UNNEEDED, same version is already published
217/2183borealis 1.2.2  (landing page)Garrett Jenkinson  OK    OK    OK  UNNEEDED, same version is already published
218/2183BPRMeth 1.24.2  (landing page)Chantriolnt-Andreas Kapourani  OK    OK    OK  UNNEEDED, same version is already published
219/2183BRAIN 1.44.0  (landing page)Piotr Dittwald  OK    OK    OK  UNNEEDED, same version is already published
220/2183brainflowprobes 1.12.0  (landing page)Amanda Price  OK    OK    OK  UNNEEDED, same version is already published
221/2183BrainSABER 1.8.0  (landing page)USD Biomedical Engineering  OK    OK    OK  UNNEEDED, same version is already published
222/2183branchpointer 1.24.0  (landing page)Beth Signal  OK    OK    OK  UNNEEDED, same version is already published
223/2183breakpointR 1.16.0  (landing page)David Porubsky  OK    OK    OK  UNNEEDED, same version is already published
224/2183brendaDb 1.12.0  (landing page)Yi Zhou  OK    OK    OK  UNNEEDED, same version is already published
225/2183BRGenomics 1.10.0  (landing page)Mike DeBerardine  OK    OK    OK  UNNEEDED, same version is already published
226/2183bridge 1.62.0  (landing page)Raphael Gottardo  ERROR    ERROR  skipped
227/2183BridgeDbR 2.8.0  (landing page)Egon Willighagen  OK    OK    OK  UNNEEDED, same version is already published
228/2183BrowserViz 2.20.0  (landing page)Paul Shannon  OK    OK    OK  UNNEEDED, same version is already published
229/2183BSgenome 1.66.3  (landing page)Hervé Pagès  OK    OK    OK  UNNEEDED, same version is already published
230/2183bsseq 1.34.0  (landing page)Kasper Daniel Hansen  OK    OK    OK  UNNEEDED, same version is already published
231/2183BubbleTree 2.28.0  (landing page)Todd Creasy , Wei Zhu  OK    OK    OK  UNNEEDED, same version is already published
232/2183BufferedMatrix 1.62.0  (landing page)Ben Bolstad  OK    OK    OK  UNNEEDED, same version is already published
233/2183BufferedMatrixMethods 1.62.0  (landing page)Ben Bolstad  OK    OK    OK  UNNEEDED, same version is already published
234/2183bugsigdbr 1.4.3  (landing page)Ludwig Geistlinger  OK    OK    OK  UNNEEDED, same version is already published
235/2183BUMHMM 1.22.0  (landing page)Alina Selega  OK    OK    OK  UNNEEDED, same version is already published
236/2183bumphunter 1.40.0  (landing page)Tamilselvi Guharaj  OK    OK    OK  UNNEEDED, same version is already published
237/2183BumpyMatrix 1.6.0  (landing page)Aaron Lun  OK    OK    OK  UNNEEDED, same version is already published
238/2183BUS 1.54.0  (landing page)Yuanhua Liu  OK    OK    OK  UNNEEDED, same version is already published
239/2183BUScorrect 1.16.0  (landing page)Xiangyu Luo  OK    OK    OK  UNNEEDED, same version is already published
240/2183BUSpaRse 1.12.2  (landing page)Lambda Moses  OK    OK    OK  UNNEEDED, same version is already published
241/2183BUSseq 1.4.2  (landing page)Fangda Song  OK    OK    OK  UNNEEDED, same version is already published
C
ABCDEFGHIJKLMNOPQRSTUVWXYZ
PackageMaintainerINSTALLBUILDBUILD BIN
242/2183CAEN 1.6.0  (landing page)Zhou Yan  OK    OK    OK  UNNEEDED, same version is already published
243/2183CAFE 1.34.0  (landing page)Sander Bollen  OK    OK    OK  UNNEEDED, same version is already published
244/2183CAGEfightR 1.18.0  (landing page)Malte Thodberg  OK    OK    OK  UNNEEDED, same version is already published
245/2183cageminer 1.4.0  (landing page)Fabrício Almeida-Silva  OK    OK    OK  UNNEEDED, same version is already published
246/2183CAGEr 2.4.0  (landing page)Charles Plessy  OK    OK    OK  UNNEEDED, same version is already published
247/2183calm 1.12.0  (landing page)Kun Liang  OK    OK    OK  UNNEEDED, same version is already published
248/2183CAMERA 1.54.0  (landing page)Steffen Neumann  OK    OK    OK  UNNEEDED, same version is already published
249/2183canceR 1.32.0  (landing page)Karim Mezhoud  OK    OK    OK  UNNEEDED, same version is already published
250/2183cancerclass 1.42.0  (landing page)Daniel Kosztyla  OK    OK    OK  UNNEEDED, same version is already published
251/2183CancerInSilico 2.18.0  (landing page)Thomas D. Sherman  ERROR    ERROR  skipped
252/2183CancerSubtypes 1.24.0  (landing page)Taosheng Xu  OK    OK    OK  UNNEEDED, same version is already published
253/2183cardelino 1.0.0  (landing page)Jeffrey Pullin  OK    OK    OK  UNNEEDED, same version is already published
254/2183Cardinal 3.0.1  (landing page)Kylie A. Bemis  OK    OK    OK  UNNEEDED, same version is already published
255/2183CARNIVAL 2.8.0  (landing page)Attila Gabor  OK    OK    OK  UNNEEDED, same version is already published
256/2183casper 2.32.0  (landing page)David Rossell  OK    ERROR  skipped
257/2183CATALYST 1.22.0  (landing page)Helena L. Crowell  OK    OK    OK  UNNEEDED, same version is already published
258/2183Category 2.64.0  (landing page)Bioconductor Package Maintainer  OK    OK    OK  UNNEEDED, same version is already published
259/2183categoryCompare 1.42.0  (landing page)Robert M. Flight  OK    OK    OK  UNNEEDED, same version is already published
260/2183CausalR 1.30.0  (landing page)Glyn Bradley , Steven Barrett  OK    OK    OK  UNNEEDED, same version is already published
261/2183cbaf 1.20.1  (landing page)Arman Shahrisa  OK    OK    OK  NO, package depends on 'cBioPortalData' which is not available
262/2183CBEA 1.2.0  (landing page)Quang Nguyen  OK    OK    OK  UNNEEDED, same version is already published
263/2183cBioPortalData 2.10.3  (landing page)Marcel Ramos  OK    OK    OK  NO, package depends on 'RTCGAToolbox' which is not available
264/2183cbpManager 1.6.0  (landing page)Arsenij Ustjanzew  OK    OK    OK  UNNEEDED, same version is already published
265/2183ccfindR 1.18.0  (landing page)Jun Woo  OK    OK    OK  UNNEEDED, same version is already published
266/2183ccImpute 1.0.2  (landing page)Marcin Malec  OK    OK    OK  UNNEEDED, same version is already published
267/2183ccmap 1.24.0  (landing page)Alex Pickering  OK    OK    OK  UNNEEDED, same version is already published
268/2183CCPROMISE 1.24.0  (landing page)Xueyuan Cao  OK    OK    OK  UNNEEDED, same version is already published
269/2183ccrepe 1.34.0  (landing page)Emma Schwager ,Craig Bielski, George Weingart  OK    OK    OK  UNNEEDED, same version is already published
270/2183celaref 1.16.0  (landing page)Sarah Williams  OK    OK    OK  UNNEEDED, same version is already published
271/2183celda 1.14.2  (landing page)Joshua Campbell  OK    OK    OK  UNNEEDED, same version is already published
272/2183CellaRepertorium 1.8.0  (landing page)Andrew McDavid  OK    OK    OK  UNNEEDED, same version is already published
273/2183CellBarcode 1.4.0  (landing page)Wenjie Sun  OK    OK    OK  UNNEEDED, same version is already published
274/2183cellbaseR 1.22.0  (landing page)Mohammed OE Abdallah  OK    OK    OK  UNNEEDED, same version is already published
275/2183CellBench 1.14.0  (landing page)Shian Su  OK    OK    OK  UNNEEDED, same version is already published
276/2183cellHTS2 2.62.0  (landing page)Joseph Barry  OK    OK    OK  UNNEEDED, same version is already published
277/2183CelliD 1.6.2  (landing page)Akira Cortal  OK    OK    OK  UNNEEDED, same version is already published
278/2183cellity 1.26.0  (landing page)Tomislav Ilicic  OK    OK    OK  UNNEEDED, same version is already published
279/2183CellMapper 1.24.0  (landing page)Brad Nelms  OK    OK    OK  UNNEEDED, same version is already published
280/2183cellmigRation 1.6.0  (landing page)Waldir Leoncio  OK    OK    OK  UNNEEDED, same version is already published
281/2183CellMixS 1.14.0  (landing page)Almut Lütge  OK    OK    OK  UNNEEDED, same version is already published
282/2183CellNOptR 1.44.0  (landing page)Attila Gabor  OK    OK    OK  UNNEEDED, same version is already published
283/2183cellscape 1.22.0  (landing page)Maia Smith  OK    OK    OK  UNNEEDED, same version is already published
284/2183CellScore 1.18.0  (landing page)Nancy Mah  OK    OK    OK  UNNEEDED, same version is already published
285/2183CellTrails 1.16.0  (landing page)Daniel Ellwanger  OK    OK    OK  UNNEEDED, same version is already published
286/2183cellTree 1.28.0  (landing page)David duVerle  OK    ERROR  skipped
287/2183cellxgenedp 1.2.2  (landing page)Martin Morgan  OK    OK    OK  UNNEEDED, same version is already published
288/2183CEMiTool 1.22.0  (landing page)Helder Nakaya  OK    OK    OK  UNNEEDED, same version is already published
289/2183censcyt 1.6.1  (landing page)Reto Gerber  OK    OK    OK  UNNEEDED, same version is already published
290/2183Cepo 1.4.0  (landing page)Hani Jieun Kim  OK    OK    OK  UNNEEDED, same version is already published
291/2183ceRNAnetsim 1.10.0  (landing page)Selcen Ari Yuka  OK    OK    OK  UNNEEDED, same version is already published
292/2183CeTF 1.10.2  (landing page)Carlos Alberto Oliveira de Biagi Junior  OK    OK    OK  UNNEEDED, same version is already published
293/2183CexoR 1.36.0  (landing page)Pedro Madrigal  OK    OK    OK  UNNEEDED, same version is already published
294/2183CFAssay 1.32.0  (landing page)Herbert Braselmann  OK    OK    OK  UNNEEDED, same version is already published
295/2183cfDNAPro 1.4.0  (landing page)Haichao Wang  OK    OK    OK  UNNEEDED, same version is already published
296/2183CGEN 3.34.3  (landing page)Justin Lee  OK    OK    OK  UNNEEDED, same version is already published
297/2183CGHbase 1.58.0  (landing page)Mark van de Wiel  OK    OK    OK  UNNEEDED, same version is already published
298/2183CGHcall 2.60.0  (landing page)Mark van de Wiel  OK    OK    OK  UNNEEDED, same version is already published
299/2183cghMCR 1.56.0  (landing page)J. Zhang  OK    OK    OK  UNNEEDED, same version is already published
300/2183CGHnormaliter 1.52.0  (landing page)Bart P.P. van Houte  OK    OK    OK  UNNEEDED, same version is already published
301/2183CGHregions 1.56.0  (landing page)Sjoerd Vosse  OK    OK    OK  UNNEEDED, same version is already published
302/2183ChAMP 2.28.0  (landing page)Yuan Tian  OK    OK    OK  NO, package depends on 'globaltest' which is not available
303/2183ChemmineOB 1.36.0  (landing page)Thomas Girke  ERROR    ERROR  skipped
304/2183ChemmineR 3.50.0  (landing page)Thomas Girke  OK    OK    OK  UNNEEDED, same version is already published
305/2183CHETAH 1.14.0  (landing page)Jurrian de Kanter  OK    OK    OK  UNNEEDED, same version is already published
306/2183ChIC 1.18.0  (landing page)Carmen Maria Livi  ERROR    ERROR  skipped
307/2183Chicago 1.26.0  (landing page)Mikhail Spivakov  OK    OK    OK  UNNEEDED, same version is already published
308/2183chimeraviz 1.24.0  (landing page)Stian Lågstad  OK    OK    OK  UNNEEDED, same version is already published
309/2183ChIPanalyser 1.20.0  (landing page)Patrick C.N. Martin  OK    OK    OK  UNNEEDED, same version is already published
310/2183ChIPComp 1.28.0  (landing page)Li Chen  OK    OK    OK  UNNEEDED, same version is already published
311/2183chipenrich 2.22.0  (landing page)Raymond G. Cavalcante  OK    OK    OK  UNNEEDED, same version is already published
312/2183ChIPexoQual 1.22.0  (landing page)Rene Welch  OK    OK    OK  UNNEEDED, same version is already published
313/2183ChIPpeakAnno 3.32.0  (landing page)Jianhong Ou  OK    OK    OK  UNNEEDED, same version is already published
314/2183ChIPQC 1.34.1  (landing page)Tom Carroll , Rory Stark  OK    OK    OK  UNNEEDED, same version is already published
315/2183ChIPseeker 1.34.1  (landing page)Guangchuang Yu  OK    OK    OK  UNNEEDED, same version is already published
316/2183chipseq 1.48.0  (landing page)Bioconductor Package Maintainer  OK    OK    OK  UNNEEDED, same version is already published
317/2183ChIPseqR 1.52.0  (landing page)Peter Humburg  OK    OK    OK  UNNEEDED, same version is already published
318/2183ChIPsim 1.52.0  (landing page)Peter Humburg  OK    OK    OK  UNNEEDED, same version is already published
319/2183ChIPXpress 1.42.0  (landing page)George Wu  OK    OK    OK  UNNEEDED, same version is already published
320/2183chopsticks 1.64.0  (landing page)Hin-Tak Leung  OK    OK    OK  UNNEEDED, same version is already published
321/2183chromDraw 2.28.0  (landing page)Jan Janecka  OK    OK    OK  UNNEEDED, same version is already published
322/2183ChromHeatMap 1.52.0  (landing page)Tim F. Rayner  OK    OK    OK  UNNEEDED, same version is already published
323/2183chromPlot 1.26.0  (landing page)Karen Y. Orostica  OK    OK    OK  UNNEEDED, same version is already published
324/2183ChromSCape 1.8.0  (landing page)Pacome Prompsy  OK    OK    OK  UNNEEDED, same version is already published
325/2183chromstaR 1.24.0  (landing page)Aaron Taudt  OK    OK    OK  UNNEEDED, same version is already published
326/2183chromswitch 1.20.0  (landing page)Selin Jessa  OK    OK    OK  UNNEEDED, same version is already published
327/2183chromVAR 1.20.2  (landing page)Alicia Schep  OK    OK    OK  UNNEEDED, same version is already published
328/2183CHRONOS 1.26.0  (landing page)Panos Balomenos  OK    ERROR  skipped
329/2183cicero 1.16.2  (landing page)Hannah Pliner  OK    OK    OK  UNNEEDED, same version is already published
330/2183CIMICE 1.6.0  (landing page)Nicolò Rossi  OK    OK    OK  UNNEEDED, same version is already published
331/2183CINdex 1.26.0  (landing page)Yuriy Gusev  OK    OK    OK  UNNEEDED, same version is already published
332/2183circRNAprofiler 1.12.2  (landing page)Simona Aufiero  OK    OK    OK  UNNEEDED, same version is already published
333/2183CircSeqAlignTk 1.0.0  (landing page)Jianqiang Sun  OK    OK    OK  UNNEEDED, same version is already published
334/2183cisPath 1.38.0  (landing page)Likun Wang  OK    OK    OK  UNNEEDED, same version is already published
335/2183CiteFuse 1.10.0  (landing page)Yingxin Lin  OK    OK    OK  UNNEEDED, same version is already published
336/2183ClassifyR 3.2.7  (landing page)Dario Strbenac  OK    OK    OK  UNNEEDED, same version is already published
337/2183cleanUpdTSeq 1.36.0  (landing page)Jianhong Ou ; Lihua Julie Zhu  OK    OK    OK  UNNEEDED, same version is already published
338/2183cleaver 1.36.0  (landing page)Sebastian Gibb  OK    OK    OK  UNNEEDED, same version is already published
339/2183clippda 1.48.0  (landing page)Stephen Nyangoma  OK    OK    OK  UNNEEDED, same version is already published
340/2183clipper 1.38.0  (landing page)Paolo Martini  OK    OK    OK  UNNEEDED, same version is already published
341/2183cliProfiler 1.4.0  (landing page)You Zhou  OK    OK    OK  UNNEEDED, same version is already published
342/2183cliqueMS 1.12.2  (landing page)Oriol Senan Campos  OK    OK    OK  UNNEEDED, same version is already published
343/2183Clomial 1.34.0  (landing page)Habil Zare  OK    OK    OK  UNNEEDED, same version is already published
344/2183Clonality 1.46.0  (landing page)Irina Ostrovnaya  OK    OK    OK  UNNEEDED, same version is already published
345/2183clst 1.46.0  (landing page)Noah Hoffman  OK    OK    OK  UNNEEDED, same version is already published
346/2183clstutils 1.46.0  (landing page)Noah Hoffman  OK    OK    OK  UNNEEDED, same version is already published
347/2183CluMSID 1.14.0  (landing page)Tobias Depke  OK    OK    OK  UNNEEDED, same version is already published
348/2183clustComp 1.26.0  (landing page)Aurora Torrente  OK    OK    OK  UNNEEDED, same version is already published
349/2183clusterExperiment 2.18.2  (landing page)Elizabeth Purdom  OK    OK    OK  UNNEEDED, same version is already published
350/2183ClusterJudge 1.20.0  (landing page)Adrian Pasculescu  OK    OK    OK  UNNEEDED, same version is already published
351/2183clusterProfiler 4.6.2  (landing page)Guangchuang Yu  OK    OK    OK  UNNEEDED, same version is already published
352/2183clusterSeq 1.22.0  (landing page)Thomas J. Hardcastle  OK    OK    OK  UNNEEDED, same version is already published
353/2183ClusterSignificance 1.26.0  (landing page)Jason T Serviss  OK    OK    OK  UNNEEDED, same version is already published
354/2183clusterStab 1.70.0  (landing page)James W. MacDonald  OK    OK    OK  UNNEEDED, same version is already published
355/2183clustifyr 1.10.0  (landing page)Kent Riemondy  OK    OK    OK  UNNEEDED, same version is already published
356/2183CMA 1.56.0  (landing page)Roman Hornung  OK    OK    OK  UNNEEDED, same version is already published
357/2183cmapR 1.10.0  (landing page)Ted Natoli  OK    OK    OK  UNNEEDED, same version is already published
358/2183cn.farms 1.46.0  (landing page)Andreas Mitterecker  OK    OK    OK  UNNEEDED, same version is already published
359/2183cn.mops 1.44.0  (landing page)Gundula Povysil  OK    OK    OK  UNNEEDED, same version is already published
360/2183CNAnorm 1.44.3  (landing page)Stefano Berri  OK    OK    OK  UNNEEDED, same version is already published
361/2183CNEr 1.34.0  (landing page)Ge Tan  OK    OK    OK  UNNEEDED, same version is already published
362/2183CNORdt 1.40.0  (landing page)A. MacNamara  OK    OK    OK  UNNEEDED, same version is already published
363/2183CNORfeeder 1.38.0  (landing page)Attila Gabor  OK    OK    OK  UNNEEDED, same version is already published
364/2183CNORfuzzy 1.40.0  (landing page)T. Cokelaer  OK    OK    OK  UNNEEDED, same version is already published
365/2183CNORode 1.40.0  (landing page)Attila Gabor  OK    OK    OK  UNNEEDED, same version is already published
366/2183CNTools 1.54.0  (landing page)J. Zhang  OK    OK    OK  UNNEEDED, same version is already published
367/2183CNVfilteR 1.12.2  (landing page)Jose Marcos Moreno-Cabrera  OK    OK    OK  UNNEEDED, same version is already published
368/2183CNVgears 1.6.0  (landing page)Simone Montalbano  OK    OK    OK  UNNEEDED, same version is already published
369/2183cnvGSA 1.42.0  (landing page)Joseph Lugo  OK    OK    OK  UNNEEDED, same version is already published
370/2183CNViz 1.6.0  (landing page)Rebecca Greenblatt  OK    OK    OK  UNNEEDED, same version is already published
371/2183CNVMetrics 1.2.0  (landing page)Astrid Deschênes  OK    OK    OK  UNNEEDED, same version is already published
372/2183CNVPanelizer 1.30.0  (landing page)Thomas Wolf  OK    OK    OK  UNNEEDED, same version is already published
373/2183CNVRanger 1.14.0  (landing page)Ludwig Geistlinger  OK    OK    OK  UNNEEDED, same version is already published
374/2183CNVrd2 1.36.0  (landing page)Hoang Tan Nguyen  OK    OK    OK  UNNEEDED, same version is already published
375/2183CoCiteStats 1.70.0  (landing page)Bioconductor Package Maintainer  OK    OK    OK  UNNEEDED, same version is already published
376/2183COCOA 2.12.0  (landing page)John Lawson  OK    OK    OK  UNNEEDED, same version is already published
377/2183codelink 1.66.0  (landing page)Diego Diez  OK    OK    OK  UNNEEDED, same version is already published
378/2183CODEX 1.30.0  (landing page)Yuchao Jiang  OK    OK    OK  UNNEEDED, same version is already published
379/2183coexnet 1.20.0  (landing page)Juan David Henao  OK    OK    OK  UNNEEDED, same version is already published
380/2183CoGAPS 3.18.0  (landing page)Elana J. Fertig  ERROR    ERROR  skipped
381/2183cogena 1.32.0  (landing page)Zhilong Jia  OK    OK    OK  UNNEEDED, same version is already published
382/2183cogeqc 1.2.1  (landing page)Fabrício Almeida-Silva  OK    OK    OK  UNNEEDED, same version is already published
383/2183Cogito 1.4.0  (landing page)Annika Bürger  OK    OK    OK  UNNEEDED, same version is already published
384/2183coGPS 1.42.0  (landing page)Yingying Wei  OK    OK    OK  UNNEEDED, same version is already published
385/2183COHCAP 1.44.0  (landing page)Charles Warden  OK    OK    OK  UNNEEDED, same version is already published
386/2183cola 2.4.0  (landing page)Zuguang Gu  OK    OK    OK  UNNEEDED, same version is already published
387/2183comapr 1.2.0  (landing page)Ruqian Lyu  OK    OK    OK  UNNEEDED, same version is already published
388/2183combi 1.10.0  (landing page)Stijn Hawinkel  OK    OK    OK  UNNEEDED, same version is already published
389/2183coMET 1.30.0  (landing page)Tiphaine Martin  OK    OK    OK  UNNEEDED, same version is already published
390/2183coMethDMR 1.2.0  (landing page)Fernanda Veitzman  OK    OK    OK  UNNEEDED, same version is already published
391/2183compartmap 1.16.0  (landing page)Benjamin Johnson  OK    OK    OK  UNNEEDED, same version is already published
392/2183COMPASS 1.36.2  (landing page)Greg Finak  OK    OK    OK  UNNEEDED, same version is already published
393/2183compcodeR 1.34.0  (landing page)Charlotte Soneson  OK    OK    OK  UNNEEDED, same version is already published
394/2183compEpiTools 1.32.0  (landing page)Kamal Kishore  OK    OK    OK  UNNEEDED, same version is already published
395/2183ComplexHeatmap 2.14.0  (landing page)Zuguang Gu  OK    OK    OK  UNNEEDED, same version is already published
396/2183CompoundDb 1.2.1  (landing page)Johannes Rainer  OK    OK    OK  UNNEEDED, same version is already published
397/2183ComPrAn 1.6.0  (landing page)Petra Palenikova  OK    OK    OK  UNNEEDED, same version is already published
398/2183conclus 1.6.0  (landing page)Ilyess Rachedi  OK    ERROR  skipped
399/2183condiments 1.6.0  (landing page)Hector Roux de Bezieux  OK    OK    OK  UNNEEDED, same version is already published
400/2183CONFESS 1.26.0  (landing page)Diana LOW  OK    OK    OK  UNNEEDED, same version is already published
401/2183consensus 1.16.0  (landing page)Tim Peters  OK    OK    OK  UNNEEDED, same version is already published
402/2183ConsensusClusterPlus 1.62.0  (landing page)Matt Wilkerson  OK    OK    OK  UNNEEDED, same version is already published
403/2183consensusDE 1.16.0  (landing page)Ashley J. Waardenberg  OK    OK    OK  UNNEEDED, same version is already published
404/2183consensusOV 1.20.0  (landing page)Benjamin Haibe-Kains  OK    OK    OK  UNNEEDED, same version is already published
405/2183consensusSeekeR 1.26.0  (landing page)Astrid Deschenes  OK    OK    OK  UNNEEDED, same version is already published
406/2183consICA 1.0.0  (landing page)Petr V. Nazarov  OK    OK    OK  UNNEEDED, same version is already published
407/2183CONSTANd 1.6.0  (landing page)Dirk Valkenborg  OK    OK    OK  UNNEEDED, same version is already published
408/2183contiBAIT 1.26.0  (landing page)Kieran O'Neill  OK    OK    OK  UNNEEDED, same version is already published
409/2183conumee 1.32.0  (landing page)Volker Hovestadt  OK    OK    OK  UNNEEDED, same version is already published
410/2183convert 1.74.0  (landing page)Yee Hwa (Jean) Yang  OK    OK    OK  UNNEEDED, same version is already published
411/2183copa 1.66.0  (landing page)James W. MacDonald  OK    OK    OK  UNNEEDED, same version is already published
412/2183copynumber 1.38.0  (landing page)Gro Nilsen  OK    ERROR  skipped
413/2183CopyNumberPlots 1.14.0  (landing page)Bernat Gel  OK    OK    OK  UNNEEDED, same version is already published
414/2183CopywriteR 2.30.0  (landing page)Oscar Krijgsman  OK    OK    OK  UNNEEDED, same version is already published
415/2183coRdon 1.16.0  (landing page)Anamaria Elek  OK    OK    OK  UNNEEDED, same version is already published
416/2183CoRegNet 1.36.0  (landing page)Remy Nicolle  OK    OK    OK  UNNEEDED, same version is already published
417/2183CoreGx 2.2.0  (landing page)Benjamin Haibe-Kains  OK    OK    OK  UNNEEDED, same version is already published
418/2183Cormotif 1.44.0  (landing page)Yingying Wei  OK    OK    OK  UNNEEDED, same version is already published
419/2183corral 1.8.0  (landing page)Lauren Hsu  OK    OK    OK  UNNEEDED, same version is already published
420/2183CORREP 1.64.0  (landing page)Dongxiao Zhu  OK    OK    OK  UNNEEDED, same version is already published
421/2183coseq 1.22.0  (landing page)Andrea Rau  OK    OK    OK  UNNEEDED, same version is already published
422/2183cosmiq 1.32.0  (landing page)David Fischer  OK    OK    OK  UNNEEDED, same version is already published
423/2183cosmosR 1.6.0  (landing page)Attila Gabor  OK    OK    OK  UNNEEDED, same version is already published
424/2183COSNet 1.32.0  (landing page)Marco Frasca  OK    OK    OK  UNNEEDED, same version is already published
425/2183COTAN 1.2.0  (landing page)Galfrè Silvia Giulia  OK    OK    OK  UNNEEDED, same version is already published
426/2183countsimQC 1.16.1  (landing page)Charlotte Soneson  OK    OK    OK  UNNEEDED, same version is already published
427/2183covEB 1.24.0  (landing page)C. Pacini  OK    OK    OK  UNNEEDED, same version is already published
428/2183CoverageView 1.36.0  (landing page)Ernesto Lowy  OK    OK    OK  UNNEEDED, same version is already published
429/2183covRNA 1.24.0  (landing page)Lara Urban  OK    OK    OK  UNNEEDED, same version is already published
430/2183cpvSNP 1.30.0  (landing page)Caitlin McHugh  OK    OK    OK  UNNEEDED, same version is already published
431/2183cqn 1.44.0  (landing page)Kasper Daniel Hansen  OK    OK    OK  UNNEEDED, same version is already published
432/2183CRImage 1.46.0  (landing page)Henrik Failmezger , Yinyin Yuan  OK    OK    OK  UNNEEDED, same version is already published
433/2183crisprBase 1.2.0  (landing page)Jean-Philippe Fortin  OK    OK    OK  UNNEEDED, same version is already published
434/2183crisprBowtie 1.2.0  (landing page)Jean-Philippe Fortin  OK    OK    OK  UNNEEDED, same version is already published
435/2183crisprBwa 1.2.0  (landing page)Jean-Philippe Fortin  ERROR    ERROR  skipped
436/2183crisprDesign 1.0.0  (landing page)Jean-Philippe Fortin  OK    OK    OK  UNNEEDED, same version is already published
437/2183crisprScore 1.2.0  (landing page)Jean-Philippe Fortin  OK    OK    OK  UNNEEDED, same version is already published
438/2183CRISPRseek 1.38.0  (landing page)Lihua Julie Zhu  OK    OK    OK  UNNEEDED, same version is already published
439/2183crisprseekplus 1.24.0  (landing page)Alper Kucukural  OK    OK    OK  UNNEEDED, same version is already published
440/2183CrispRVariants 1.26.0  (landing page)Helen Lindsay  OK    OK    OK  UNNEEDED, same version is already published
441/2183crisprVerse 1.0.0  (landing page)Jean-Philippe Fortin  OK    OK    OK  UNNEEDED, same version is already published
442/2183crisprViz 1.0.0  (landing page)Jean-Philippe Fortin  OK    OK    OK  UNNEEDED, same version is already published
443/2183crlmm 1.56.0  (landing page)Benilton S Carvalho  OK    OK    OK  UNNEEDED, same version is already published
444/2183crossmeta 1.24.0  (landing page)Alex Pickering  OK    OK    OK  UNNEEDED, same version is already published
445/2183CSAR 1.50.0  (landing page)Jose M Muino  OK    OK    OK  UNNEEDED, same version is already published
446/2183csaw 1.32.0  (landing page)Aaron Lun  OK    OK    OK  UNNEEDED, same version is already published
447/2183csdR 1.4.0  (landing page)Jakob Peder Pettersen  OK    OK    OK  UNNEEDED, same version is already published
448/2183CSSP 1.36.0  (landing page)Chandler Zuo  OK    OK    OK  UNNEEDED, same version is already published
449/2183CSSQ 1.10.0  (landing page)Fan Lab at Georgia Institute of Technology  OK    OK    OK  UNNEEDED, same version is already published
450/2183ctc 1.72.0  (landing page)Antoine Lucas  OK    OK    OK  UNNEEDED, same version is already published
451/2183CTDquerier 2.6.0  (landing page)Xavier Escribà-Montagut  OK    OK    OK  UNNEEDED, same version is already published
452/2183ctgGEM 1.10.0  (landing page)USD Biomedical Engineering  ERROR    ERROR  skipped
453/2183cTRAP 1.16.0  (landing page)Nuno Saraiva-Agostinho  OK    OK    OK  UNNEEDED, same version is already published
454/2183ctsGE 1.24.0  (landing page)Michal Sharabi-Schwager  OK    OK    OK  UNNEEDED, same version is already published
455/2183CTSV 1.0.0  (landing page)Jinge Yu Developer  OK    OK    OK  UNNEEDED, same version is already published
456/2183cummeRbund 2.40.0  (landing page)Loyal A. Goff  OK    OK    OK  UNNEEDED, same version is already published
457/2183customCMPdb 1.8.0  (landing page)Yuzhu Duan  OK    OK    OK  UNNEEDED, same version is already published
458/2183customProDB 1.38.0  (landing page)Xiaojing Wang  OK    OK    OK  UNNEEDED, same version is already published
459/2183cyanoFilter 1.6.0  (landing page)Oluwafemi Olusoji  OK    OK    OK  UNNEEDED, same version is already published
460/2183cycle 1.52.0  (landing page)Matthias Futschik  OK    OK    OK  UNNEEDED, same version is already published
461/2183cydar 1.22.0  (landing page)Aaron Lun  OK    OK    OK  UNNEEDED, same version is already published
462/2183CytoDx 1.18.0  (landing page)Zicheng Hu  OK    OK    OK  UNNEEDED, same version is already published
463/2183CyTOFpower 1.4.0  (landing page)Anne-Maud Ferreira  OK    OK    OK  UNNEEDED, same version is already published
464/2183CytoGLMM 1.6.0  (landing page)Christof Seiler  OK    OK    OK  UNNEEDED, same version is already published
465/2183cytoKernel 1.4.0  (landing page)Tusharkanti Ghosh  OK    OK    OK  UNNEEDED, same version is already published
466/2183cytolib 2.10.1  (landing page)Mike Jiang  ERROR    ERROR  skipped
467/2183cytomapper 1.10.1  (landing page)Nils Eling  OK    OK    OK  UNNEEDED, same version is already published
468/2183cytoMEM 1.2.0  (landing page)Jonathan Irish  OK    OK    OK  UNNEEDED, same version is already published
469/2183CytoML 2.10.0  (landing page)Mike Jiang  OK    OK    OK  NO, package depends on 'openCyto' which is not available
470/2183CytoTree 1.8.0  (landing page)Yuting Dai  OK    OK    OK  NO, package depends on 'flowUtils' which is not available
D
ABCDEFGHIJKLMNOPQRSTUVWXYZ
PackageMaintainerINSTALLBUILDBUILD BIN
471/2183dada2 1.26.0  (landing page)Benjamin Callahan  OK    OK    OK  UNNEEDED, same version is already published
472/2183dagLogo 1.36.0  (landing page)Jianhong Ou  OK    OK    OK  UNNEEDED, same version is already published
473/2183daMA 1.70.0  (landing page)Jobst Landgrebe  OK    OK    OK  UNNEEDED, same version is already published
474/2183DAMEfinder 1.10.1  (landing page)Stephany Orjuela  OK    OK    OK  UNNEEDED, same version is already published
475/2183DaMiRseq 2.10.0  (landing page)Mattia Chiesa  OK    OK    OK  UNNEEDED, same version is already published
476/2183DAPAR 1.30.6  (landing page)Samuel Wieczorek  OK    OK    OK  UNNEEDED, same version is already published
477/2183DART 1.46.0  (landing page)Charles Shijie Zheng  OK    OK    OK  UNNEEDED, same version is already published
478/2183dasper 1.8.0  (landing page)David Zhang  OK    ERROR  skipped
479/2183dcanr 1.14.0  (landing page)Dharmesh D. Bhuva  OK    OK    OK  UNNEEDED, same version is already published
480/2183dce 1.6.0  (landing page)Kim Philipp Jablonski  OK    OK    OK  UNNEEDED, same version is already published
481/2183dcGSA 1.26.0  (landing page)Jiehuan sun  OK    OK    OK  UNNEEDED, same version is already published
482/2183ddCt 1.54.0  (landing page)Jitao David Zhang  OK    OK    OK  UNNEEDED, same version is already published
483/2183ddPCRclust 1.18.0  (landing page)Benedikt G. Brink  OK    OK    OK  UNNEEDED, same version is already published
484/2183dearseq 1.10.0  (landing page)Boris P. Hejblum  OK    OK    OK  UNNEEDED, same version is already published
485/2183debCAM 1.16.0  (landing page)Lulu Chen  OK    OK    OK  UNNEEDED, same version is already published
486/2183debrowser 1.26.3  (landing page)Alper Kucukural  OK    OK    OK  UNNEEDED, same version is already published
487/2183DECIPHER 2.26.0  (landing page)Erik Wright  OK    OK    OK  UNNEEDED, same version is already published
488/2183deco 1.14.0  (landing page)Francisco Jose Campos Laborie  OK    OK    OK  UNNEEDED, same version is already published
489/2183DEComplexDisease 1.18.0  (landing page)Guofeng Meng  OK    ERROR  skipped
490/2183decompTumor2Sig 2.14.0  (landing page)Rosario M. Piro  OK    TIMEOUT  skipped
491/2183DeconRNASeq 1.40.0  (landing page)Ting Gong  OK    OK    OK  UNNEEDED, same version is already published
492/2183decontam 1.18.0  (landing page)Benjamin Callahan  OK    OK    OK  UNNEEDED, same version is already published
493/2183deconvR 1.4.5  (landing page)Irem B. G�nd�z  OK    OK    OK  UNNEEDED, same version is already published
494/2183decoupleR 2.4.0  (landing page)Pau Badia-i-Mompel  OK    OK    OK  UNNEEDED, same version is already published
495/2183DeepBlueR 1.24.1  (landing page)Felipe Albrecht , Markus List , Quirin Manz  OK    OK    OK  UNNEEDED, same version is already published
496/2183DeepPINCS 1.6.0  (landing page)Dongmin Jung  OK    OK    OK  UNNEEDED, same version is already published
497/2183deepSNV 1.44.0  (landing page)Moritz Gerstung  OK    OK    OK  UNNEEDED, same version is already published
498/2183DEFormats 1.26.0  (landing page)Andrzej Oleś  OK    OK    OK  UNNEEDED, same version is already published
499/2183DegNorm 1.8.2  (landing page)Ji-Ping Wang  OK    OK    OK  UNNEEDED, same version is already published
500/2183DEGraph   (landing page)... NOT SUPPORTED ...
501/2183DEGreport 1.34.0  (landing page)Lorena Pantano  OK    OK    OK  UNNEEDED, same version is already published
502/2183DEGseq 1.52.0  (landing page)Likun Wang  OK    OK    OK  UNNEEDED, same version is already published
503/2183DelayedArray 0.24.0  (landing page)Hervé Pagès  OK    OK    OK  UNNEEDED, same version is already published
504/2183DelayedDataFrame 1.14.0  (landing page)Qian Liu  OK    OK    OK  UNNEEDED, same version is already published
505/2183DelayedMatrixStats 1.20.0  (landing page)Peter Hickey  OK    OK    OK  UNNEEDED, same version is already published
506/2183DelayedRandomArray 1.6.0  (landing page)Aaron Lun  OK    OK    OK  UNNEEDED, same version is already published
507/2183DelayedTensor 1.4.0  (landing page)Koki Tsuyuzaki  OK    OK    OK  UNNEEDED, same version is already published
508/2183deltaCaptureC 1.12.0  (landing page)Michael Shapiro  OK    OK    OK  UNNEEDED, same version is already published
509/2183deltaGseg 1.38.0  (landing page)Diana Low  OK    OK    OK  UNNEEDED, same version is already published
510/2183DeMAND 1.28.0  (landing page)Jung Hoon Woo , Mariano Alvarez  OK    OK    OK  UNNEEDED, same version is already published
511/2183DeMixT 1.14.0  (landing page)Shuai Guo  OK    OK    OK  UNNEEDED, same version is already published
512/2183demuxmix 1.0.0  (landing page)Hans-Ulrich Klein  OK    OK    OK  UNNEEDED, same version is already published
513/2183densvis 1.8.3  (landing page)Alan O'Callaghan  OK    ERROR  skipped
514/2183DEP 1.20.0  (landing page)Arne Smits  OK    OK    OK  UNNEEDED, same version is already published
515/2183DepecheR 1.14.0  (landing page)Jakob Theorell  OK    OK    OK  UNNEEDED, same version is already published
516/2183DepInfeR 1.2.0  (landing page)Junyan Lu  OK    OK    OK  UNNEEDED, same version is already published
517/2183DEqMS 1.16.0  (landing page)Yafeng Zhu  OK    ERROR  skipped
518/2183derfinder 1.32.0  (landing page)Leonardo Collado-Torres  OK    OK    OK  UNNEEDED, same version is already published
519/2183derfinderHelper 1.32.0  (landing page)Leonardo Collado-Torres  OK    OK    OK  UNNEEDED, same version is already published
520/2183derfinderPlot 1.32.0  (landing page)Leonardo Collado-Torres  OK    OK    OK  UNNEEDED, same version is already published
521/2183DEScan2 1.18.2  (landing page)Dario Righelli  OK    OK    OK  UNNEEDED, same version is already published
522/2183DESeq2 1.38.3  (landing page)Michael Love  OK    OK    OK  UNNEEDED, same version is already published
523/2183DEsingle 1.18.1  (landing page)Zhun Miao  OK    OK    OK  UNNEEDED, same version is already published
524/2183destiny 3.12.0  (landing page)Philipp Angerer  OK    OK    OK  UNNEEDED, same version is already published
525/2183DEsubs 1.24.0  (landing page)Aristidis G. Vrahatis , Panos Balomenos  OK    OK    OK  UNNEEDED, same version is already published
526/2183DEWSeq 1.12.0  (landing page)bioinformatics team Hentze  OK    OK    OK  UNNEEDED, same version is already published
527/2183DExMA 1.6.0  (landing page)Juan Antonio Villatoro-García  OK    OK    OK  UNNEEDED, same version is already published
528/2183DEXSeq 1.44.0  (landing page)Alejandro Reyes  OK    OK    OK  UNNEEDED, same version is already published
529/2183DFP 1.56.0  (landing page)Rodrigo Alvarez-Glez  OK    OK    OK  UNNEEDED, same version is already published
530/2183DIAlignR 2.6.0  (landing page)Shubham Gupta  OK    OK    OK  UNNEEDED, same version is already published
531/2183DiffBind 3.8.4  (landing page)Rory Stark  OK    OK    OK  UNNEEDED, same version is already published
532/2183diffcoexp 1.18.0  (landing page)Wenbin Wei  OK    OK    OK  UNNEEDED, same version is already published
533/2183diffcyt 1.18.0  (landing page)Lukas M. Weber  OK    OK    OK  UNNEEDED, same version is already published
534/2183DifferentialRegulation 1.2.2  (landing page)Simone Tiberi  OK    OK    OK  UNNEEDED, same version is already published
535/2183diffGeneAnalysis 1.80.0  (landing page)Choudary Jagarlamudi  OK    OK    OK  UNNEEDED, same version is already published
536/2183diffHic 1.30.0  (landing page)Aaron Lun  OK    OK    OK  UNNEEDED, same version is already published
537/2183DiffLogo 2.22.0  (landing page)Hendrik Treutler  OK    OK    OK  UNNEEDED, same version is already published
538/2183diffuStats 1.18.0  (landing page)Sergio Picart-Armada  OK    OK    OK  UNNEEDED, same version is already published
539/2183diffUTR 1.6.0  (landing page)Pierre-Luc Germain  OK    OK    OK  UNNEEDED, same version is already published
540/2183diggit 1.30.0  (landing page)Mariano J Alvarez  OK    OK    OK  UNNEEDED, same version is already published
541/2183Dino 1.4.0  (landing page)Jared Brown  OK    OK    OK  UNNEEDED, same version is already published
542/2183dir.expiry 1.6.0  (landing page)Aaron Lun  OK    OK    OK  UNNEEDED, same version is already published
543/2183Director 1.24.0  (landing page)Katherine Icay  OK    OK    OK  UNNEEDED, same version is already published
544/2183DirichletMultinomial 1.40.0  (landing page)Martin Morgan  OK    OK    OK  UNNEEDED, same version is already published
545/2183discordant 1.22.0  (landing page)McGrath Max  OK    OK    OK  UNNEEDED, same version is already published
546/2183DiscoRhythm 1.14.0  (landing page)Matthew Carlucci  OK    OK    OK  UNNEEDED, same version is already published
547/2183distinct 1.10.2  (landing page)Simone Tiberi  OK    OK    OK  UNNEEDED, same version is already published
548/2183dittoSeq 1.10.0  (landing page)Daniel Bunis  OK    OK    OK  UNNEEDED, same version is already published
549/2183divergence 1.14.0  (landing page)Wikum Dinalankara , Luigi Marchionni  OK    OK    OK  UNNEEDED, same version is already published
550/2183dks 1.44.0  (landing page)Jeffrey T. Leek  OK    OK    OK  UNNEEDED, same version is already published
551/2183DMCFB 1.12.0  (landing page)Farhad Shokoohi  OK    OK    OK  UNNEEDED, same version is already published
552/2183DMCHMM 1.20.0  (landing page)Farhad Shokoohi  OK    OK    OK  UNNEEDED, same version is already published
553/2183DMRcaller 1.30.0  (landing page)Nicolae Radu Zabet  OK    OK    OK  UNNEEDED, same version is already published
554/2183DMRcate 2.12.0  (landing page)Tim Peters  OK    OK    OK  UNNEEDED, same version is already published
555/2183DMRforPairs 1.34.0  (landing page)Martin Rijlaarsdam  OK    OK    OK  UNNEEDED, same version is already published
556/2183DMRScan 1.20.0  (landing page)Christian M Page  OK    OK    OK  UNNEEDED, same version is already published
557/2183dmrseq 1.18.1  (landing page)Keegan Korthauer  OK    OK    OK  UNNEEDED, same version is already published
558/2183DNABarcodeCompatibility 1.14.0  (landing page)Céline Trébeau  OK    OK    OK  UNNEEDED, same version is already published
559/2183DNABarcodes 1.28.0  (landing page)Tilo Buschmann  OK    OK    OK  UNNEEDED, same version is already published
560/2183DNAcopy 1.72.3  (landing page)Venkatraman E. Seshan  OK    OK    OK  UNNEEDED, same version is already published
561/2183DNAfusion 1.0.0  (landing page)Christoffer Trier Maansson  OK    OK    OK  UNNEEDED, same version is already published
562/2183DNAshapeR 1.26.0  (landing page)Tsu-Pei Chiu  OK    OK    OK  UNNEEDED, same version is already published
563/2183DominoEffect 1.18.0  (landing page)Marija Buljan  OK    OK    OK  UNNEEDED, same version is already published
564/2183doppelgangR 1.26.0  (landing page)Levi Waldron  OK    OK    OK  UNNEEDED, same version is already published
565/2183Doscheda 1.20.0  (landing page)Bruno Contrino  OK    OK    OK  UNNEEDED, same version is already published
566/2183DOSE 3.24.2  (landing page)Guangchuang Yu  OK    OK    OK  UNNEEDED, same version is already published
567/2183doseR 1.14.0  (landing page)ake.vastermark  OK    OK    OK  UNNEEDED, same version is already published
568/2183dpeak 1.10.0  (landing page)Dongjun Chung  OK    OK    OK  UNNEEDED, same version is already published
569/2183drawProteins 1.18.0  (landing page)Paul Brennan  OK    OK    OK  UNNEEDED, same version is already published
570/2183DRIMSeq 1.26.0  (landing page)Malgorzata Nowicka  OK    OK    OK  UNNEEDED, same version is already published
571/2183DriverNet 1.38.0  (landing page)Jiarui Ding  OK    OK    OK  UNNEEDED, same version is already published
572/2183DropletUtils 1.18.1  (landing page)Jonathan Griffiths  OK    OK    OK  UNNEEDED, same version is already published
573/2183drugTargetInteractions 1.6.0  (landing page)Thomas Girke  OK    OK    OK  UNNEEDED, same version is already published
574/2183DrugVsDisease 2.40.0  (landing page)j. Saez-Rodriguez  OK    OK    OK  UNNEEDED, same version is already published
575/2183DSS 2.46.0  (landing page)Hao Wu , Hao Feng  OK    OK    OK  UNNEEDED, same version is already published
576/2183dStruct 1.4.0  (landing page)Krishna Choudhary  OK    OK    OK  UNNEEDED, same version is already published
577/2183DTA 2.44.0  (landing page)Bjoern Schwalb  OK    OK    OK  UNNEEDED, same version is already published
578/2183Dune 1.10.0  (landing page)Hector Roux de Bezieux  OK    OK    OK  UNNEEDED, same version is already published
579/2183dupRadar 1.28.0  (landing page)Sergi Sayols , Holger Klein  OK    OK    OK  UNNEEDED, same version is already published
580/2183dyebias 1.58.0  (landing page)Philip Lijnzaad  OK    OK    OK  UNNEEDED, same version is already published
581/2183DynDoc 1.76.0  (landing page)Bioconductor Package Maintainer  OK    OK    OK  UNNEEDED, same version is already published
E
ABCDEFGHIJKLMNOPQRSTUVWXYZ
PackageMaintainerINSTALLBUILDBUILD BIN
582/2183easier 1.4.0  (landing page)Oscar Lapuente-Santana  OK    OK    OK  UNNEEDED, same version is already published
583/2183EasyCellType 1.0.0  (landing page)Ruoxing Li  OK    ERROR  skipped
584/2183easyreporting 1.10.0  (landing page)Dario Righelli  OK    OK    OK  UNNEEDED, same version is already published
585/2183easyRNASeq 2.34.0  (landing page)Nicolas Delhomme  OK    OK    OK  UNNEEDED, same version is already published
586/2183EBarrays 2.62.0  (landing page)Ming Yuan  OK    OK    OK  UNNEEDED, same version is already published
587/2183EBcoexpress 1.42.0  (landing page)John A. Dawson  OK    OK    OK  UNNEEDED, same version is already published
588/2183EBImage 4.40.1  (landing page)Andrzej Oleś  OK    OK    OK  YES
589/2183EBSEA 1.26.0  (landing page)Arfa Mehmood  OK    OK    OK  UNNEEDED, same version is already published
590/2183EBSeq 1.38.0  (landing page)Ning Leng  OK    OK    OK  UNNEEDED, same version is already published
591/2183EBSeqHMM 1.32.0  (landing page)Ning Leng  OK    OK    OK  UNNEEDED, same version is already published
592/2183ecolitk 1.70.0  (landing page)Laurent Gautier  OK    OK    OK  UNNEEDED, same version is already published
593/2183EDASeq 2.32.0  (landing page)Davide Risso  OK    OK    OK  UNNEEDED, same version is already published
594/2183edge 2.30.0  (landing page)John D. Storey , Andrew J. Bass  OK    OK    OK  UNNEEDED, same version is already published
595/2183edgeR 3.40.2  (landing page)Yunshun Chen , Gordon Smyth , Aaron Lun , Mark Robinson  OK    OK    OK  UNNEEDED, same version is already published
596/2183eds 1.0.0  (landing page)Avi Srivastava  OK    OK    OK  UNNEEDED, same version is already published
597/2183eegc 1.24.0  (landing page)Xiaoyuan Zhou  OK    OK    OK  UNNEEDED, same version is already published
598/2183EGAD 1.26.0  (landing page)Sara Ballouz  OK    OK    OK  UNNEEDED, same version is already published
599/2183EGSEA 1.26.0  (landing page)Monther Alhamdoosh  OK    OK    OK  NO, package depends on 'globaltest' which is not available
600/2183eiR 1.38.0  (landing page)Thomas Girke  OK    OK    OK  UNNEEDED, same version is already published
601/2183eisaR 1.10.0  (landing page)Michael Stadler  OK    OK    OK  UNNEEDED, same version is already published
602/2183ELMER 2.22.0  (landing page)Tiago Chedraoui Silva  OK    OK    OK  UNNEEDED, same version is already published
603/2183EMDomics 2.28.0  (landing page)Sadhika Malladi and Daniel Schmolze  OK    OK    OK  UNNEEDED, same version is already published
604/2183EmpiricalBrownsMethod 1.26.0  (landing page)David Gibbs  OK    OK    OK  UNNEEDED, same version is already published
605/2183EnhancedVolcano 1.16.0  (landing page)Kevin Blighe  OK    OK    OK  UNNEEDED, same version is already published
606/2183enhancerHomologSearch 1.4.2  (landing page)Jianhong Ou  OK    OK    OK  UNNEEDED, same version is already published
607/2183EnMCB 1.10.0  (landing page)Xin Yu  OK    OK    OK  UNNEEDED, same version is already published
608/2183ENmix 1.34.02  (landing page)Zongli Xu  OK    OK    OK  UNNEEDED, same version is already published
609/2183EnrichedHeatmap 1.28.1  (landing page)Zuguang Gu  OK    OK    OK  UNNEEDED, same version is already published
610/2183EnrichmentBrowser 2.28.2  (landing page)Ludwig Geistlinger  OK    OK    OK  UNNEEDED, same version is already published
611/2183enrichplot 1.18.4  (landing page)Guangchuang Yu  OK    OK    OK  UNNEEDED, same version is already published
612/2183enrichTF 1.14.0  (landing page)Zheng Wei  OK    OK    OK  UNNEEDED, same version is already published
613/2183ensembldb 2.22.0  (landing page)Johannes Rainer  OK    OK    OK  UNNEEDED, same version is already published
614/2183ensemblVEP 1.40.0  (landing page)Bioconductor Package Maintainer  OK    ERROR  skipped
615/2183epialleleR 1.6.1  (landing page)Oleksii Nikolaienko  OK    OK    OK  UNNEEDED, same version is already published
616/2183EpiCompare 1.2.0  (landing page)Sera Choi  OK    OK    OK  UNNEEDED, same version is already published
617/2183epidecodeR 1.6.0  (landing page)Kandarp Joshi  OK    OK    OK  UNNEEDED, same version is already published
618/2183EpiDISH 2.14.1  (landing page)Shijie C. Zheng  OK    OK    OK  UNNEEDED, same version is already published
619/2183epigenomix 1.38.0  (landing page)Hans-Ulrich Klein  OK    OK    OK  UNNEEDED, same version is already published
620/2183epigraHMM 1.6.4  (landing page)Pedro Baldoni  OK    OK    OK  UNNEEDED, same version is already published
621/2183epihet 1.14.0  (landing page)Xiaowen Chen  ERROR    ERROR  skipped
622/2183EpiMix 1.0.2  (landing page)Yuanning Zheng  OK    ERROR  skipped
623/2183epimutacions 1.2.0  (landing page)Dolors Pelegri-Siso  OK    OK    OK  UNNEEDED, same version is already published
624/2183epiNEM 1.22.0  (landing page)Martin Pirkl  OK    OK    OK  UNNEEDED, same version is already published
625/2183epistack 1.4.0  (landing page)DEVAILLY Guillaume  OK    OK    OK  UNNEEDED, same version is already published
626/2183epistasisGA 1.0.2  (landing page)Michael Nodzenski  OK    OK    OK  UNNEEDED, same version is already published
627/2183EpiTxDb 1.10.0  (landing page)Felix G.M. Ernst  OK    OK    OK  UNNEEDED, same version is already published
628/2183epivizr 2.28.0  (landing page)Hector Corrada Bravo  OK    OK    OK  UNNEEDED, same version is already published
629/2183epivizrChart 1.20.0  (landing page)Hector Corrada Bravo  OK    OK    OK  UNNEEDED, same version is already published
630/2183epivizrData 1.26.0  (landing page)Hector Corrada Bravo  OK    OK    OK  UNNEEDED, same version is already published
631/2183epivizrServer 1.26.0  (landing page)Hector Corrada Bravo  OK    OK    OK  UNNEEDED, same version is already published
632/2183epivizrStandalone 1.26.0  (landing page)Hector Corrada Bravo  OK    OK    OK  UNNEEDED, same version is already published
633/2183erccdashboard 1.32.0  (landing page)Sarah Munro  OK    OK    OK  UNNEEDED, same version is already published
634/2183erma 1.14.0  (landing page)VJ Carey  OK    OK    OK  UNNEEDED, same version is already published
635/2183ERSSA 1.16.0  (landing page)Zixuan Shao  OK    OK    OK  UNNEEDED, same version is already published
636/2183esATAC 1.20.0  (landing page)Zheng Wei  OK    OK    OK  UNNEEDED, same version is already published
637/2183escape 1.8.0  (landing page)Nick Borcherding  OK    OK    OK  UNNEEDED, same version is already published
638/2183esetVis 1.24.0  (landing page)Laure Cougnaud  OK    OK    OK  UNNEEDED, same version is already published
639/2183eudysbiome 1.28.0  (landing page)Xiaoyuan Zhou  OK    OK    OK  UNNEEDED, same version is already published
640/2183evaluomeR 1.14.0  (landing page)José Antonio Bernabé-Díaz  OK    OK    OK  UNNEEDED, same version is already published
641/2183EventPointer 3.6.0  (landing page)Juan A. Ferrer-Bonsoms  OK    OK    OK  UNNEEDED, same version is already published
642/2183EWCE 1.6.0  (landing page)Alan Murphy  OK    OK    OK  UNNEEDED, same version is already published
643/2183ExCluster 1.16.0  (landing page)R. Matthew Tanner  OK    OK    OK  UNNEEDED, same version is already published
644/2183ExiMiR 2.40.0  (landing page)Sylvain Gubian  OK    OK    OK  UNNEEDED, same version is already published
645/2183exomeCopy 1.44.0  (landing page)Michael Love  OK    OK    OK  UNNEEDED, same version is already published
646/2183exomePeak2 1.10.0  (landing page)Zhen Wei  OK    OK    OK  UNNEEDED, same version is already published
647/2183ExperimentHub 2.6.0  (landing page)Bioconductor Package Maintainer  OK    OK    OK  UNNEEDED, same version is already published
648/2183ExperimentHubData 1.24.0  (landing page)Bioconductor Package Maintainer  OK    OK    OK  UNNEEDED, same version is already published
649/2183ExperimentSubset 1.8.0  (landing page)Irzam Sarfraz  OK    OK    OK  UNNEEDED, same version is already published
650/2183ExploreModelMatrix 1.10.0  (landing page)Charlotte Soneson  OK    OK    OK  UNNEEDED, same version is already published
651/2183ExpressionAtlas 1.26.0  (landing page)Pedro Madrigal  OK    OK    OK  UNNEEDED, same version is already published
652/2183extraChIPs 1.2.4  (landing page)Stephen Pederson  OK    OK    OK  UNNEEDED, same version is already published
F
ABCDEFGHIJKLMNOPQRSTUVWXYZ
PackageMaintainerINSTALLBUILDBUILD BIN
653/2183fabia 2.44.0  (landing page)Andreas Mitterecker  OK    OK    OK  UNNEEDED, same version is already published
654/2183factDesign 1.74.0  (landing page)Denise Scholtens  OK    OK    OK  UNNEEDED, same version is already published
655/2183factR 1.0.0  (landing page)Fursham Hamid  OK    OK    OK  UNNEEDED, same version is already published
656/2183FamAgg 1.26.0  (landing page)Johannes Rainer  OK    OK    OK  UNNEEDED, same version is already published
657/2183famat 1.8.0  (landing page)Mathieu Charles  OK    ERROR  skipped
658/2183farms 1.50.0  (landing page)Djork-Arne Clevert  OK    OK    OK  UNNEEDED, same version is already published
659/2183fastLiquidAssociation 1.34.0  (landing page)Tina Gunderson  OK    OK    OK  UNNEEDED, same version is already published
660/2183FastqCleaner 1.16.1  (landing page)Leandro Roser  OK    OK    OK  UNNEEDED, same version is already published
661/2183fastreeR 1.2.0  (landing page)Anestis Gkanogiannis  OK    OK    OK  UNNEEDED, same version is already published
662/2183fastseg 1.44.0  (landing page)Alexander Blume  OK    OK    OK  UNNEEDED, same version is already published
663/2183FCBF 2.6.0  (landing page)Tiago Lubiana  OK    OK    OK  UNNEEDED, same version is already published
664/2183fCCAC 1.24.0  (landing page)Pedro Madrigal  OK    OK    OK  UNNEEDED, same version is already published
665/2183fCI 1.28.0  (landing page)Shaojun Tang  OK    OK    OK  UNNEEDED, same version is already published
666/2183fcoex 1.12.0  (landing page)Tiago Lubiana  OK    OK    OK  UNNEEDED, same version is already published
667/2183fcScan 1.12.0  (landing page)Pierre Khoueiry Abdullah El-Kurdi  OK    OK    OK  UNNEEDED, same version is already published
668/2183fdrame 1.70.0  (landing page)Effi Kenigsberg  OK    OK    OK  UNNEEDED, same version is already published
669/2183FEAST 1.6.0  (landing page)Kenong Su  OK    OK    OK  UNNEEDED, same version is already published
670/2183fedup 1.6.0  (landing page)Catherine Ross  OK    ERROR  skipped
671/2183FELLA 1.18.0  (landing page)Sergio Picart-Armada  OK    ERROR  skipped
672/2183ffpe 1.42.0  (landing page)Levi Waldron  OK    OK    OK  UNNEEDED, same version is already published
673/2183fgga 1.6.0  (landing page)Flavio Spetale  OK    OK    OK  UNNEEDED, same version is already published
674/2183FGNet 3.32.0  (landing page)Sara Aibar  OK    OK    OK  UNNEEDED, same version is already published
675/2183fgsea 1.24.0  (landing page)Alexey Sergushichev  OK    OK    OK  UNNEEDED, same version is already published
676/2183FilterFFPE 1.8.0  (landing page)Lanying Wei  OK    OK    OK  UNNEEDED, same version is already published
677/2183FindIT2 1.4.0  (landing page)Guandong Shang  OK    OK    OK  UNNEEDED, same version is already published
678/2183FISHalyseR 1.32.0  (landing page)Karesh Arunakirinathan  OK    OK    OK  UNNEEDED, same version is already published
679/2183fishpond 2.4.1  (landing page)Michael Love  OK    OK    OK  UNNEEDED, same version is already published
680/2183FitHiC 1.24.0  (landing page)Ruyu Tan  OK    OK    OK  UNNEEDED, same version is already published
681/2183flagme 1.54.0  (landing page)Mark Robinson , Riccardo Romoli  OK    OK    OK  UNNEEDED, same version is already published
682/2183FLAMES 1.4.3  (landing page)Oliver Voogd  OK    OK    OK  UNNEEDED, same version is already published
683/2183flowAI 1.28.0  (landing page)Gianni Monaco  OK    OK    OK  UNNEEDED, same version is already published
684/2183flowBeads 1.36.0  (landing page)Nikolas Pontikos  OK    OK    OK  UNNEEDED, same version is already published
685/2183flowBin 1.34.0  (landing page)Kieran O'Neill  OK    OK    OK  UNNEEDED, same version is already published
686/2183flowcatchR 1.32.0  (landing page)Federico Marini  OK    OK    OK  UNNEEDED, same version is already published
687/2183flowCHIC 1.32.0  (landing page)Author: Joachim Schumann  OK    OK    OK  UNNEEDED, same version is already published
688/2183flowCL 1.36.0  (landing page)Justin Meskas  ERROR    ERROR  skipped
689/2183flowClean 1.36.0  (landing page)Kipper Fletez-Brant  OK    OK    OK  UNNEEDED, same version is already published
690/2183flowClust 3.36.1  (landing page)Greg Finak , Mike Jiang  OK    OK    OK  UNNEEDED, same version is already published
691/2183flowCore 2.10.0  (landing page)Mike Jiang  OK    OK    OK  UNNEEDED, same version is already published
692/2183flowCut 1.8.0  (landing page)Justin Meskas  OK    OK    OK  UNNEEDED, same version is already published
693/2183flowCyBar 1.34.0  (landing page)Joachim Schumann  OK    OK    OK  UNNEEDED, same version is already published
694/2183flowDensity 1.32.0  (landing page)Mehrnoush Malek  OK    OK    OK  UNNEEDED, same version is already published
695/2183flowFP 1.56.3  (landing page)Herb Holyst , Wade Rogers  OK    OK    OK  UNNEEDED, same version is already published
696/2183flowGraph 1.6.0  (landing page)Alice Yue  OK    OK    OK  UNNEEDED, same version is already published
697/2183flowMap 1.36.0  (landing page)Chiaowen Joyce Hsiao  OK    OK    OK  UNNEEDED, same version is already published
698/2183flowMatch 1.34.0  (landing page)Ariful Azad  OK    OK    OK  UNNEEDED, same version is already published
699/2183flowMeans 1.58.0  (landing page)Nima Aghaeepour  OK    OK    OK  UNNEEDED, same version is already published
700/2183flowMerge 2.46.0  (landing page)Greg Finak  OK    OK    OK  UNNEEDED, same version is already published
701/2183flowPeaks 1.44.0  (landing page)Yongchao Ge  OK    OK    OK  UNNEEDED, same version is already published
702/2183flowPloidy 1.24.0  (landing page)Tyler Smith  OK    OK    OK  UNNEEDED, same version is already published
703/2183flowPlots 1.46.0  (landing page)N. Hawkins  OK    OK    OK  UNNEEDED, same version is already published
704/2183FlowSOM 2.6.0  (landing page)Sofie Van Gassen  OK    OK    OK  UNNEEDED, same version is already published
705/2183flowSpecs 1.12.0  (landing page)Jakob Theorell  OK    OK    OK  UNNEEDED, same version is already published
706/2183flowStats 4.10.0  (landing page)Greg Finak , Mike Jiang  OK    OK    OK  UNNEEDED, same version is already published
707/2183flowTime 1.22.2  (landing page)R. Clay Wright  OK    OK    OK  UNNEEDED, same version is already published
708/2183flowTrans 1.50.0  (landing page)Greg Finak  OK    OK    OK  UNNEEDED, same version is already published
709/2183flowUtils 1.62.0  (landing page)Josef Spidlen  OK    ERROR  skipped
710/2183flowViz 1.62.0  (landing page)Mike Jiang  OK    OK    OK  UNNEEDED, same version is already published
711/2183flowVS 1.30.0  (landing page)Ariful Azad  OK    OK    OK  UNNEEDED, same version is already published
712/2183flowWorkspace 4.10.1  (landing page)Greg Finak , Mike Jiang  OK    OK    OK  UNNEEDED, same version is already published
713/2183fmcsR 1.40.0  (landing page)Thomas Girke  OK    OK    OK  UNNEEDED, same version is already published
714/2183fmrs 1.8.0  (landing page)Farhad Shokoohi  OK    OK    OK  UNNEEDED, same version is already published
715/2183fobitools 1.6.0  (landing page)Pol Castellano-Escuder  OK    OK    OK  UNNEEDED, same version is already published
716/2183FoldGO 1.16.0  (landing page)Daniil Wiebe  OK    OK    OK  UNNEEDED, same version is already published
717/2183FRASER 1.10.2  (landing page)Christian Mertes  OK    OK    OK  UNNEEDED, same version is already published
718/2183frenchFISH 1.10.0  (landing page)Adam Berman  OK    OK    OK  UNNEEDED, same version is already published
719/2183FRGEpistasis 1.34.0  (landing page)Futao Zhang  OK    OK    OK  UNNEEDED, same version is already published
720/2183frma 1.50.0  (landing page)Matthew N. McCall  OK    OK    OK  UNNEEDED, same version is already published
721/2183frmaTools 1.50.0  (landing page)Matthew N. McCall  OK    OK    OK  UNNEEDED, same version is already published
722/2183FScanR 1.8.0  (landing page)Xiao Chen  OK    OK    OK  UNNEEDED, same version is already published
723/2183FunChIP 1.24.0  (landing page)Alice Parodi  OK    OK    OK  UNNEEDED, same version is already published
724/2183funtooNorm 1.22.0  (landing page)Kathleen Klein  OK    OK    OK  UNNEEDED, same version is already published
725/2183FuseSOM 1.0.1  (landing page)Elijah Willie  OK    OK    OK  UNNEEDED, same version is already published
G
ABCDEFGHIJKLMNOPQRSTUVWXYZ
PackageMaintainerINSTALLBUILDBUILD BIN
726/2183GA4GHclient 1.22.0  (landing page)Welliton Souza  OK    OK    OK  UNNEEDED, same version is already published
727/2183GA4GHshiny 1.20.0  (landing page)Welliton Souza  OK    OK    OK  UNNEEDED, same version is already published
728/2183gaga 2.44.0  (landing page)David Rossell  OK    OK    OK  UNNEEDED, same version is already published
729/2183gage 2.48.0  (landing page)Weijun Luo  OK    OK    OK  UNNEEDED, same version is already published
730/2183gaggle 1.66.0  (landing page)Christopher Bare  OK    OK    OK  UNNEEDED, same version is already published
731/2183gaia 2.42.0  (landing page)S. Morganella  OK    ERROR  skipped
732/2183GAPGOM 1.14.0  (landing page)Rezvan Ehsani  OK    ERROR  skipped
733/2183GAprediction 1.24.0  (landing page)Jon Bohlin  OK    OK    OK  UNNEEDED, same version is already published
734/2183garfield 1.26.0  (landing page)Valentina Iotchkova  OK    OK    OK  UNNEEDED, same version is already published
735/2183GARS 1.18.0  (landing page)Mattia Chiesa  OK    OK    OK  UNNEEDED, same version is already published
736/2183GateFinder 1.18.0  (landing page)Nima Aghaeepour  OK    OK    OK  UNNEEDED, same version is already published
737/2183GBScleanR 1.2.14  (landing page)Tomoyuki Furuta  OK    OK    OK  UNNEEDED, same version is already published
738/2183gcapc 1.22.0  (landing page)Mingxiang Teng  OK    OK    OK  UNNEEDED, same version is already published
739/2183gcatest 1.28.2  (landing page)Wei Hao , John D. Storey  OK    OK    OK  UNNEEDED, same version is already published
740/2183gCrisprTools 2.4.0  (landing page)Russell Bainer  OK    OK    OK  UNNEEDED, same version is already published
741/2183gcrma 2.70.0  (landing page)Z. Wu  OK    OK    OK  UNNEEDED, same version is already published
742/2183GCSscore 1.12.0  (landing page)Guy M. Harris  OK    OK    OK  UNNEEDED, same version is already published
743/2183GDCRNATools 1.18.0  (landing page)Ruidong Li  OK    OK    OK  UNNEEDED, same version is already published
744/2183GDSArray 1.18.0  (landing page)Qian Liu  OK    OK    OK  UNNEEDED, same version is already published
745/2183gdsfmt 1.34.1  (landing page)Xiuwen Zheng  OK    OK    OK  UNNEEDED, same version is already published
746/2183GEM 1.24.0  (landing page)Hong Pan  OK    OK    OK  UNNEEDED, same version is already published
747/2183gemini 1.12.0  (landing page)Sidharth Jain  OK    OK    OK  UNNEEDED, same version is already published
748/2183gemma.R 1.0.1  (landing page)Ogan Mancarci  OK    OK    OK  UNNEEDED, same version is already published
749/2183genArise 1.74.0  (landing page)IFC Development Team  OK    OK    OK  UNNEEDED, same version is already published
750/2183genbankr 1.26.0  (landing page)Gabriel Becker  OK    OK    OK  UNNEEDED, same version is already published
751/2183GeneAccord 1.16.0  (landing page)Ariane L. Moore  OK    OK    OK  UNNEEDED, same version is already published
752/2183geneAttribution 1.24.0  (landing page)Arthur Wuster  OK    OK    OK  UNNEEDED, same version is already published
753/2183GeneBreak 1.28.0  (landing page)Evert van den Broek  OK    OK    OK  UNNEEDED, same version is already published
754/2183geneClassifiers 1.22.0  (landing page)R Kuiper  OK    OK    OK  UNNEEDED, same version is already published
755/2183GeneExpressionSignature 1.44.0  (landing page)Yang Cao  OK    OK    OK  UNNEEDED, same version is already published
756/2183genefilter 1.80.3  (landing page)Bioconductor Package Maintainer  OK    OK    OK  UNNEEDED, same version is already published
757/2183genefu 2.30.0  (landing page)Benjamin Haibe-Kains  OK    OK    OK  UNNEEDED, same version is already published
758/2183GeneGA 1.48.0  (landing page)Zhenpeng Li  OK    ERROR  skipped
759/2183GeneGeneInteR 1.24.0  (landing page)Mathieu Emily  OK    OK    OK  UNNEEDED, same version is already published
760/2183GeneMeta 1.70.0  (landing page)Bioconductor Package Maintainer  OK    OK    OK  UNNEEDED, same version is already published
761/2183GeneNetworkBuilder 1.40.0  (landing page)Jianhong Ou  OK    OK    OK  UNNEEDED, same version is already published
762/2183GeneOverlap 1.34.0  (landing page)António Miguel de Jesus Domingues, Max-Planck Institute for Cell Biology and Genetics  OK    OK    OK  UNNEEDED, same version is already published
763/2183geneplast 1.24.1  (landing page)Mauro Castro  OK    OK    OK  UNNEEDED, same version is already published
764/2183geneplotter 1.76.0  (landing page)Bioconductor Package Maintainer  OK    OK    OK  UNNEEDED, same version is already published
765/2183geneRecommender 1.70.0  (landing page)Greg Hather  OK    OK    OK  UNNEEDED, same version is already published
766/2183GeneRegionScan 1.54.0  (landing page)Lasse Folkersen  OK    OK    OK  UNNEEDED, same version is already published
767/2183geneRxCluster 1.34.0  (landing page)Charles Berry  OK    OK    OK  UNNEEDED, same version is already published
768/2183GeneSelectMMD 2.42.3  (landing page)Weiliang Qiu  OK    OK    OK  UNNEEDED, same version is already published
769/2183GENESIS 2.28.0  (landing page)Stephanie M. Gogarten  OK    OK    OK  UNNEEDED, same version is already published
770/2183GeneStructureTools 1.18.0  (landing page)Beth Signal  OK    OK    OK  UNNEEDED, same version is already published
771/2183geNetClassifier 1.38.0  (landing page)Sara Aibar  OK    OK    OK  UNNEEDED, same version is already published
772/2183GeneticsPed 1.60.3  (landing page)David Henderson  OK    OK    OK  UNNEEDED, same version is already published
773/2183GeneTonic 2.2.0  (landing page)Federico Marini  OK    OK    OK  UNNEEDED, same version is already published
774/2183geneXtendeR 1.24.0  (landing page)Bohdan Khomtchouk  OK    OK    OK  UNNEEDED, same version is already published
775/2183GENIE3 1.20.0  (landing page)Van Anh Huynh-Thu  OK    OK    OK  UNNEEDED, same version is already published
776/2183genoCN 1.50.0  (landing page)Wei Sun  OK    OK    OK  UNNEEDED, same version is already published
777/2183genomation 1.30.0  (landing page)Altuna Akalin , Vedran Franke  OK    OK    OK  UNNEEDED, same version is already published
778/2183GenomAutomorphism 1.0.3  (landing page)Robersy Sanchez  OK    OK    OK  UNNEEDED, same version is already published
779/2183GenomeInfoDb 1.34.9  (landing page)Hervé Pagès  OK    OK    OK  UNNEEDED, same version is already published
780/2183genomeIntervals 1.54.0  (landing page)Julien Gagneur  OK    OK    OK  UNNEEDED, same version is already published
781/2183genomes 3.28.0  (landing page)Chris Stubben  OK    OK    OK  UNNEEDED, same version is already published
782/2183GenomicAlignments 1.34.1  (landing page)Hervé Pagès  OK    OK    OK  UNNEEDED, same version is already published
783/2183GenomicDataCommons 1.22.3  (landing page)Sean Davis  OK    OK    OK  YES
784/2183GenomicDistributions 1.6.0  (landing page)Kristyna Kupkova  OK    OK    OK  UNNEEDED, same version is already published
785/2183GenomicFeatures 1.50.4  (landing page)H. Pagès  OK    OK    OK  UNNEEDED, same version is already published
786/2183GenomicFiles 1.34.0  (landing page)Bioconductor Package Maintainer  OK    OK    OK  UNNEEDED, same version is already published
787/2183genomicInstability 1.4.0  (landing page)Mariano Alvarez  OK    OK    OK  UNNEEDED, same version is already published
788/2183GenomicInteractionNodes 1.2.0  (landing page)Jianhong Ou  OK    OK    OK  UNNEEDED, same version is already published
789/2183GenomicInteractions 1.32.0  (landing page)Liz Ing-Simmons  OK    OK    OK  UNNEEDED, same version is already published
790/2183GenomicOZone 1.12.0  (landing page)Hua Zhong, Mingzhou Song  OK    OK    OK  UNNEEDED, same version is already published
791/2183GenomicRanges 1.50.2  (landing page)Hervé Pagès  OK    OK    OK  UNNEEDED, same version is already published
792/2183GenomicScores 2.10.0  (landing page)Robert Castelo  OK    OK    OK  UNNEEDED, same version is already published
793/2183GenomicSuperSignature 1.6.0  (landing page)Sehyun Oh  OK    OK    OK  UNNEEDED, same version is already published
794/2183GenomicTuples 1.32.0  (landing page)Peter Hickey  OK    OK    OK  UNNEEDED, same version is already published
795/2183genotypeeval 1.30.0  (landing page)Jennifer Tom  OK    OK    OK  UNNEEDED, same version is already published
796/2183GenProSeq 1.2.0  (landing page)Dongmin Jung  OK    OK    OK  UNNEEDED, same version is already published
797/2183GenVisR 1.30.0  (landing page)Zachary Skidmore  OK    OK    OK  UNNEEDED, same version is already published
798/2183GeoDiff 1.4.2  (landing page)Nicole Ortogero  OK    OK    OK  UNNEEDED, same version is already published
799/2183GEOexplorer 1.4.0  (landing page)Guy Hunt  OK    OK    OK  UNNEEDED, same version is already published
800/2183GEOfastq 1.6.0  (landing page)Alex Pickering  OK    OK    OK  UNNEEDED, same version is already published
801/2183GEOmetadb 1.60.0  (landing page)Jack Zhu  OK    OK    OK  UNNEEDED, same version is already published
802/2183GeomxTools 3.2.0  (landing page)Nicole Ortogero  OK    OK    OK  UNNEEDED, same version is already published
803/2183GEOquery 2.66.0  (landing page)Sean Davis  OK    OK    OK  UNNEEDED, same version is already published
804/2183GEOsubmission 1.50.0  (landing page)Alexandre Kuhn  OK    OK    OK  UNNEEDED, same version is already published
805/2183gep2pep 1.18.0  (landing page)Francesco Napolitano  OK    OK    OK  UNNEEDED, same version is already published
806/2183gespeR 1.30.0  (landing page)Fabian Schmich  OK    OK    OK  UNNEEDED, same version is already published
807/2183getDEE2 1.8.0  (landing page)Mark Ziemann  OK    OK    OK  UNNEEDED, same version is already published
808/2183geva 1.6.0  (landing page)Itamar José Guimarães Nunes  OK    OK    OK  UNNEEDED, same version is already published
809/2183GEWIST 1.42.0  (landing page)Wei Q. Deng  OK    OK    OK  UNNEEDED, same version is already published
810/2183ggbio 1.46.0  (landing page)Michael Lawrence