Workflows build report for BioC 3.15

This page was generated on 2021-11-23 15:00:08 -0500 (Tue, 23 Nov 2021).

Approx. Package Snapshot Date (git pull): 2021-11-23 08:50:01 -0500 (Tue, 23 Nov 2021)

HostnameOSArch (*)Platform label (**)R versionInstalled pkgs
nebbiolo1Linux (Ubuntu 20.04.3 LTS)x86_64x86_64-linux-gnuR Under development (unstable) (2021-11-10 r81171) -- "Unsuffered Consequences" 4294
merida1macOS 10.14.6 Mojavex86_64x86_64-apple-darwin18.7.0R Under development (unstable) (2021-11-01 r81125) -- "Unsuffered Consequences" 4109
Click on any hostname to see more info about the system (e.g. compilers)      (*) as reported by 'uname -p', except on Windows and Mac OS X      (**) as reported by 'gcc -v'

Package status is indicated by one of the following glyphs
  TIMEOUT  
INSTALL or BUILD of package took more than 40 or 120 minutes, respectively
  ERROR  
Bad DESCRIPTION file or INSTALL or BUILD of package failed
  OK  
INSTALL or BUILD
skipped
CHECK or BUILD BIN of package was skipped because the BUILD step failed
  NA  
BUILD result is not available because of an anomaly in the Build System
Click on any glyph in the report below to access the detailed report.
Package propagation status is indicated by one of the following LEDs
YES YES: Package was propagated because it didn't previously exist or version was bumped
NO NO: Package was not propagated because of a problem (impossible dependencies, or version lower than what is already propagated)
UNNEEDED UNNEEDED: Package was not propagated because it is already in the repository with this version. A version bump is required in order to propagate it

A crossed-out package name indicates the package is deprecated


QUICK STATSOS / ArchINSTALLBUILD
nebbiolo1Linux (Ubuntu 20.04.3 LTS) / x86_64
0029
0524
merida1macOS 10.14.6 Mojave / x86_64
0028
0523
Package 1/29HostnameOS / ArchINSTALLBUILD
annotation 1.19.0  (landing page)
Bioconductor Package Maintainer
git_last_commit: 79bf127
git_last_commit_date: 2021-10-26 11:15:04 -0500
nebbiolo1Linux (Ubuntu 20.04.3 LTS) / x86_64  OK    OK  UNNEEDED, same version is already published
merida1macOS 10.14.6 Mojave / x86_64  OK    OK  
Package 2/29HostnameOS / ArchINSTALLBUILD
arrays 1.21.0  (landing page)
Bioconductor Package Maintainer
git_last_commit: 625e03d
git_last_commit_date: 2021-10-26 11:15:08 -0500
nebbiolo1Linux (Ubuntu 20.04.3 LTS) / x86_64  OK    OK  UNNEEDED, same version is already published
merida1macOS 10.14.6 Mojave / x86_64  OK    OK  
Package 3/29HostnameOS / ArchINSTALLBUILD
BiocMetaWorkflow 1.17.0  (landing page)
Mike Smith
git_last_commit: 7857952
git_last_commit_date: 2021-10-26 11:16:20 -0500
nebbiolo1Linux (Ubuntu 20.04.3 LTS) / x86_64  OK    OK  UNNEEDED, same version is already published
merida1macOS 10.14.6 Mojave / x86_64  OK    OK  
Package 4/29HostnameOS / ArchINSTALLBUILD
BP4RNAseq 1.5.0  (landing page)
Shanwen Sun
git_last_commit: a1eda72
git_last_commit_date: 2021-10-26 11:16:48 -0500
nebbiolo1Linux (Ubuntu 20.04.3 LTS) / x86_64  OK    OK  UNNEEDED, same version is already published
merida1macOS 10.14.6 Mojave / x86_64  OK    OK  
Package 5/29HostnameOS / ArchINSTALLBUILD
CAGEWorkflow 1.11.0  (landing page)
Malte Thodberg
git_last_commit: d37e6c1
git_last_commit_date: 2021-10-26 11:16:39 -0500
nebbiolo1Linux (Ubuntu 20.04.3 LTS) / x86_64  OK    OK  UNNEEDED, same version is already published
merida1macOS 10.14.6 Mojave / x86_64  OK    OK  
Package 6/29HostnameOS / ArchINSTALLBUILD
chipseqDB 1.19.0  (landing page)
Aaron Lun
git_last_commit: c6c9c01
git_last_commit_date: 2021-10-26 11:15:11 -0500
nebbiolo1Linux (Ubuntu 20.04.3 LTS) / x86_64  OK    OK  UNNEEDED, same version is already published
merida1macOS 10.14.6 Mojave / x86_64  OK    OK  
Package 7/29HostnameOS / ArchINSTALLBUILD
csawUsersGuide 1.11.0  (landing page)
Aaron Lun
git_last_commit: 5a397ee
git_last_commit_date: 2021-10-26 11:16:32 -0500
nebbiolo1Linux (Ubuntu 20.04.3 LTS) / x86_64  OK    OK  UNNEEDED, same version is already published
merida1macOS 10.14.6 Mojave / x86_64  OK    OK  
Package 8/29HostnameOS / ArchINSTALLBUILD
cytofWorkflow 1.19.0  (landing page)
Mark D. Robinson
git_last_commit: dbd5529
git_last_commit_date: 2021-10-26 11:15:15 -0500
nebbiolo1Linux (Ubuntu 20.04.3 LTS) / x86_64  OK    OK  UNNEEDED, same version is already published
merida1macOS 10.14.6 Mojave / x86_64  OK    OK  
Package 9/29HostnameOS / ArchINSTALLBUILD
EGSEA123 1.19.0  (landing page)
Matthew Ritchie
git_last_commit: 56c5e96
git_last_commit_date: 2021-10-26 11:15:19 -0500
nebbiolo1Linux (Ubuntu 20.04.3 LTS) / x86_64  OK    OK  UNNEEDED, same version is already published
merida1macOS 10.14.6 Mojave / x86_64  OK    OK  
Package 10/29HostnameOS / ArchINSTALLBUILD
ExpHunterSuite 1.3.0  (landing page)
James Perkins
git_last_commit: 85dd747
git_last_commit_date: 2021-10-26 11:16:51 -0500
nebbiolo1Linux (Ubuntu 20.04.3 LTS) / x86_64  OK    OK  UNNEEDED, same version is already published
merida1macOS 10.14.6 Mojave / x86_64  OK    OK  
Package 11/29HostnameOS / ArchINSTALLBUILD
ExpressionNormalizationWorkflow 1.21.0  (landing page)
Karthikeyan Murugesan
git_last_commit: 36a54a0
git_last_commit_date: 2021-10-26 11:15:23 -0500
nebbiolo1Linux (Ubuntu 20.04.3 LTS) / x86_64  OK    OK  UNNEEDED, same version is already published
merida1macOS 10.14.6 Mojave / x86_64  OK    OK  
Package 12/29HostnameOS / ArchINSTALLBUILD
fluentGenomics 1.7.0  (landing page)
Stuart Lee
git_last_commit: cb9c31b
git_last_commit_date: 2021-10-26 11:16:44 -0500
nebbiolo1Linux (Ubuntu 20.04.3 LTS) / x86_64  OK    OK  UNNEEDED, same version is already published
merida1macOS 10.14.6 Mojave / x86_64  OK    OK  
Package 13/29HostnameOS / ArchINSTALLBUILD
generegulation 1.19.0  (landing page)
Bioconductor Package Maintainer
git_last_commit: 6e13340
git_last_commit_date: 2021-10-26 11:15:28 -0500
nebbiolo1Linux (Ubuntu 20.04.3 LTS) / x86_64  OK    OK  UNNEEDED, same version is already published
merida1macOS 10.14.6 Mojave / x86_64  OK    OK  
Package 14/29HostnameOS / ArchINSTALLBUILD
GeoMxWorkflows 1.1.1  (landing page)
Jason Reeves
git_last_commit: 45da37d
git_last_commit_date: 2021-10-29 19:52:27 -0500
nebbiolo1Linux (Ubuntu 20.04.3 LTS) / x86_64  OK    OK  UNNEEDED, same version is already published
merida1macOS 10.14.6 Mojave / x86_64  OK    OK  
Package 15/29HostnameOS / ArchINSTALLBUILD
highthroughputassays 1.19.0  (landing page)
Bioconductor Package Maintainer
git_last_commit: cc7383e
git_last_commit_date: 2021-10-26 11:15:31 -0500
nebbiolo1Linux (Ubuntu 20.04.3 LTS) / x86_64  OK    OK  UNNEEDED, same version is already published
merida1macOS 10.14.6 Mojave / x86_64... NOT SUPPORTED ...
Package 16/29HostnameOS / ArchINSTALLBUILD
liftOver 1.19.0  (landing page)
Bioconductor Package Maintainer
git_last_commit: 969638a
git_last_commit_date: 2021-10-26 11:15:35 -0500
nebbiolo1Linux (Ubuntu 20.04.3 LTS) / x86_64  OK    ERROR  
merida1macOS 10.14.6 Mojave / x86_64  OK    ERROR  
Package 17/29HostnameOS / ArchINSTALLBUILD
maEndToEnd 2.15.0  (landing page)
Stefanie Reisenauer
git_last_commit: 0a2b67b
git_last_commit_date: 2021-10-26 11:16:24 -0500
nebbiolo1Linux (Ubuntu 20.04.3 LTS) / x86_64  OK    OK  UNNEEDED, same version is already published
merida1macOS 10.14.6 Mojave / x86_64  OK    OK  
Package 18/29HostnameOS / ArchINSTALLBUILD
methylationArrayAnalysis 1.19.0  (landing page)
Jovana Maksimovic
git_last_commit: f886576
git_last_commit_date: 2021-10-26 11:15:40 -0500
nebbiolo1Linux (Ubuntu 20.04.3 LTS) / x86_64  OK    OK  UNNEEDED, same version is already published
merida1macOS 10.14.6 Mojave / x86_64  OK    OK  
Package 19/29HostnameOS / ArchINSTALLBUILD
proteomics 1.19.0  (landing page)
Laurent Gatto
git_last_commit: f1ed0d4
git_last_commit_date: 2021-10-26 11:15:44 -0500
nebbiolo1Linux (Ubuntu 20.04.3 LTS) / x86_64  OK    ERROR  
merida1macOS 10.14.6 Mojave / x86_64  OK    ERROR  
Package 20/29HostnameOS / ArchINSTALLBUILD
recountWorkflow 1.19.0  (landing page)
Leonardo Collado-Torres
git_last_commit: a256a90
git_last_commit_date: 2021-11-22 22:55:50 -0500
nebbiolo1Linux (Ubuntu 20.04.3 LTS) / x86_64  OK    ERROR  
merida1macOS 10.14.6 Mojave / x86_64  OK    ERROR  
Package 21/29HostnameOS / ArchINSTALLBUILD
RNAseq123 1.19.0  (landing page)
Matthew Ritchie
git_last_commit: 4e51a99
git_last_commit_date: 2021-10-26 11:15:52 -0500
nebbiolo1Linux (Ubuntu 20.04.3 LTS) / x86_64  OK    OK  NO, package depends on 'Glimma' which is not available
merida1macOS 10.14.6 Mojave / x86_64  OK    OK  
Package 22/29HostnameOS / ArchINSTALLBUILD
rnaseqDTU 1.15.0  (landing page)
Michael Love
git_last_commit: 5bee1e7
git_last_commit_date: 2021-10-26 11:16:28 -0500
nebbiolo1Linux (Ubuntu 20.04.3 LTS) / x86_64  OK    OK  UNNEEDED, same version is already published
merida1macOS 10.14.6 Mojave / x86_64  OK    OK  
Package 23/29HostnameOS / ArchINSTALLBUILD
rnaseqGene 1.19.0  (landing page)
Michael Love
git_last_commit: cb23c40
git_last_commit_date: 2021-10-26 11:15:56 -0500
nebbiolo1Linux (Ubuntu 20.04.3 LTS) / x86_64  OK    ERROR  
merida1macOS 10.14.6 Mojave / x86_64  OK    ERROR  
Package 24/29HostnameOS / ArchINSTALLBUILD
RnaSeqGeneEdgeRQL 1.19.0  (landing page)
Yunshun Chen
git_last_commit: 00f29ac
git_last_commit_date: 2021-10-26 11:16:00 -0500
nebbiolo1Linux (Ubuntu 20.04.3 LTS) / x86_64  OK    OK  UNNEEDED, same version is already published
merida1macOS 10.14.6 Mojave / x86_64  OK    OK  
Package 25/29HostnameOS / ArchINSTALLBUILD
sequencing 1.19.0  (landing page)
Bioconductor Package Maintainer
git_last_commit: b273744
git_last_commit_date: 2021-10-26 11:16:05 -0500
nebbiolo1Linux (Ubuntu 20.04.3 LTS) / x86_64  OK    OK  UNNEEDED, same version is already published
merida1macOS 10.14.6 Mojave / x86_64  OK    OK  
Package 26/29HostnameOS / ArchINSTALLBUILD
simpleSingleCell 1.19.0  (landing page)
Aaron Lun
git_last_commit: 32688ab
git_last_commit_date: 2021-10-26 11:16:08 -0500
nebbiolo1Linux (Ubuntu 20.04.3 LTS) / x86_64  OK    OK  UNNEEDED, same version is already published
merida1macOS 10.14.6 Mojave / x86_64  OK    OK  
Package 27/29HostnameOS / ArchINSTALLBUILD
SingscoreAMLMutations 1.11.0  (landing page)
Dharmesh D. Bhuva
git_last_commit: 1eefcf0
git_last_commit_date: 2021-10-26 11:16:35 -0500
nebbiolo1Linux (Ubuntu 20.04.3 LTS) / x86_64  OK    OK  UNNEEDED, same version is already published
merida1macOS 10.14.6 Mojave / x86_64  OK    OK  
Package 28/29HostnameOS / ArchINSTALLBUILD
TCGAWorkflow 1.19.0  (landing page)
Tiago Chedraoui Silva
git_last_commit: c315435
git_last_commit_date: 2021-10-26 11:16:12 -0500
nebbiolo1Linux (Ubuntu 20.04.3 LTS) / x86_64  OK    ERROR  
merida1macOS 10.14.6 Mojave / x86_64  OK    ERROR  
Package 29/29HostnameOS / ArchINSTALLBUILD
variants 1.19.0  (landing page)
Bioconductor Package Maintainer
git_last_commit: 17aca6c
git_last_commit_date: 2021-10-26 11:16:16 -0500
nebbiolo1Linux (Ubuntu 20.04.3 LTS) / x86_64  OK    OK  UNNEEDED, same version is already published
merida1macOS 10.14.6 Mojave / x86_64  OK    OK