Workflows build report for BioC 3.14

This page was generated on 2022-01-17 21:00:09 -0500 (Mon, 17 Jan 2022).

Approx. Package Snapshot Date (git pull): 2022-01-17 14:45:02 -0500 (Mon, 17 Jan 2022)

HostnameOSArch (*)R versionInstalled pkgs
nebbiolo2Linux (Ubuntu 20.04.4 LTS)x86_644.1.2 (2021-11-01) -- "Bird Hippie" 4328
riesling1Windows Server 2019 Standardx644.1.2 (2021-11-01) -- "Bird Hippie" 4105
machv2macOS 10.14.6 Mojavex86_644.1.2 (2021-11-01) -- "Bird Hippie" 4138
Click on any hostname to see more info about the system (e.g. compilers)      (*) as reported by 'uname -p', except on Windows and Mac OS X

Package status is indicated by one of the following glyphs
  TIMEOUT  
INSTALL or BUILD of package took more than 40 or 120 minutes, respectively
  ERROR  
Bad DESCRIPTION file, or INSTALL or BUILD of package failed
  OK  
INSTALL or BUILD of package went OK
  NA  
INSTALL or BUILD result is not available because of an anomaly in the Build System
Click on any glyph in the report below to access the detailed report.
Package propagation status is indicated by one of the following LEDs
YES YES: Package was propagated because it didn't previously exist or version was bumped
NO NO: Package was not propagated because of a problem (impossible dependencies, or version lower than what is already propagated)
UNNEEDED UNNEEDED: Package was not propagated because it is already in the repository with this version. A version bump is required in order to propagate it

A crossed-out package name indicates the package is deprecated


QUICK STATSOS / ArchINSTALLBUILD
nebbiolo2Linux (Ubuntu 20.04.4 LTS) / x86_64
0029
0128
riesling1Windows Server 2019 Standard / x64
0025
0223
machv2macOS 10.14.6 Mojave / x86_64
0028
0127
Package 1/29HostnameOS / ArchINSTALLBUILD
annotation 1.18.0  (landing page)
Bioconductor Package Maintainer
git_last_commit: e580aaa
git_last_commit_date: 2021-10-26 11:15:04 -0500
nebbiolo2Linux (Ubuntu 20.04.4 LTS) / x86_64  OK    ERROR  
riesling1Windows Server 2019 Standard / x64  OK    OK  
machv2macOS 10.14.6 Mojave / x86_64  OK    OK  
Package 2/29HostnameOS / ArchINSTALLBUILD
arrays 1.20.0  (landing page)
Bioconductor Package Maintainer
git_last_commit: f6f5267
git_last_commit_date: 2021-10-26 11:15:08 -0500
nebbiolo2Linux (Ubuntu 20.04.4 LTS) / x86_64  OK    OK  UNNEEDED, same version is already published
riesling1Windows Server 2019 Standard / x64  OK    OK  
machv2macOS 10.14.6 Mojave / x86_64  OK    OK  
Package 3/29HostnameOS / ArchINSTALLBUILD
BiocMetaWorkflow 1.16.0  (landing page)
Mike Smith
git_last_commit: 15551f7
git_last_commit_date: 2021-10-26 11:16:20 -0500
nebbiolo2Linux (Ubuntu 20.04.4 LTS) / x86_64  OK    OK  UNNEEDED, same version is already published
riesling1Windows Server 2019 Standard / x64  OK    OK  
machv2macOS 10.14.6 Mojave / x86_64  OK    OK  
Package 4/29HostnameOS / ArchINSTALLBUILD
BP4RNAseq 1.4.0  (landing page)
Shanwen Sun
git_last_commit: a085a55
git_last_commit_date: 2021-10-26 11:16:48 -0500
nebbiolo2Linux (Ubuntu 20.04.4 LTS) / x86_64  OK    OK  UNNEEDED, same version is already published
riesling1Windows Server 2019 Standard / x64  OK    OK  
machv2macOS 10.14.6 Mojave / x86_64  OK    OK  
Package 5/29HostnameOS / ArchINSTALLBUILD
CAGEWorkflow 1.10.0  (landing page)
Malte Thodberg
git_last_commit: 75b51cb
git_last_commit_date: 2021-10-26 11:16:39 -0500
nebbiolo2Linux (Ubuntu 20.04.4 LTS) / x86_64  OK    OK  UNNEEDED, same version is already published
riesling1Windows Server 2019 Standard / x64... NOT SUPPORTED ...
machv2macOS 10.14.6 Mojave / x86_64  OK    OK  
Package 6/29HostnameOS / ArchINSTALLBUILD
chipseqDB 1.18.0  (landing page)
Aaron Lun
git_last_commit: d0a8bf5
git_last_commit_date: 2021-10-26 11:15:11 -0500
nebbiolo2Linux (Ubuntu 20.04.4 LTS) / x86_64  OK    OK  UNNEEDED, same version is already published
riesling1Windows Server 2019 Standard / x64... NOT SUPPORTED ...
machv2macOS 10.14.6 Mojave / x86_64  OK    OK  
Package 7/29HostnameOS / ArchINSTALLBUILD
csawUsersGuide 1.10.0  (landing page)
Aaron Lun
git_last_commit: ca0c587
git_last_commit_date: 2021-10-26 11:16:31 -0500
nebbiolo2Linux (Ubuntu 20.04.4 LTS) / x86_64  OK    OK  UNNEEDED, same version is already published
riesling1Windows Server 2019 Standard / x64  OK    OK  
machv2macOS 10.14.6 Mojave / x86_64  OK    OK  
Package 8/29HostnameOS / ArchINSTALLBUILD
cytofWorkflow 1.18.0  (landing page)
Mark D. Robinson
git_last_commit: 328c5fe
git_last_commit_date: 2021-10-26 11:15:15 -0500
nebbiolo2Linux (Ubuntu 20.04.4 LTS) / x86_64  OK    OK  UNNEEDED, same version is already published
riesling1Windows Server 2019 Standard / x64  OK    OK  
machv2macOS 10.14.6 Mojave / x86_64  OK    OK  
Package 9/29HostnameOS / ArchINSTALLBUILD
EGSEA123 1.18.0  (landing page)
Matthew Ritchie
git_last_commit: 6623f1f
git_last_commit_date: 2021-10-26 11:15:19 -0500
nebbiolo2Linux (Ubuntu 20.04.4 LTS) / x86_64  OK    OK  UNNEEDED, same version is already published
riesling1Windows Server 2019 Standard / x64  OK    OK  
machv2macOS 10.14.6 Mojave / x86_64  OK    OK  
Package 10/29HostnameOS / ArchINSTALLBUILD
ExpHunterSuite 1.2.0  (landing page)
James Perkins
git_last_commit: b7d1c2f
git_last_commit_date: 2021-10-26 11:16:51 -0500
nebbiolo2Linux (Ubuntu 20.04.4 LTS) / x86_64  OK    OK  UNNEEDED, same version is already published
riesling1Windows Server 2019 Standard / x64  OK    OK  
machv2macOS 10.14.6 Mojave / x86_64  OK    OK  
Package 11/29HostnameOS / ArchINSTALLBUILD
ExpressionNormalizationWorkflow 1.20.0  (landing page)
Karthikeyan Murugesan
git_last_commit: 3a2b7c1
git_last_commit_date: 2021-10-26 11:15:23 -0500
nebbiolo2Linux (Ubuntu 20.04.4 LTS) / x86_64  OK    OK  UNNEEDED, same version is already published
riesling1Windows Server 2019 Standard / x64  OK    OK  
machv2macOS 10.14.6 Mojave / x86_64  OK    OK  
Package 12/29HostnameOS / ArchINSTALLBUILD
fluentGenomics 1.6.0  (landing page)
Stuart Lee
git_last_commit: ab6b1e0
git_last_commit_date: 2021-10-26 11:16:44 -0500
nebbiolo2Linux (Ubuntu 20.04.4 LTS) / x86_64  OK    OK  UNNEEDED, same version is already published
riesling1Windows Server 2019 Standard / x64  OK    OK  
machv2macOS 10.14.6 Mojave / x86_64  OK    OK  
Package 13/29HostnameOS / ArchINSTALLBUILD
generegulation 1.18.0  (landing page)
Bioconductor Package Maintainer
git_last_commit: d42fd31
git_last_commit_date: 2021-10-26 11:15:28 -0500
nebbiolo2Linux (Ubuntu 20.04.4 LTS) / x86_64  OK    OK  UNNEEDED, same version is already published
riesling1Windows Server 2019 Standard / x64  OK    OK  
machv2macOS 10.14.6 Mojave / x86_64  OK    OK  
Package 14/29HostnameOS / ArchINSTALLBUILD
GeoMxWorkflows 1.0.1  (landing page)
Jason Reeves
git_last_commit: 1705398
git_last_commit_date: 2021-11-05 14:23:00 -0500
nebbiolo2Linux (Ubuntu 20.04.4 LTS) / x86_64  OK    OK  UNNEEDED, same version is already published
riesling1Windows Server 2019 Standard / x64  OK    OK  
machv2macOS 10.14.6 Mojave / x86_64  OK    OK  
Package 15/29HostnameOS / ArchINSTALLBUILD
highthroughputassays 1.18.0  (landing page)
Bioconductor Package Maintainer
git_last_commit: 248b4b6
git_last_commit_date: 2021-10-26 11:15:31 -0500
nebbiolo2Linux (Ubuntu 20.04.4 LTS) / x86_64  OK    OK  UNNEEDED, same version is already published
riesling1Windows Server 2019 Standard / x64... NOT SUPPORTED ...
machv2macOS 10.14.6 Mojave / x86_64... NOT SUPPORTED ...
Package 16/29HostnameOS / ArchINSTALLBUILD
liftOver 1.18.0  (landing page)
Bioconductor Package Maintainer
git_last_commit: 6f2ff23
git_last_commit_date: 2021-10-26 11:15:35 -0500
nebbiolo2Linux (Ubuntu 20.04.4 LTS) / x86_64  OK    OK  UNNEEDED, same version is already published
riesling1Windows Server 2019 Standard / x64  OK    OK  
machv2macOS 10.14.6 Mojave / x86_64  OK    OK  
Package 17/29HostnameOS / ArchINSTALLBUILD
maEndToEnd 2.14.0  (landing page)
Stefanie Reisenauer
git_last_commit: 5e346ce
git_last_commit_date: 2021-10-26 11:16:24 -0500
nebbiolo2Linux (Ubuntu 20.04.4 LTS) / x86_64  OK    OK  UNNEEDED, same version is already published
riesling1Windows Server 2019 Standard / x64  OK    OK  
machv2macOS 10.14.6 Mojave / x86_64  OK    OK  
Package 18/29HostnameOS / ArchINSTALLBUILD
methylationArrayAnalysis 1.18.0  (landing page)
Jovana Maksimovic
git_last_commit: fcf8d8e
git_last_commit_date: 2021-10-26 11:15:40 -0500
nebbiolo2Linux (Ubuntu 20.04.4 LTS) / x86_64  OK    OK  UNNEEDED, same version is already published
riesling1Windows Server 2019 Standard / x64  OK    OK  
machv2macOS 10.14.6 Mojave / x86_64  OK    OK  
Package 19/29HostnameOS / ArchINSTALLBUILD
proteomics 1.18.0  (landing page)
Laurent Gatto
git_last_commit: c5535b5
git_last_commit_date: 2021-10-26 11:15:44 -0500
nebbiolo2Linux (Ubuntu 20.04.4 LTS) / x86_64  OK    OK  UNNEEDED, same version is already published
riesling1Windows Server 2019 Standard / x64  OK    ERROR  
machv2macOS 10.14.6 Mojave / x86_64  OK    ERROR  
Package 20/29HostnameOS / ArchINSTALLBUILD
recountWorkflow 1.18.0  (landing page)
Leonardo Collado-Torres
git_last_commit: 43b9bc1
git_last_commit_date: 2021-10-26 11:15:48 -0500
nebbiolo2Linux (Ubuntu 20.04.4 LTS) / x86_64  OK    OK  UNNEEDED, same version is already published
riesling1Windows Server 2019 Standard / x64  OK    OK  
machv2macOS 10.14.6 Mojave / x86_64  OK    OK  
Package 21/29HostnameOS / ArchINSTALLBUILD
RNAseq123 1.18.0  (landing page)
Matthew Ritchie
git_last_commit: 93ecb39
git_last_commit_date: 2021-10-26 11:15:52 -0500
nebbiolo2Linux (Ubuntu 20.04.4 LTS) / x86_64  OK    OK  UNNEEDED, same version is already published
riesling1Windows Server 2019 Standard / x64  OK    OK  
machv2macOS 10.14.6 Mojave / x86_64  OK    OK  
Package 22/29HostnameOS / ArchINSTALLBUILD
rnaseqDTU 1.14.0  (landing page)
Michael Love
git_last_commit: a33d979
git_last_commit_date: 2021-10-26 11:16:28 -0500
nebbiolo2Linux (Ubuntu 20.04.4 LTS) / x86_64  OK    OK  UNNEEDED, same version is already published
riesling1Windows Server 2019 Standard / x64  OK    OK  
machv2macOS 10.14.6 Mojave / x86_64  OK    OK  
Package 23/29HostnameOS / ArchINSTALLBUILD
rnaseqGene 1.18.0  (landing page)
Michael Love
git_last_commit: 22becdb
git_last_commit_date: 2021-10-26 11:15:56 -0500
nebbiolo2Linux (Ubuntu 20.04.4 LTS) / x86_64  OK    OK  UNNEEDED, same version is already published
riesling1Windows Server 2019 Standard / x64  OK    OK  
machv2macOS 10.14.6 Mojave / x86_64  OK    OK  
Package 24/29HostnameOS / ArchINSTALLBUILD
RnaSeqGeneEdgeRQL 1.18.0  (landing page)
Yunshun Chen
git_last_commit: e5698bf
git_last_commit_date: 2021-10-26 11:16:00 -0500
nebbiolo2Linux (Ubuntu 20.04.4 LTS) / x86_64  OK    OK  UNNEEDED, same version is already published
riesling1Windows Server 2019 Standard / x64  OK    OK  
machv2macOS 10.14.6 Mojave / x86_64  OK    OK  
Package 25/29HostnameOS / ArchINSTALLBUILD
sequencing 1.18.0  (landing page)
Bioconductor Package Maintainer
git_last_commit: 1c8cdb3
git_last_commit_date: 2021-10-26 11:16:05 -0500
nebbiolo2Linux (Ubuntu 20.04.4 LTS) / x86_64  OK    OK  UNNEEDED, same version is already published
riesling1Windows Server 2019 Standard / x64  OK    OK  
machv2macOS 10.14.6 Mojave / x86_64  OK    OK  
Package 26/29HostnameOS / ArchINSTALLBUILD
simpleSingleCell 1.18.0  (landing page)
Aaron Lun
git_last_commit: d94195e
git_last_commit_date: 2021-10-26 11:16:08 -0500
nebbiolo2Linux (Ubuntu 20.04.4 LTS) / x86_64  OK    OK  UNNEEDED, same version is already published
riesling1Windows Server 2019 Standard / x64... NOT SUPPORTED ...
machv2macOS 10.14.6 Mojave / x86_64  OK    OK  
Package 27/29HostnameOS / ArchINSTALLBUILD
SingscoreAMLMutations 1.10.0  (landing page)
Dharmesh D. Bhuva
git_last_commit: 3103516
git_last_commit_date: 2021-10-26 11:16:35 -0500
nebbiolo2Linux (Ubuntu 20.04.4 LTS) / x86_64  OK    OK  UNNEEDED, same version is already published
riesling1Windows Server 2019 Standard / x64  OK    ERROR  
machv2macOS 10.14.6 Mojave / x86_64  OK    OK  
Package 28/29HostnameOS / ArchINSTALLBUILD
TCGAWorkflow 1.18.1  (landing page)
Tiago Chedraoui Silva
git_last_commit: 9e20231
git_last_commit_date: 2022-01-06 15:57:43 -0500
nebbiolo2Linux (Ubuntu 20.04.4 LTS) / x86_64  OK    OK  UNNEEDED, same version is already published
riesling1Windows Server 2019 Standard / x64  OK    OK  
machv2macOS 10.14.6 Mojave / x86_64  OK    OK  
Package 29/29HostnameOS / ArchINSTALLBUILD
variants 1.18.0  (landing page)
Bioconductor Package Maintainer
git_last_commit: c3cbdff
git_last_commit_date: 2021-10-26 11:16:16 -0500
nebbiolo2Linux (Ubuntu 20.04.4 LTS) / x86_64  OK    OK  UNNEEDED, same version is already published
riesling1Windows Server 2019 Standard / x64  OK    OK  
machv2macOS 10.14.6 Mojave / x86_64  OK    OK