Back to Build/check report for BioC 3.14 annotations
[A]BCDEFGHIJKLMNOPQRSTUVWXYZ

This page was generated on 2022-01-19 06:00:08 -0500 (Wed, 19 Jan 2022).

HostnameOSArch (*)R versionInstalled pkgs
nebbiolo2Linux (Ubuntu 20.04.4 LTS)x86_644.1.2 (2021-11-01) -- "Bird Hippie" 4328
Click on any hostname to see more info about the system (e.g. compilers)      (*) as reported by 'uname -p', except on Windows and Mac OS X

INSTALL results for AHPathbankDbs on nebbiolo2


To the developers/maintainers of the AHPathbankDbs package:
Make sure to use the following settings in order to reproduce any error or warning you see on this page.

raw results

Package 5/33HostnameOS / ArchINSTALLBUILDCHECK
AHPathbankDbs 0.99.5  (landing page)
Kozo Nishida
Snapshot Date: 2022-01-19 02:30:01 -0500 (Wed, 19 Jan 2022)
git_url: https://git.bioconductor.org/packages/AHPathbankDbs
git_branch: master
git_last_commit: a90bfd4
git_last_commit_date: 2021-04-16 02:43:59 -0500 (Fri, 16 Apr 2021)
nebbiolo2Linux (Ubuntu 20.04.4 LTS) / x86_64  OK    OK    OK  UNNEEDED, same version is already published

Summary

Package: AHPathbankDbs
Version: 0.99.5
Command: /home/biocbuild/bbs-3.14-bioc/R/bin/R CMD INSTALL AHPathbankDbs
StartedAt: 2022-01-19 03:00:09 -0500 (Wed, 19 Jan 2022)
EndedAt: 2022-01-19 03:00:17 -0500 (Wed, 19 Jan 2022)
EllapsedTime: 7.8 seconds
RetCode: 0
Status:   OK  

Command output

##############################################################################
##############################################################################
###
### Running command:
###
###   /home/biocbuild/bbs-3.14-bioc/R/bin/R CMD INSTALL AHPathbankDbs
###
##############################################################################
##############################################################################


* installing to library ‘/home/biocbuild/bbs-3.14-bioc/R/library’
* installing *source* package ‘AHPathbankDbs’ ...
** using staged installation
** inst
** help
No man pages found in package  ‘AHPathbankDbs’ 
*** installing help indices
** building package indices
** installing vignettes
** testing if installed package can be loaded from temporary location
** testing if installed package can be loaded from final location
** testing if installed package keeps a record of temporary installation path
* DONE (AHPathbankDbs)