Back to Books build report for BioC 3.14

This page was generated on 2021-10-22 15:00:05 -0400 (Fri, 22 Oct 2021).

BUILD results for OSCA.workflows on nebbiolo2

To the developers/maintainers of the OSCA.workflows package:
Make sure to use the following settings in order to reproduce any error or warning you see on this page.

raw results

Package 7/8HostnameOS / ArchINSTALLBUILD
OSCA.workflows 1.1.0  (landing page)
Aaron Lun
Snapshot Date: 2021-10-22 07:50:01 -0400 (Fri, 22 Oct 2021)
git_url: https://git.bioconductor.org/packages/OSCA.workflows
git_branch: master
git_last_commit: a3d66a6
git_last_commit_date: 2021-05-19 11:15:47 -0400 (Wed, 19 May 2021)
nebbiolo2Linux (Ubuntu 20.04.2 LTS) / x86_64  OK    OK  UNNEEDED, same version is already published

Summary

Package: OSCA.workflows
Version: 1.1.0
Command: /home/biocbuild/bbs-3.14-bioc/R/bin/R CMD build --keep-empty-dirs --no-resave-data OSCA.workflows
StartedAt: 2021-10-22 08:01:04 -0400 (Fri, 22 Oct 2021)
EndedAt: 2021-10-22 09:00:43 -0400 (Fri, 22 Oct 2021)
EllapsedTime: 3578.7 seconds
RetCode: 0
Status:   OK  
PackageFile: OSCA.workflows_1.1.0.tar.gz
PackageFileSize: 15.97 MiB

Command output

##############################################################################
##############################################################################
###
### Running command:
###
###   /home/biocbuild/bbs-3.14-bioc/R/bin/R CMD build --keep-empty-dirs --no-resave-data OSCA.workflows
###
##############################################################################
##############################################################################


* checking for file ‘OSCA.workflows/DESCRIPTION’ ... OK
* preparing ‘OSCA.workflows’:
* checking DESCRIPTION meta-information ... OK
* installing the package to build vignettes
* creating vignettes ... OK
* checking for LF line-endings in source and make files and shell scripts
* checking for empty or unneeded directories
* creating default NAMESPACE file
* building ‘OSCA.workflows_1.1.0.tar.gz’
Warning in utils::tar(filepath, pkgname, compression = compression, compression_level = 9L,  :
  storing paths of more than 100 bytes is not portable:
  ‘OSCA.workflows/inst/doc/book/tenx-unfiltered-pbmc4k_files/figure-html/unref-unfiltered-pbmc-mito-1.png’
Warning in utils::tar(filepath, pkgname, compression = compression, compression_level = 9L,  :
  storing paths of more than 100 bytes is not portable:
  ‘OSCA.workflows/inst/doc/book/tenx-unfiltered-pbmc4k_files/figure-html/unref-unfiltered-pbmc-norm-1.png’
Warning in utils::tar(filepath, pkgname, compression = compression, compression_level = 9L,  :
  storing paths of more than 100 bytes is not portable:
  ‘OSCA.workflows/inst/doc/book/tenx-unfiltered-pbmc4k_files/figure-html/unref-unfiltered-pbmc-tsne-1.png’
Warning in utils::tar(filepath, pkgname, compression = compression, compression_level = 9L,  :
  storing paths of more than 100 bytes is not portable:
  ‘OSCA.workflows/inst/doc/book/tenx-unfiltered-pbmc4k_files/figure-html/unref-unfiltered-pbmc-var-1.png’