Index of /checkResults/3.14/books-LATEST/OSCA.workflows/raw-results

[ICO]NameLast modifiedSizeDescription

[DIR]Parent Directory  -  
[   ]info.dcf20-Nov-2021 08:54 302  
[DIR]nebbiolo2/20-Nov-2021 08:54 -