Long Tests report for BioC 3.13

See here for how to subscribe to these builds.

This page was generated on 2020-11-21 17:30:03 -0500 (Sat, 21 Nov 2020).

Approx. Package Snapshot Date (git pull): 2020-11-21 09:00:02 -0500 (Sat, 21 Nov 2020)

HostnameOSArch (*)Platform label (**)R versionInstalled pkgs
malbec2Linux (Ubuntu 20.04.1 LTS)x86_64x86_64-linux-gnuR Under development (unstable) (2020-11-14 r79432) -- "Unsuffered Consequences" 3874
riesling1Windows Server 2019 Standardx64mingw32 / x86_64-w64-mingw32R Under development (unstable) (2020-11-06 r79405) -- "Unsuffered Consequences" 3834
machv2macOS 10.14.6 Mojavex86_64x86_64-apple-darwin18.7.0R Under development (unstable) (2020-11-03 r79399) -- "Unsuffered Consequences" 3697
Click on any hostname to see more info about the system (e.g. compilers)      (*) as reported by 'uname -p', except on Windows and Mac OS X      (**) as reported by 'gcc -v'

Package status is indicated by one of the following glyphs
 TIMEOUT  CHECK of package took more than 360 minutes Use the check boxes to show only packages with the selected status types.
 ERROR  Bad DESCRIPTION file or CHECK of package produced errors
 WARNINGS  CHECK of package produced warnings
 OK  CHECK of package was OK
 NA  CHECK result is not available because of an anomaly in the Build System
Click on any glyph in the report below to access the detailed results.

SUMMARYOS / ArchCHECK
malbec2 Linux (Ubuntu 20.04.1 LTS) / x86_64 
0423
riesling1 Windows Server 2019 Standard / x64 
0621
machv2 macOS 10.14.6 Mojave / x86_64 
0324
Package 1/9HostnameOS / ArchCHECK
APAlyzer 1.5.0
Ruijia Wang
Last Commit: 8de3fa7
Last Changed Date: 2020-10-27 11:48:13 -0500
malbec2 Linux (Ubuntu 20.04.1 LTS) / x86_64  ERROR 
riesling1 Windows Server 2019 Standard / x64  ERROR 
machv2 macOS 10.14.6 Mojave / x86_64  ERROR 
Package 2/9HostnameOS / ArchCHECK
beachmat 2.7.1
Aaron Lun
Last Commit: 2c37aeb
Last Changed Date: 2020-11-16 01:58:56 -0500
malbec2 Linux (Ubuntu 20.04.1 LTS) / x86_64  OK 
riesling1 Windows Server 2019 Standard / x64  OK 
machv2 macOS 10.14.6 Mojave / x86_64  OK 
Package 3/9HostnameOS / ArchCHECK
cBioPortalData 2.3.3
Marcel Ramos
Last Commit: 9e39419
Last Changed Date: 2020-10-30 19:25:59 -0500
malbec2 Linux (Ubuntu 20.04.1 LTS) / x86_64  WARNINGS 
riesling1 Windows Server 2019 Standard / x64  WARNINGS 
machv2 macOS 10.14.6 Mojave / x86_64  WARNINGS 
Package 4/9HostnameOS / ArchCHECK
ChromSCape 1.1.0
Pacome Prompsy
Last Commit: 4ec5372
Last Changed Date: 2020-10-27 12:02:02 -0500
malbec2 Linux (Ubuntu 20.04.1 LTS) / x86_64  ERROR 
riesling1 Windows Server 2019 Standard / x64  ERROR 
machv2 macOS 10.14.6 Mojave / x86_64  ERROR 
Package 5/9HostnameOS / ArchCHECK
DropletUtils 1.11.1
Aaron Lun
Last Commit: 6b9b8c3
Last Changed Date: 2020-11-20 12:24:49 -0500
malbec2 Linux (Ubuntu 20.04.1 LTS) / x86_64  OK 
riesling1 Windows Server 2019 Standard / x64  ERROR 
machv2 macOS 10.14.6 Mojave / x86_64  OK 
Package 6/9HostnameOS / ArchCHECK
GenomicFeatures 1.43.2
Bioconductor Package Maintainer
Last Commit: d96a57e
Last Changed Date: 2020-11-09 19:03:09 -0500
malbec2 Linux (Ubuntu 20.04.1 LTS) / x86_64  WARNINGS 
riesling1 Windows Server 2019 Standard / x64  WARNINGS 
machv2 macOS 10.14.6 Mojave / x86_64  WARNINGS 
Package 7/9HostnameOS / ArchCHECK
HDF5Array 1.19.0
Hervé Pagès
Last Commit: 5a84271
Last Changed Date: 2020-11-02 20:21:30 -0500
malbec2 Linux (Ubuntu 20.04.1 LTS) / x86_64  ERROR 
riesling1 Windows Server 2019 Standard / x64  ERROR 
machv2 macOS 10.14.6 Mojave / x86_64  ERROR 
Package 8/9HostnameOS / ArchCHECK
rhdf5 2.35.0
Mike Smith
Last Commit: 670859f
Last Changed Date: 2020-10-27 10:44:25 -0500
malbec2 Linux (Ubuntu 20.04.1 LTS) / x86_64  OK 
riesling1 Windows Server 2019 Standard / x64  ERROR 
machv2 macOS 10.14.6 Mojave / x86_64  OK 
Package 9/9HostnameOS / ArchCHECK
xcms 3.13.0
Steffen Neumann
Last Commit: 6d255e4
Last Changed Date: 2020-10-27 10:25:47 -0500
malbec2 Linux (Ubuntu 20.04.1 LTS) / x86_64  ERROR 
riesling1 Windows Server 2019 Standard / x64  ERROR 
machv2 macOS 10.14.6 Mojave / x86_64  OK