Back to Multiple platform build/check report for BioC 3.12 |
|
This page was generated on 2021-05-06 12:28:50 -0400 (Thu, 06 May 2021).
To the developers/maintainers of the rhdf5client package: Please make sure to use the following settings in order to reproduce any error or warning you see on this page. |
Package 1522/1974 | Hostname | OS / Arch | INSTALL | BUILD | CHECK | BUILD BIN | ||||||||
rhdf5client 1.12.0 (landing page) Vincent Carey
| malbec1 | Linux (Ubuntu 18.04.5 LTS) / x86_64 | OK | OK | OK | |||||||||
tokay1 | Windows Server 2012 R2 Standard / x64 | OK | OK | OK | OK | |||||||||
merida1 | macOS 10.14.6 Mojave / x86_64 | OK | OK | OK | OK | |||||||||
Package: rhdf5client |
Version: 1.12.0 |
Command: /home/biocbuild/bbs-3.12-bioc/R/bin/R CMD INSTALL rhdf5client |
StartedAt: 2021-05-05 16:24:28 -0400 (Wed, 05 May 2021) |
EndedAt: 2021-05-05 16:24:46 -0400 (Wed, 05 May 2021) |
EllapsedTime: 17.1 seconds |
RetCode: 0 |
Status: OK |
############################################################################## ############################################################################## ### ### Running command: ### ### /home/biocbuild/bbs-3.12-bioc/R/bin/R CMD INSTALL rhdf5client ### ############################################################################## ############################################################################## * installing to library ‘/home/biocbuild/bbs-3.12-bioc/R/library’ * installing *source* package ‘rhdf5client’ ... ** using staged installation ** libs gcc -I"/home/biocbuild/bbs-3.12-bioc/R/include" -DNDEBUG -I/usr/local/include -fpic -g -O2 -Wall -c extract.c -o extract.o extract.c: In function ‘extractBin’: extract.c:101:42: warning: ‘rdp’ may be used uninitialized in this function [-Wmaybe-uninitialized] A[ia] = (Rf_isReal(resvec_sexp) ? rdp[ib] : rip[ib]); ^ extract.c:101:52: warning: ‘rip’ may be used uninitialized in this function [-Wmaybe-uninitialized] A[ia] = (Rf_isReal(resvec_sexp) ? rdp[ib] : rip[ib]); ^ gcc -shared -L/home/biocbuild/bbs-3.12-bioc/R/lib -L/usr/local/lib -o rhdf5client.so extract.o -L/home/biocbuild/bbs-3.12-bioc/R/lib -lR installing to /home/biocbuild/bbs-3.12-bioc/R/library/00LOCK-rhdf5client/00new/rhdf5client/libs ** R ** inst ** byte-compile and prepare package for lazy loading ** help *** installing help indices ** building package indices ** installing vignettes ** testing if installed package can be loaded from temporary location ** checking absolute paths in shared objects and dynamic libraries ** testing if installed package can be loaded from final location ** testing if installed package keeps a record of temporary installation path * DONE (rhdf5client)