Back to Multiple platform build/check report for BioC 3.12 |
|
This page was generated on 2021-05-06 12:33:22 -0400 (Thu, 06 May 2021).
To the developers/maintainers of the rSWeeP package: Please make sure to use the following settings in order to reproduce any error or warning you see on this page. |
Package 1588/1974 | Hostname | OS / Arch | INSTALL | BUILD | CHECK | BUILD BIN | ||||||||
rSWeeP 1.2.0 (landing page) Danrley R. Fernandes
| malbec1 | Linux (Ubuntu 18.04.5 LTS) / x86_64 | OK | OK | OK | |||||||||
tokay1 | Windows Server 2012 R2 Standard / x64 | OK | OK | OK | OK | |||||||||
merida1 | macOS 10.14.6 Mojave / x86_64 | OK | OK | OK | OK | |||||||||
Package: rSWeeP |
Version: 1.2.0 |
Command: rm -rf rSWeeP.buildbin-libdir && mkdir rSWeeP.buildbin-libdir && C:\Users\biocbuild\bbs-3.12-bioc\R\bin\R.exe CMD INSTALL --merge-multiarch --build --library=rSWeeP.buildbin-libdir rSWeeP_1.2.0.tar.gz |
StartedAt: 2021-05-06 10:00:39 -0400 (Thu, 06 May 2021) |
EndedAt: 2021-05-06 10:01:05 -0400 (Thu, 06 May 2021) |
EllapsedTime: 25.7 seconds |
RetCode: 0 |
Status: OK |
PackageFile: rSWeeP_1.2.0.zip |
PackageFileSize: 1.843 MiB |
############################################################################## ############################################################################## ### ### Running command: ### ### rm -rf rSWeeP.buildbin-libdir && mkdir rSWeeP.buildbin-libdir && C:\Users\biocbuild\bbs-3.12-bioc\R\bin\R.exe CMD INSTALL --merge-multiarch --build --library=rSWeeP.buildbin-libdir rSWeeP_1.2.0.tar.gz ### ############################################################################## ############################################################################## install for i386 * installing *source* package 'rSWeeP' ... ** using staged installation ** R ** inst ** byte-compile and prepare package for lazy loading in method for 'sWeeP' with signature '"AAStringSet"': no definition for class "AAStringSet" ** help *** installing help indices converting help for package 'rSWeeP' finding HTML links ... done SWeeP html orthbase html ** building package indices ** installing vignettes ** testing if installed package can be loaded from temporary location ** testing if installed package can be loaded from final location ** testing if installed package keeps a record of temporary installation path install for x64 * installing *source* package 'rSWeeP' ... ** testing if installed package can be loaded * MD5 sums packaged installation of 'rSWeeP' as rSWeeP_1.2.0.zip * DONE (rSWeeP)