Back to Multiple platform build/check report for BioC 3.12 |
|
This page was generated on 2021-05-06 12:28:14 -0400 (Thu, 06 May 2021).
To the developers/maintainers of the minet package: Please make sure to use the following settings in order to reproduce any error or warning you see on this page. |
Package 1102/1974 | Hostname | OS / Arch | INSTALL | BUILD | CHECK | BUILD BIN | ||||||||
minet 3.48.0 (landing page) Patrick E. Meyer
| malbec1 | Linux (Ubuntu 18.04.5 LTS) / x86_64 | OK | OK | OK | |||||||||
tokay1 | Windows Server 2012 R2 Standard / x64 | OK | OK | OK | OK | |||||||||
merida1 | macOS 10.14.6 Mojave / x86_64 | OK | OK | OK | OK | |||||||||
Package: minet |
Version: 3.48.0 |
Command: /home/biocbuild/bbs-3.12-bioc/R/bin/R CMD INSTALL minet |
StartedAt: 2021-05-05 16:02:47 -0400 (Wed, 05 May 2021) |
EndedAt: 2021-05-05 16:02:53 -0400 (Wed, 05 May 2021) |
EllapsedTime: 6.0 seconds |
RetCode: 0 |
Status: OK |
############################################################################## ############################################################################## ### ### Running command: ### ### /home/biocbuild/bbs-3.12-bioc/R/bin/R CMD INSTALL minet ### ############################################################################## ############################################################################## * installing to library ‘/home/biocbuild/bbs-3.12-bioc/R/library’ * installing *source* package ‘minet’ ... ** using staged installation ** libs g++ -std=gnu++11 -I"/home/biocbuild/bbs-3.12-bioc/R/include" -DNDEBUG -I/usr/local/include -fpic -g -O2 -Wall -c aracne.cpp -o aracne.o g++ -std=gnu++11 -I"/home/biocbuild/bbs-3.12-bioc/R/include" -DNDEBUG -I/usr/local/include -fpic -g -O2 -Wall -c clr.cpp -o clr.o g++ -std=gnu++11 -I"/home/biocbuild/bbs-3.12-bioc/R/include" -DNDEBUG -I/usr/local/include -fpic -g -O2 -Wall -c minet.cpp -o minet.o g++ -std=gnu++11 -I"/home/biocbuild/bbs-3.12-bioc/R/include" -DNDEBUG -I/usr/local/include -fpic -g -O2 -Wall -c mrnet.cpp -o mrnet.o mrnet.cpp: In function ‘SEXPREC* mrnet(SEXP, SEXP)’: mrnet.cpp:190:34: warning: comparison between signed and unsigned integer expressions [-Wsign-compare] for( int l=0; l<n; ++l ) ~^~ g++ -std=gnu++11 -I"/home/biocbuild/bbs-3.12-bioc/R/include" -DNDEBUG -I/usr/local/include -fpic -g -O2 -Wall -c validate.cpp -o validate.o g++ -std=gnu++11 -shared -L/home/biocbuild/bbs-3.12-bioc/R/lib -L/usr/local/lib -o minet.so aracne.o clr.o minet.o mrnet.o validate.o -L/home/biocbuild/bbs-3.12-bioc/R/lib -lR installing to /home/biocbuild/bbs-3.12-bioc/R/library/00LOCK-minet/00new/minet/libs ** R ** data ** inst ** byte-compile and prepare package for lazy loading ** help *** installing help indices ** building package indices ** testing if installed package can be loaded from temporary location ** checking absolute paths in shared objects and dynamic libraries ** testing if installed package can be loaded from final location ** testing if installed package keeps a record of temporary installation path * DONE (minet)