Back to Multiple platform build/check report for BioC 3.12 |
|
This page was generated on 2021-05-06 12:32:08 -0400 (Thu, 06 May 2021).
To the developers/maintainers of the maskBAD package: Please make sure to use the following settings in order to reproduce any error or warning you see on this page. |
Package 1005/1974 | Hostname | OS / Arch | INSTALL | BUILD | CHECK | BUILD BIN | ||||||||
maskBAD 1.34.0 (landing page) Michael Dannemann
| malbec1 | Linux (Ubuntu 18.04.5 LTS) / x86_64 | OK | OK | OK | |||||||||
tokay1 | Windows Server 2012 R2 Standard / x64 | OK | OK | OK | OK | |||||||||
merida1 | macOS 10.14.6 Mojave / x86_64 | OK | OK | OK | OK | |||||||||
Package: maskBAD |
Version: 1.34.0 |
Command: C:\cygwin\bin\curl.exe -O http://172.29.0.3/BBS/3.12/bioc/src/contrib/maskBAD_1.34.0.tar.gz && rm -rf maskBAD.buildbin-libdir && mkdir maskBAD.buildbin-libdir && C:\Users\biocbuild\bbs-3.12-bioc\R\bin\R.exe CMD INSTALL --merge-multiarch --build --library=maskBAD.buildbin-libdir maskBAD_1.34.0.tar.gz && C:\Users\biocbuild\bbs-3.12-bioc\R\bin\R.exe CMD INSTALL maskBAD_1.34.0.zip && rm maskBAD_1.34.0.tar.gz maskBAD_1.34.0.zip |
StartedAt: 2021-05-05 17:09:06 -0400 (Wed, 05 May 2021) |
EndedAt: 2021-05-05 17:09:29 -0400 (Wed, 05 May 2021) |
EllapsedTime: 22.9 seconds |
RetCode: 0 |
Status: OK |
############################################################################## ############################################################################## ### ### Running command: ### ### C:\cygwin\bin\curl.exe -O http://172.29.0.3/BBS/3.12/bioc/src/contrib/maskBAD_1.34.0.tar.gz && rm -rf maskBAD.buildbin-libdir && mkdir maskBAD.buildbin-libdir && C:\Users\biocbuild\bbs-3.12-bioc\R\bin\R.exe CMD INSTALL --merge-multiarch --build --library=maskBAD.buildbin-libdir maskBAD_1.34.0.tar.gz && C:\Users\biocbuild\bbs-3.12-bioc\R\bin\R.exe CMD INSTALL maskBAD_1.34.0.zip && rm maskBAD_1.34.0.tar.gz maskBAD_1.34.0.zip ### ############################################################################## ############################################################################## % Total % Received % Xferd Average Speed Time Time Time Current Dload Upload Total Spent Left Speed 0 0 0 0 0 0 0 0 --:--:-- --:--:-- --:--:-- 0 100 441k 100 441k 0 0 20.2M 0 --:--:-- --:--:-- --:--:-- 21.5M install for i386 * installing *source* package 'maskBAD' ... ** using staged installation ** R ** data ** inst ** byte-compile and prepare package for lazy loading ** help *** installing help indices converting help for package 'maskBAD' finding HTML links ... done exmask html mask html finding level-2 HTML links ... done newAffyBatch html newCdf html overlapExprExtMasks html plotProbe html prepareMaskedAffybatch html sequenceMask html ** building package indices ** installing vignettes ** testing if installed package can be loaded from temporary location ** testing if installed package can be loaded from final location ** testing if installed package keeps a record of temporary installation path install for x64 * installing *source* package 'maskBAD' ... ** testing if installed package can be loaded * MD5 sums packaged installation of 'maskBAD' as maskBAD_1.34.0.zip * DONE (maskBAD) * installing to library 'C:/Users/biocbuild/bbs-3.12-bioc/R/library' package 'maskBAD' successfully unpacked and MD5 sums checked