Back to Multiple platform build/check report for BioC 3.12 |
|
This page was generated on 2021-05-06 12:31:58 -0400 (Thu, 06 May 2021).
To the developers/maintainers of the loci2path package: Please make sure to use the following settings in order to reproduce any error or warning you see on this page. |
Package 966/1974 | Hostname | OS / Arch | INSTALL | BUILD | CHECK | BUILD BIN | ||||||||
loci2path 1.10.0 (landing page) Tianlei Xu
| malbec1 | Linux (Ubuntu 18.04.5 LTS) / x86_64 | OK | OK | OK | |||||||||
tokay1 | Windows Server 2012 R2 Standard / x64 | OK | OK | OK | OK | |||||||||
merida1 | macOS 10.14.6 Mojave / x86_64 | OK | OK | OK | OK | |||||||||
Package: loci2path |
Version: 1.10.0 |
Command: C:\cygwin\bin\curl.exe -O http://172.29.0.3/BBS/3.12/bioc/src/contrib/loci2path_1.10.0.tar.gz && rm -rf loci2path.buildbin-libdir && mkdir loci2path.buildbin-libdir && C:\Users\biocbuild\bbs-3.12-bioc\R\bin\R.exe CMD INSTALL --merge-multiarch --build --library=loci2path.buildbin-libdir loci2path_1.10.0.tar.gz && C:\Users\biocbuild\bbs-3.12-bioc\R\bin\R.exe CMD INSTALL loci2path_1.10.0.zip && rm loci2path_1.10.0.tar.gz loci2path_1.10.0.zip |
StartedAt: 2021-05-05 17:28:03 -0400 (Wed, 05 May 2021) |
EndedAt: 2021-05-05 17:29:00 -0400 (Wed, 05 May 2021) |
EllapsedTime: 56.8 seconds |
RetCode: 0 |
Status: OK |
############################################################################## ############################################################################## ### ### Running command: ### ### C:\cygwin\bin\curl.exe -O http://172.29.0.3/BBS/3.12/bioc/src/contrib/loci2path_1.10.0.tar.gz && rm -rf loci2path.buildbin-libdir && mkdir loci2path.buildbin-libdir && C:\Users\biocbuild\bbs-3.12-bioc\R\bin\R.exe CMD INSTALL --merge-multiarch --build --library=loci2path.buildbin-libdir loci2path_1.10.0.tar.gz && C:\Users\biocbuild\bbs-3.12-bioc\R\bin\R.exe CMD INSTALL loci2path_1.10.0.zip && rm loci2path_1.10.0.tar.gz loci2path_1.10.0.zip ### ############################################################################## ############################################################################## % Total % Received % Xferd Average Speed Time Time Time Current Dload Upload Total Spent Left Speed 0 0 0 0 0 0 0 0 --:--:-- --:--:-- --:--:-- 0 3 316k 3 12897 0 0 34372 0 0:00:09 --:--:-- 0:00:09 34392 100 316k 100 316k 0 0 838k 0 --:--:-- --:--:-- --:--:-- 839k install for i386 * installing *source* package 'loci2path' ... ** using staged installation ** R ** data *** moving datasets to lazyload DB ** inst ** byte-compile and prepare package for lazy loading ** help *** installing help indices converting help for package 'loci2path' finding HTML links ... done biocarta html check.geneid html eqtlSet-class html eset.list html geneSet-class html getHeatmap-methods html getMat-methods html getPathDescription-methods html getPval-methods html getTissueDegree-methods html getWordcloud-methods html loci2pathResult-class html query-methods html query.gr html ** building package indices ** installing vignettes ** testing if installed package can be loaded from temporary location ** testing if installed package can be loaded from final location ** testing if installed package keeps a record of temporary installation path install for x64 * installing *source* package 'loci2path' ... ** testing if installed package can be loaded * MD5 sums packaged installation of 'loci2path' as loci2path_1.10.0.zip * DONE (loci2path) * installing to library 'C:/Users/biocbuild/bbs-3.12-bioc/R/library' package 'loci2path' successfully unpacked and MD5 sums checked