Back to Multiple platform build/check report for BioC 3.12 |
|
This page was generated on 2021-05-06 12:31:04 -0400 (Thu, 06 May 2021).
To the developers/maintainers of the epivizrStandalone package: Please make sure to use the following settings in order to reproduce any error or warning you see on this page. |
Package 564/1974 | Hostname | OS / Arch | INSTALL | BUILD | CHECK | BUILD BIN | ||||||||
epivizrStandalone 1.18.0 (landing page) Hector Corrada Bravo
| malbec1 | Linux (Ubuntu 18.04.5 LTS) / x86_64 | OK | OK | OK | |||||||||
tokay1 | Windows Server 2012 R2 Standard / x64 | OK | OK | WARNINGS | OK | |||||||||
merida1 | macOS 10.14.6 Mojave / x86_64 | OK | OK | OK | OK | |||||||||
Package: epivizrStandalone |
Version: 1.18.0 |
Command: C:\cygwin\bin\curl.exe -O http://172.29.0.3/BBS/3.12/bioc/src/contrib/epivizrStandalone_1.18.0.tar.gz && rm -rf epivizrStandalone.buildbin-libdir && mkdir epivizrStandalone.buildbin-libdir && C:\Users\biocbuild\bbs-3.12-bioc\R\bin\R.exe CMD INSTALL --merge-multiarch --build --library=epivizrStandalone.buildbin-libdir epivizrStandalone_1.18.0.tar.gz && C:\Users\biocbuild\bbs-3.12-bioc\R\bin\R.exe CMD INSTALL epivizrStandalone_1.18.0.zip && rm epivizrStandalone_1.18.0.tar.gz epivizrStandalone_1.18.0.zip |
StartedAt: 2021-05-05 18:18:23 -0400 (Wed, 05 May 2021) |
EndedAt: 2021-05-05 18:19:32 -0400 (Wed, 05 May 2021) |
EllapsedTime: 69.1 seconds |
RetCode: 0 |
Status: OK |
############################################################################## ############################################################################## ### ### Running command: ### ### C:\cygwin\bin\curl.exe -O http://172.29.0.3/BBS/3.12/bioc/src/contrib/epivizrStandalone_1.18.0.tar.gz && rm -rf epivizrStandalone.buildbin-libdir && mkdir epivizrStandalone.buildbin-libdir && C:\Users\biocbuild\bbs-3.12-bioc\R\bin\R.exe CMD INSTALL --merge-multiarch --build --library=epivizrStandalone.buildbin-libdir epivizrStandalone_1.18.0.tar.gz && C:\Users\biocbuild\bbs-3.12-bioc\R\bin\R.exe CMD INSTALL epivizrStandalone_1.18.0.zip && rm epivizrStandalone_1.18.0.tar.gz epivizrStandalone_1.18.0.zip ### ############################################################################## ############################################################################## % Total % Received % Xferd Average Speed Time Time Time Current Dload Upload Total Spent Left Speed 0 0 0 0 0 0 0 0 --:--:-- --:--:-- --:--:-- 0 100 6679 100 6679 0 0 463k 0 --:--:-- --:--:-- --:--:-- 501k install for i386 * installing *source* package 'epivizrStandalone' ... ** using staged installation ** R ** byte-compile and prepare package for lazy loading Warning: replacing previous import 'S4Vectors::merge' by 'git2r::merge' when loading 'epivizrStandalone' Warning: replacing previous import 'S4Vectors::head' by 'git2r::head' when loading 'epivizrStandalone' Warning: replacing previous import 'S4Vectors::as.data.frame' by 'git2r::as.data.frame' when loading 'epivizrStandalone' ** help *** installing help indices converting help for package 'epivizrStandalone' finding HTML links ... done setStandalone html startStandalone html Rd warning: C:/Users/biocbuild/bbs-3.12-bioc/tmpdir/RtmpkbKQ2j/R.INSTALL1b086732bfb/epivizrStandalone/man/startStandalone.Rd:13: file link 'TxDb' in package 'GenomicFeatures' does not exist and so has been treated as a topic Rd warning: C:/Users/biocbuild/bbs-3.12-bioc/tmpdir/RtmpkbKQ2j/R.INSTALL1b086732bfb/epivizrStandalone/man/startStandalone.Rd:37: file link 'EpivizApp' in package 'epivizr' does not exist and so has been treated as a topic startStandaloneApp html Rd warning: C:/Users/biocbuild/bbs-3.12-bioc/tmpdir/RtmpkbKQ2j/R.INSTALL1b086732bfb/epivizrStandalone/man/startStandaloneApp.Rd:14: file link 'TxDb' in package 'GenomicFeatures' does not exist and so has been treated as a topic Rd warning: C:/Users/biocbuild/bbs-3.12-bioc/tmpdir/RtmpkbKQ2j/R.INSTALL1b086732bfb/epivizrStandalone/man/startStandaloneApp.Rd:35: file link 'EpivizApp' in package 'epivizr' does not exist and so has been treated as a topic ** building package indices ** installing vignettes ** testing if installed package can be loaded from temporary location Warning: replacing previous import 'S4Vectors::merge' by 'git2r::merge' when loading 'epivizrStandalone' Warning: replacing previous import 'S4Vectors::head' by 'git2r::head' when loading 'epivizrStandalone' Warning: replacing previous import 'S4Vectors::as.data.frame' by 'git2r::as.data.frame' when loading 'epivizrStandalone' ** testing if installed package can be loaded from final location Warning: replacing previous import 'S4Vectors::merge' by 'git2r::merge' when loading 'epivizrStandalone' Warning: replacing previous import 'S4Vectors::head' by 'git2r::head' when loading 'epivizrStandalone' Warning: replacing previous import 'S4Vectors::as.data.frame' by 'git2r::as.data.frame' when loading 'epivizrStandalone' ** testing if installed package keeps a record of temporary installation path install for x64 * installing *source* package 'epivizrStandalone' ... ** testing if installed package can be loaded Warning: replacing previous import 'S4Vectors::merge' by 'git2r::merge' when loading 'epivizrStandalone' Warning: replacing previous import 'S4Vectors::head' by 'git2r::head' when loading 'epivizrStandalone' Warning: replacing previous import 'S4Vectors::as.data.frame' by 'git2r::as.data.frame' when loading 'epivizrStandalone' * MD5 sums packaged installation of 'epivizrStandalone' as epivizrStandalone_1.18.0.zip * DONE (epivizrStandalone) * installing to library 'C:/Users/biocbuild/bbs-3.12-bioc/R/library' package 'epivizrStandalone' successfully unpacked and MD5 sums checked