Back to Multiple platform build/check report for BioC 3.12 |
|
This page was generated on 2021-01-25 11:52:19 -0500 (Mon, 25 Jan 2021).
TO THE DEVELOPERS/MAINTAINERS OF THE bioDist PACKAGE: Please make sure to use the following settings in order to reproduce any error or warning you see on this page. |
Package 176/1974 | Hostname | OS / Arch | INSTALL | BUILD | CHECK | BUILD BIN | ||||||
bioDist 1.62.0 Bioconductor Package Maintainer
| malbec1 | Linux (Ubuntu 18.04.5 LTS) / x86_64 | OK | OK | OK | ![]() | ||||||
nebbiolo1 | Linux (Ubuntu 20.04.1 LTS) / x86_64 | OK | OK | OK | ||||||||
tokay1 | Windows Server 2012 R2 Standard / x64 | OK | [ OK ] | OK | OK | ![]() | ||||||
merida1 | macOS 10.14.6 Mojave / x86_64 | OK | OK | OK | OK | ![]() |
Package: bioDist |
Version: 1.62.0 |
Command: chmod a+r bioDist -R && C:\Users\biocbuild\bbs-3.12-bioc\R\bin\R.exe CMD build --keep-empty-dirs --no-resave-data bioDist |
StartedAt: 2021-01-24 19:56:23 -0500 (Sun, 24 Jan 2021) |
EndedAt: 2021-01-24 19:56:43 -0500 (Sun, 24 Jan 2021) |
EllapsedTime: 20.4 seconds |
RetCode: 0 |
Status: OK |
PackageFile: bioDist_1.62.0.tar.gz |
PackageFileSize: 126 KiB |
############################################################################## ############################################################################## ### ### Running command: ### ### chmod a+r bioDist -R && C:\Users\biocbuild\bbs-3.12-bioc\R\bin\R.exe CMD build --keep-empty-dirs --no-resave-data bioDist ### ############################################################################## ############################################################################## * checking for file 'bioDist/DESCRIPTION' ... OK * preparing 'bioDist': * checking DESCRIPTION meta-information ... OK * installing the package to build vignettes * creating vignettes ... OK * checking for LF line-endings in source and make files and shell scripts * checking for empty or unneeded directories * building 'bioDist_1.62.0.tar.gz'