Back to Multiple platform build/check report for BioC 3.12
[A]BCDEFGHIJKLMNOPQRSTUVWXYZ

BUILD BIN report for a4Classif on tokay1

This page was generated on 2020-11-26 12:19:03 -0500 (Thu, 26 Nov 2020).

TO THE DEVELOPERS/MAINTAINERS OF THE a4Classif PACKAGE: Please make sure to use the following settings in order to reproduce any error or warning you see on this page.
Package 3/1974HostnameOS / ArchINSTALLBUILDCHECKBUILD BIN
a4Classif 1.38.0
Laure Cougnaud
Snapshot Date: 2020-11-25 14:42:33 -0500 (Wed, 25 Nov 2020)
URL: https://git.bioconductor.org/packages/a4Classif
Branch: RELEASE_3_12
Last Commit: c4d0588
Last Changed Date: 2020-10-27 10:41:18 -0500 (Tue, 27 Oct 2020)
malbec1 Linux (Ubuntu 18.04.4 LTS) / x86_64  OK  OK  OK UNNEEDED, same version exists in internal repository
nebbiolo1 Linux (Ubuntu 20.04.1 LTS) / x86_64  OK  OK  OK 
tokay1 Windows Server 2012 R2 Standard / x64  OK  OK  OK [ OK ]UNNEEDED, same version exists in internal repository
merida1 macOS 10.14.6 Mojave / x86_64  OK  OK  OK  OK UNNEEDED, same version exists in internal repository

Summary

Package: a4Classif
Version: 1.38.0
Command: rm -rf a4Classif.buildbin-libdir && mkdir a4Classif.buildbin-libdir && C:\Users\biocbuild\bbs-3.12-bioc\R\bin\R.exe CMD INSTALL --merge-multiarch --build --library=a4Classif.buildbin-libdir a4Classif_1.38.0.tar.gz
StartedAt: 2020-11-26 08:40:21 -0500 (Thu, 26 Nov 2020)
EndedAt: 2020-11-26 08:41:08 -0500 (Thu, 26 Nov 2020)
EllapsedTime: 46.8 seconds
RetCode: 0
Status:  OK  
PackageFile: a4Classif_1.38.0.zip
PackageFileSize: 393.5 KiB

Command output

##############################################################################
##############################################################################
###
### Running command:
###
###   rm -rf a4Classif.buildbin-libdir && mkdir a4Classif.buildbin-libdir && C:\Users\biocbuild\bbs-3.12-bioc\R\bin\R.exe CMD INSTALL --merge-multiarch --build --library=a4Classif.buildbin-libdir a4Classif_1.38.0.tar.gz
###
##############################################################################
##############################################################################



install for i386

* installing *source* package 'a4Classif' ...
** using staged installation
** R
** inst
** byte-compile and prepare package for lazy loading
** help
*** installing help indices
  converting help for package 'a4Classif'
    finding HTML links ... done
    ROCcurve                                html  
    lassoClass                              html  
    pamClass                                html  
    rfClass                                 html  
    topTable-pamClass-method                html  
    topTable-rfClass-method                 html  
** building package indices
** installing vignettes
** testing if installed package can be loaded from temporary location
** testing if installed package can be loaded from final location
** testing if installed package keeps a record of temporary installation path

install for x64

* installing *source* package 'a4Classif' ...
** testing if installed package can be loaded
* MD5 sums
packaged installation of 'a4Classif' as a4Classif_1.38.0.zip
* DONE (a4Classif)