Back to Multiple platform build/check report for BioC 3.12 |
|
This page was generated on 2021-05-06 12:34:03 -0400 (Thu, 06 May 2021).
To the developers/maintainers of the TSRchitect package: Please make sure to use the following settings in order to reproduce any error or warning you see on this page. |
Package 1908/1974 | Hostname | OS / Arch | INSTALL | BUILD | CHECK | BUILD BIN | ||||||||
TSRchitect 1.16.0 (landing page) R. Taylor Raborn
| malbec1 | Linux (Ubuntu 18.04.5 LTS) / x86_64 | OK | OK | WARNINGS | |||||||||
tokay1 | Windows Server 2012 R2 Standard / x64 | OK | OK | WARNINGS | OK | |||||||||
merida1 | macOS 10.14.6 Mojave / x86_64 | OK | OK | WARNINGS | OK | |||||||||
Package: TSRchitect |
Version: 1.16.0 |
Command: C:\cygwin\bin\curl.exe -O http://172.29.0.3/BBS/3.12/bioc/src/contrib/TSRchitect_1.16.0.tar.gz && rm -rf TSRchitect.buildbin-libdir && mkdir TSRchitect.buildbin-libdir && C:\Users\biocbuild\bbs-3.12-bioc\R\bin\R.exe CMD INSTALL --merge-multiarch --build --library=TSRchitect.buildbin-libdir TSRchitect_1.16.0.tar.gz && C:\Users\biocbuild\bbs-3.12-bioc\R\bin\R.exe CMD INSTALL TSRchitect_1.16.0.zip && rm TSRchitect_1.16.0.tar.gz TSRchitect_1.16.0.zip |
StartedAt: 2021-05-05 17:55:07 -0400 (Wed, 05 May 2021) |
EndedAt: 2021-05-05 17:57:01 -0400 (Wed, 05 May 2021) |
EllapsedTime: 114.0 seconds |
RetCode: 0 |
Status: OK |
############################################################################## ############################################################################## ### ### Running command: ### ### C:\cygwin\bin\curl.exe -O http://172.29.0.3/BBS/3.12/bioc/src/contrib/TSRchitect_1.16.0.tar.gz && rm -rf TSRchitect.buildbin-libdir && mkdir TSRchitect.buildbin-libdir && C:\Users\biocbuild\bbs-3.12-bioc\R\bin\R.exe CMD INSTALL --merge-multiarch --build --library=TSRchitect.buildbin-libdir TSRchitect_1.16.0.tar.gz && C:\Users\biocbuild\bbs-3.12-bioc\R\bin\R.exe CMD INSTALL TSRchitect_1.16.0.zip && rm TSRchitect_1.16.0.tar.gz TSRchitect_1.16.0.zip ### ############################################################################## ############################################################################## % Total % Received % Xferd Average Speed Time Time Time Current Dload Upload Total Spent Left Speed 0 0 0 0 0 0 0 0 --:--:-- --:--:-- --:--:-- 0 100 872k 100 872k 0 0 3561k 0 --:--:-- --:--:-- --:--:-- 3575k install for i386 * installing *source* package 'TSRchitect' ... ** using staged installation ** R ** demo ** inst ** byte-compile and prepare package for lazy loading ** help *** installing help indices converting help for package 'TSRchitect' finding HTML links ... done TSRchitectUsersGuide html TSRmshapeIndex html TSRshapeIndex html addAnnotationToTSR-methods html finding level-2 HTML links ... done addTagCountsToTSR-methods html bedToTSS-methods html createSummarizedExperiment-methods html detTSR-methods html determineTSR-methods html getBamDataFirstRead-methods html getBamDataLastRead-methods html getFileNames-methods html getTSRdata-methods html getTSScountData-methods html getTSStagData-methods html getTitle-methods html gsq2bed-methods html importAnnotationExternal-methods html importAnnotationHub-methods html inputToTSS-methods html loadTSSobj-methods html makeGRangesFromTSR-methods html mergeSampleData-methods html prcTSS html processTSS-methods html tagCountTSS html tsrCluster html tssArrayProperties html tssObject html writeTSR-methods html writeTSS-methods html ** building package indices ** installing vignettes 'TSRchitect.Rmd' using 'UTF-8' 'TSRchitectUsersGuide.Rmd' using 'UTF-8' ** testing if installed package can be loaded from temporary location ** testing if installed package can be loaded from final location ** testing if installed package keeps a record of temporary installation path install for x64 * installing *source* package 'TSRchitect' ... ** testing if installed package can be loaded * MD5 sums packaged installation of 'TSRchitect' as TSRchitect_1.16.0.zip * DONE (TSRchitect) * installing to library 'C:/Users/biocbuild/bbs-3.12-bioc/R/library' package 'TSRchitect' successfully unpacked and MD5 sums checked