Back to Multiple platform build/check report for BioC 3.12 |
|
This page was generated on 2021-05-06 12:34:37 -0400 (Thu, 06 May 2021).
To the developers/maintainers of the Cormotif package: Please make sure to use the following settings in order to reproduce any error or warning you see on this page. |
Package 380/1974 | Hostname | OS / Arch | INSTALL | BUILD | CHECK | BUILD BIN | ||||||||
Cormotif 1.36.0 (landing page) Yingying Wei
| malbec1 | Linux (Ubuntu 18.04.5 LTS) / x86_64 | OK | OK | OK | |||||||||
tokay1 | Windows Server 2012 R2 Standard / x64 | OK | OK | OK | OK | |||||||||
merida1 | macOS 10.14.6 Mojave / x86_64 | OK | OK | OK | OK | |||||||||
Package: Cormotif |
Version: 1.36.0 |
Command: rm -rf Cormotif.buildbin-libdir && mkdir Cormotif.buildbin-libdir && /Users/biocbuild/BBS/utils/build-universal.sh Cormotif_1.36.0.tar.gz /Library/Frameworks/R.framework/Versions/Current/Resources/bin/R Cormotif.buildbin-libdir |
StartedAt: 2021-05-06 08:18:31 -0400 (Thu, 06 May 2021) |
EndedAt: 2021-05-06 08:19:19 -0400 (Thu, 06 May 2021) |
EllapsedTime: 47.7 seconds |
RetCode: 0 |
Status: OK |
PackageFile: Cormotif_1.36.0.tgz |
PackageFileSize: 360.1 KiB |
############################################################################## ############################################################################## ### ### Running command: ### ### rm -rf Cormotif.buildbin-libdir && mkdir Cormotif.buildbin-libdir && /Users/biocbuild/BBS/utils/build-universal.sh Cormotif_1.36.0.tar.gz /Library/Frameworks/R.framework/Versions/Current/Resources/bin/R Cormotif.buildbin-libdir ### ############################################################################## ############################################################################## >>>>>>> >>>>>>> INSTALLATION WITH 'R CMD INSTALL --preclean --no-multiarch --library=Cormotif.buildbin-libdir Cormotif_1.36.0.tar.gz' >>>>>>> * installing *source* package ‘Cormotif’ ... ** using staged installation ** R ** data ** inst ** byte-compile and prepare package for lazy loading ** help *** installing help indices ** building package indices ** installing vignettes ** testing if installed package can be loaded from temporary location ** testing if installed package can be loaded from final location ** testing if installed package keeps a record of temporary installation path * DONE (Cormotif)