Back to Multiple platform build/check report for BioC 3.12 |
|
This page was generated on 2021-05-06 12:30:01 -0400 (Thu, 06 May 2021).
To the developers/maintainers of the BiocParallel package: Please make sure to use the following settings in order to reproduce any error or warning you see on this page. |
Package 166/1974 | Hostname | OS / Arch | INSTALL | BUILD | CHECK | BUILD BIN | ||||||||
BiocParallel 1.24.1 (landing page) Bioconductor Package Maintainer
| malbec1 | Linux (Ubuntu 18.04.5 LTS) / x86_64 | OK | OK | OK | |||||||||
tokay1 | Windows Server 2012 R2 Standard / x64 | OK | OK | OK | OK | |||||||||
merida1 | macOS 10.14.6 Mojave / x86_64 | OK | OK | OK | OK | |||||||||
Package: BiocParallel |
Version: 1.24.1 |
Command: chmod a+r BiocParallel -R && C:\Users\biocbuild\bbs-3.12-bioc\R\bin\R.exe CMD build --keep-empty-dirs --no-resave-data BiocParallel |
StartedAt: 2021-05-05 19:53:10 -0400 (Wed, 05 May 2021) |
EndedAt: 2021-05-05 19:54:58 -0400 (Wed, 05 May 2021) |
EllapsedTime: 107.7 seconds |
RetCode: 0 |
Status: OK |
PackageFile: BiocParallel_1.24.1.tar.gz |
PackageFileSize: 914.4 KiB |
############################################################################## ############################################################################## ### ### Running command: ### ### chmod a+r BiocParallel -R && C:\Users\biocbuild\bbs-3.12-bioc\R\bin\R.exe CMD build --keep-empty-dirs --no-resave-data BiocParallel ### ############################################################################## ############################################################################## * checking for file 'BiocParallel/DESCRIPTION' ... OK * preparing 'BiocParallel': * checking DESCRIPTION meta-information ... OK * cleaning src * installing the package to process help pages * building the PDF package manual Hmm ... looks like a package Converting Rd files to LaTeX .. Creating pdf output from LaTeX ... Saving output to 'C:/Users/biocbuild/bbs-3.12-bioc/tmpdir/RtmpIFH17u/Rbuild29302185b6/BiocParallel/build/BiocParallel.pdf' ... Done * creating vignettes ... OK * cleaning src * checking for LF line-endings in source and make files and shell scripts * checking for empty or unneeded directories * building 'BiocParallel_1.24.1.tar.gz' Warning: file 'BiocParallel/cleanup' did not have execute permissions: corrected Warning: file 'BiocParallel/configure' did not have execute permissions: corrected