Back to Multiple platform build/check report for BioC 3.12
A[B]CDEFGHIJKLMNOPQRSTUVWXYZ

BUILD report for BayesSpace on merida1

This page was generated on 2020-11-26 12:23:29 -0500 (Thu, 26 Nov 2020).

TO THE DEVELOPERS/MAINTAINERS OF THE BayesSpace PACKAGE: Please make sure to use the following settings in order to reproduce any error or warning you see on this page.
Package 126/1974HostnameOS / ArchINSTALLBUILDCHECKBUILD BIN
BayesSpace 1.0.0
Matt Stone
Snapshot Date: 2020-11-25 14:42:33 -0500 (Wed, 25 Nov 2020)
URL: https://git.bioconductor.org/packages/BayesSpace
Branch: RELEASE_3_12
Last Commit: 6398aec
Last Changed Date: 2020-10-27 12:02:12 -0500 (Tue, 27 Oct 2020)
malbec1 Linux (Ubuntu 18.04.4 LTS) / x86_64  OK  OK  OK UNNEEDED, same version exists in internal repository
nebbiolo1 Linux (Ubuntu 20.04.1 LTS) / x86_64  OK  OK  OK 
tokay1 Windows Server 2012 R2 Standard / x64  OK  OK  OK  OK UNNEEDED, same version exists in internal repository
merida1 macOS 10.14.6 Mojave / x86_64  OK [ OK ] OK  OK UNNEEDED, same version exists in internal repository

Summary

Package: BayesSpace
Version: 1.0.0
Command: /Library/Frameworks/R.framework/Versions/Current/Resources/bin/R CMD build --keep-empty-dirs --no-resave-data BayesSpace
StartedAt: 2020-11-25 18:19:38 -0500 (Wed, 25 Nov 2020)
EndedAt: 2020-11-25 18:22:52 -0500 (Wed, 25 Nov 2020)
EllapsedTime: 193.9 seconds
RetCode: 0
Status:  OK 
PackageFile: BayesSpace_1.0.0.tar.gz
PackageFileSize: 910.6 KiB

Command output

##############################################################################
##############################################################################
###
### Running command:
###
###   /Library/Frameworks/R.framework/Versions/Current/Resources/bin/R CMD build --keep-empty-dirs --no-resave-data BayesSpace
###
##############################################################################
##############################################################################


* checking for file ‘BayesSpace/DESCRIPTION’ ... OK
* preparing ‘BayesSpace’:
* checking DESCRIPTION meta-information ... OK
* cleaning src
* installing the package to build vignettes
* creating vignettes ... OK
* cleaning src
* checking for LF line-endings in source and make files and shell scripts
* checking for empty or unneeded directories
* building ‘BayesSpace_1.0.0.tar.gz’