Back to Multiple platform build/check report for BioC 3.12
A[B]CDEFGHIJKLMNOPQRSTUVWXYZ

INSTALL report for BadRegionFinder on tokay1

This page was generated on 2020-10-01 10:53:30 -0400 (Thu, 01 Oct 2020).

TO THE DEVELOPERS/MAINTAINERS OF THE BadRegionFinder PACKAGE: Please make sure to use the following settings in order to reproduce any error or warning you see on this page.
Package 104/1923HostnameOS / ArchINSTALLBUILDCHECKBUILD BIN
BadRegionFinder 1.17.0
Sarah Sandmann
Snapshot Date: 2020-09-30 14:42:00 -0400 (Wed, 30 Sep 2020)
URL: https://git.bioconductor.org/packages/BadRegionFinder
Branch: master
Last Commit: 5297ff3
Last Changed Date: 2020-04-27 14:56:28 -0400 (Mon, 27 Apr 2020)
malbec1 Linux (Ubuntu 18.04.4 LTS) / x86_64  OK  OK  OK UNNEEDED, same version exists in internal repository
nebbiolo1 Linux (Ubuntu 20.04.1 LTS) / x86_64  OK  OK  OK 
tokay1 Windows Server 2012 R2 Standard / x64 [ OK ] OK  OK  OK UNNEEDED, same version exists in internal repository
riesling1 Windows Server 2019 Standard / x64  OK  OK  OK  OK 
merida1 macOS 10.14.6 Mojave / x86_64  OK  OK  OK  NA 

Summary

Package: BadRegionFinder
Version: 1.17.0
Command: C:\cygwin\bin\curl.exe -O https://malbec1.bioconductor.org/BBS/3.12/bioc/src/contrib/BadRegionFinder_1.17.0.tar.gz && rm -rf BadRegionFinder.buildbin-libdir && mkdir BadRegionFinder.buildbin-libdir && C:\Users\biocbuild\bbs-3.12-bioc\R\bin\R.exe CMD INSTALL --merge-multiarch --build --library=BadRegionFinder.buildbin-libdir BadRegionFinder_1.17.0.tar.gz && C:\Users\biocbuild\bbs-3.12-bioc\R\bin\R.exe CMD INSTALL BadRegionFinder_1.17.0.zip && rm BadRegionFinder_1.17.0.tar.gz BadRegionFinder_1.17.0.zip
StartedAt: 2020-09-30 18:10:25 -0400 (Wed, 30 Sep 2020)
EndedAt: 2020-09-30 18:11:28 -0400 (Wed, 30 Sep 2020)
EllapsedTime: 63.4 seconds
RetCode: 0
Status:  OK  

Command output

##############################################################################
##############################################################################
###
### Running command:
###
###   C:\cygwin\bin\curl.exe -O https://malbec1.bioconductor.org/BBS/3.12/bioc/src/contrib/BadRegionFinder_1.17.0.tar.gz && rm -rf BadRegionFinder.buildbin-libdir && mkdir BadRegionFinder.buildbin-libdir && C:\Users\biocbuild\bbs-3.12-bioc\R\bin\R.exe CMD INSTALL --merge-multiarch --build --library=BadRegionFinder.buildbin-libdir BadRegionFinder_1.17.0.tar.gz && C:\Users\biocbuild\bbs-3.12-bioc\R\bin\R.exe CMD INSTALL BadRegionFinder_1.17.0.zip && rm BadRegionFinder_1.17.0.tar.gz BadRegionFinder_1.17.0.zip
###
##############################################################################
##############################################################################


  % Total    % Received % Xferd  Average Speed   Time    Time     Time  Current
                                 Dload  Upload   Total   Spent    Left  Speed

  0     0    0     0    0     0      0      0 --:--:-- --:--:-- --:--:--     0
100  565k  100  565k    0     0  8825k      0 --:--:-- --:--:-- --:--:-- 9430k

install for i386

* installing *source* package 'BadRegionFinder' ...
** using staged installation
** R
** inst
** byte-compile and prepare package for lazy loading
** help
*** installing help indices
  converting help for package 'BadRegionFinder'
    finding HTML links ... done
    BadRegionFinder-package                 html  
    determineCoverage                       html  
    determineCoverageQuality                html  
    determineQuantiles                      html  
    determineRegionsOfInterest              html  
    plotDetailed                            html  
    plotSummary                             html  
    plotSummaryGenes                        html  
    reportBadRegionsDetailed                html  
    reportBadRegionsGenes                   html  
    reportBadRegionsSummary                 html  
** building package indices
** installing vignettes
** testing if installed package can be loaded from temporary location
** testing if installed package can be loaded from final location
** testing if installed package keeps a record of temporary installation path

install for x64

* installing *source* package 'BadRegionFinder' ...
** testing if installed package can be loaded
* MD5 sums
packaged installation of 'BadRegionFinder' as BadRegionFinder_1.17.0.zip
* DONE (BadRegionFinder)
* installing to library 'C:/Users/biocbuild/bbs-3.12-bioc/R/library'
package 'BadRegionFinder' successfully unpacked and MD5 sums checked