Back to Multiple platform build/check report for BioC 3.12
A[B]CDEFGHIJKLMNOPQRSTUVWXYZ

BUILD report for BRAIN on malbec1

This page was generated on 2020-09-27 10:11:51 -0400 (Sun, 27 Sep 2020).

TO THE DEVELOPERS/MAINTAINERS OF THE BRAIN PACKAGE: Please make sure to use the following settings in order to reproduce any error or warning you see on this page.
Package 193/1923HostnameOS / ArchINSTALLBUILDCHECKBUILD BIN
BRAIN 1.35.0
Piotr Dittwald
Snapshot Date: 2020-09-26 14:42:06 -0400 (Sat, 26 Sep 2020)
URL: https://git.bioconductor.org/packages/BRAIN
Branch: master
Last Commit: cf2d9e9
Last Changed Date: 2020-04-27 14:28:46 -0400 (Mon, 27 Apr 2020)
malbec1 Linux (Ubuntu 18.04.4 LTS) / x86_64  OK [ OK ] WARNINGS UNNEEDED, same version exists in internal repository
nebbiolo1 Linux (Ubuntu 20.04.1 LTS) / x86_64  OK  OK  WARNINGS 
tokay1 Windows Server 2012 R2 Standard / x64  OK  OK  WARNINGS  OK UNNEEDED, same version exists in internal repository
riesling1 Windows Server 2019 Standard / x64  OK  OK  WARNINGS  OK 
merida1 macOS 10.14.6 Mojave / x86_64  OK  OK  WARNINGS  OK UNNEEDED, same version exists in internal repository

Summary

Package: BRAIN
Version: 1.35.0
Command: /home/biocbuild/bbs-3.12-bioc/R/bin/R CMD build --keep-empty-dirs --no-resave-data BRAIN
StartedAt: 2020-09-26 18:29:37 -0400 (Sat, 26 Sep 2020)
EndedAt: 2020-09-26 18:30:00 -0400 (Sat, 26 Sep 2020)
EllapsedTime: 23.0 seconds
RetCode: 0
Status:  OK 
PackageFile: BRAIN_1.35.0.tar.gz
PackageFileSize: 1.932 MiB

Command output

##############################################################################
##############################################################################
###
### Running command:
###
###   /home/biocbuild/bbs-3.12-bioc/R/bin/R CMD build --keep-empty-dirs --no-resave-data BRAIN
###
##############################################################################
##############################################################################


* checking for file ‘BRAIN/DESCRIPTION’ ... OK
* preparing ‘BRAIN’:
* checking DESCRIPTION meta-information ... OK
* installing the package to build vignettes
* creating vignettes ... OK
* checking for LF line-endings in source and make files and shell scripts
* checking for empty or unneeded directories
* building ‘BRAIN_1.35.0.tar.gz’