Back to Multiple platform build/check report for BioC 3.12
[A]BCDEFGHIJKLMNOPQRSTUVWXYZ

CHECK report for ArrayTools on merida1

This page was generated on 2020-11-27 11:59:20 -0500 (Fri, 27 Nov 2020).

TO THE DEVELOPERS/MAINTAINERS OF THE ArrayTools PACKAGE: Please make sure to use the following settings in order to reproduce any error or warning you see on this page.
Package 86/1974HostnameOS / ArchINSTALLBUILDCHECKBUILD BIN
ArrayTools 1.50.0
Arthur Li
Snapshot Date: 2020-11-26 14:42:42 -0500 (Thu, 26 Nov 2020)
URL: https://git.bioconductor.org/packages/ArrayTools
Branch: RELEASE_3_12
Last Commit: 01c515f
Last Changed Date: 2020-10-27 10:34:24 -0500 (Tue, 27 Oct 2020)
malbec1 Linux (Ubuntu 18.04.4 LTS) / x86_64  OK  OK  OK UNNEEDED, same version exists in internal repository
nebbiolo1 Linux (Ubuntu 20.04.1 LTS) / x86_64  OK  OK  OK 
tokay1 Windows Server 2012 R2 Standard / x64  OK  OK  OK  OK UNNEEDED, same version exists in internal repository
merida1 macOS 10.14.6 Mojave / x86_64  OK  OK [ OK ] OK UNNEEDED, same version exists in internal repository

Summary

Package: ArrayTools
Version: 1.50.0
Command: /Library/Frameworks/R.framework/Versions/Current/Resources/bin/R CMD check --install=check:ArrayTools.install-out.txt --library=/Library/Frameworks/R.framework/Versions/Current/Resources/library --no-vignettes --timings ArrayTools_1.50.0.tar.gz
StartedAt: 2020-11-26 23:12:15 -0500 (Thu, 26 Nov 2020)
EndedAt: 2020-11-26 23:13:31 -0500 (Thu, 26 Nov 2020)
EllapsedTime: 76.1 seconds
RetCode: 0
Status:  OK 
CheckDir: ArrayTools.Rcheck
Warnings: 0

Command output

##############################################################################
##############################################################################
###
### Running command:
###
###   /Library/Frameworks/R.framework/Versions/Current/Resources/bin/R CMD check --install=check:ArrayTools.install-out.txt --library=/Library/Frameworks/R.framework/Versions/Current/Resources/library --no-vignettes --timings ArrayTools_1.50.0.tar.gz
###
##############################################################################
##############################################################################


* using log directory ‘/Users/biocbuild/bbs-3.12-bioc/meat/ArrayTools.Rcheck’
* using R version 4.0.3 (2020-10-10)
* using platform: x86_64-apple-darwin17.0 (64-bit)
* using session charset: UTF-8
* using option ‘--no-vignettes’
* checking for file ‘ArrayTools/DESCRIPTION’ ... OK
* checking extension type ... Package
* this is package ‘ArrayTools’ version ‘1.50.0’
* checking package namespace information ... OK
* checking package dependencies ... OK
* checking if this is a source package ... OK
* checking if there is a namespace ... OK
* checking for hidden files and directories ... OK
* checking for portable file names ... OK
* checking for sufficient/correct file permissions ... OK
* checking whether package ‘ArrayTools’ can be installed ... OK
* checking installed package size ... OK
* checking package directory ... OK
* checking ‘build’ directory ... OK
* checking DESCRIPTION meta-information ... NOTE
Packages listed in more than one of Depends, Imports, Suggests, Enhances:
  ‘affy’ ‘Biobase’ ‘methods’
A package should be listed in only one of these fields.
* checking top-level files ... OK
* checking for left-over files ... OK
* checking index information ... OK
* checking package subdirectories ... OK
* checking R files for non-ASCII characters ... OK
* checking R files for syntax errors ... OK
* checking whether the package can be loaded ... OK
* checking whether the package can be loaded with stated dependencies ... OK
* checking whether the package can be unloaded cleanly ... OK
* checking whether the namespace can be loaded with stated dependencies ... OK
* checking whether the namespace can be unloaded cleanly ... OK
* checking dependencies in R code ... NOTE
'library' or 'require' calls in package code:
  ‘R2HTML’ ‘affyPLM’ ‘annaffy’ ‘gcrma’ ‘simpleaffy’
  Please use :: or requireNamespace() instead.
  See section 'Suggested packages' in the 'Writing R Extensions' manual.
* checking S3 generic/method consistency ... OK
* checking replacement functions ... OK
* checking foreign function calls ... OK
* checking R code for possible problems ... NOTE
createIndex: no visible global function definition for ‘HTMLStart’
createIndex: no visible global function definition for ‘as.title’
createIndex: no visible global function definition for ‘HTML’
createIndex: no visible global function definition for ‘HTMLStop’
geneFilter: no visible global function definition for ‘getText’
geneFilter: no visible global function definition for ‘aafSymbol’
geneFilter: no visible global function definition for ‘aafDescription’
geneFilter: no visible global function definition for ‘aafChromosome’
geneFilter: no visible global function definition for ‘aafGenBank’
geneFilter: no visible global function definition for ‘aafCytoband’
geneFilter: no visible global function definition for ‘aafUniGene’
geneFilter: no visible global function definition for ‘aafPubMed’
geneFilter: no visible global function definition for ‘aafLocusLink’
output.ing: no visible global function definition for ‘getText’
output.ing: no visible global function definition for ‘aafSymbol’
output.ing: no visible global function definition for ‘aafDescription’
output.ing: no visible global function definition for ‘aafChromosome’
output.ing: no visible global function definition for ‘aafGenBank’
output.ing: no visible global function definition for ‘aafCytoband’
output.ing: no visible global function definition for ‘aafUniGene’
output.ing: no visible global function definition for ‘aafPubMed’
output.ing: no visible global function definition for ‘aafLocusLink’
preProcess3prime: no visible global function definition for ‘gcrma’
preProcess3prime: no visible global function definition for ‘getText’
preProcess3prime: no visible global function definition for ‘aafSymbol’
preProcess3prime: no visible global function definition for
  ‘aafDescription’
preProcess3prime: no visible global function definition for
  ‘aafChromosome’
preProcess3prime: no visible global function definition for
  ‘aafGenBank’
preProcess3prime: no visible global function definition for
  ‘aafCytoband’
preProcess3prime: no visible global function definition for
  ‘aafUniGene’
preProcess3prime: no visible global function definition for ‘aafPubMed’
preProcess3prime: no visible global function definition for
  ‘aafLocusLink’
preProcessGeneST: no visible binding for global variable
  ‘hugene10stCONTROL’
preProcessGeneST: no visible binding for global variable
  ‘mogene10stCONTROL’
preProcessGeneST: no visible global function definition for ‘getText’
preProcessGeneST: no visible global function definition for ‘aafSymbol’
preProcessGeneST: no visible global function definition for
  ‘aafDescription’
preProcessGeneST: no visible global function definition for
  ‘aafChromosome’
preProcessGeneST: no visible global function definition for
  ‘aafGenBank’
preProcessGeneST: no visible global function definition for
  ‘aafCytoband’
preProcessGeneST: no visible global function definition for
  ‘aafUniGene’
preProcessGeneST: no visible global function definition for ‘aafPubMed’
preProcessGeneST: no visible global function definition for
  ‘aafLocusLink’
qa3prime: no visible global function definition for ‘setQCEnvironment’
qa3prime: no visible global function definition for ‘qc.get.alpha1’
qa3prime: no visible global function definition for ‘HTMLStart’
qa3prime: no visible global function definition for ‘as.title’
qa3prime: no visible global function definition for ‘HTML’
qa3prime: no visible global function definition for ‘HTMLInsertGraph’
qa3prime: no visible global function definition for ‘call.exprs’
qa3prime: no visible global function definition for ‘avbg’
qa3prime: no visible global function definition for ‘percent.present’
qa3prime: no visible global function definition for ‘sfs’
qa3prime: no visible global function definition for ‘spikeInProbes’
qa3prime: no visible global function definition for ‘ratios’
qa3prime: no visible global function definition for ‘fitPLM’
qa3prime: no visible global function definition for ‘HTMLStop’
qaGeneST: no visible global function definition for ‘HTMLStart’
qaGeneST: no visible global function definition for ‘as.title’
qaGeneST: no visible global function definition for ‘HTML’
qaGeneST: no visible global function definition for ‘HTMLInsertGraph’
qaGeneST: no visible global function definition for ‘HTMLStop’
regress: no visible global function definition for ‘permute.1’
regress: no visible binding for global variable ‘design’
Output2HTML,interactionResult: no visible global function definition
  for ‘aaf.handler’
Output2HTML,interactionResult: no visible global function definition
  for ‘aafTableAnn’
Output2HTML,interactionResult: no visible global function definition
  for ‘aafTable’
Output2HTML,interactionResult: no visible global function definition
  for ‘saveHTML’
Output2HTML,regressResult: no visible global function definition for
  ‘aaf.handler’
Output2HTML,regressResult: no visible global function definition for
  ‘aafTableAnn’
Output2HTML,regressResult: no visible global function definition for
  ‘aafTable’
Output2HTML,regressResult: no visible global function definition for
  ‘saveHTML’
Undefined global functions or variables:
  HTML HTMLInsertGraph HTMLStart HTMLStop aaf.handler aafChromosome
  aafCytoband aafDescription aafGenBank aafLocusLink aafPubMed
  aafSymbol aafTable aafTableAnn aafUniGene as.title avbg call.exprs
  design fitPLM gcrma getText hugene10stCONTROL mogene10stCONTROL
  percent.present permute.1 qc.get.alpha1 ratios saveHTML
  setQCEnvironment sfs spikeInProbes
* checking Rd files ... OK
* checking Rd metadata ... OK
* checking Rd cross-references ... OK
* checking for missing documentation entries ... OK
* checking for code/documentation mismatches ... OK
* checking Rd \usage sections ... OK
* checking Rd contents ... OK
* checking for unstated dependencies in examples ... OK
* checking contents of ‘data’ directory ... OK
* checking data for non-ASCII characters ... OK
* checking data for ASCII and uncompressed saves ... OK
* checking sizes of PDF files under ‘inst/doc’ ... OK
* checking files in ‘vignettes’ ... OK
* checking examples ... OK
Examples with CPU (user + system) or elapsed time > 5s
            user system elapsed
geneFilter 5.073    0.2   5.278
* checking for unstated dependencies in vignettes ... OK
* checking package vignettes in ‘inst/doc’ ... OK
* checking running R code from vignettes ... SKIPPED
* checking re-building of vignette outputs ... SKIPPED
* checking PDF version of manual ... OK
* DONE

Status: 3 NOTEs
See
  ‘/Users/biocbuild/bbs-3.12-bioc/meat/ArrayTools.Rcheck/00check.log’
for details.



Installation output

ArrayTools.Rcheck/00install.out

##############################################################################
##############################################################################
###
### Running command:
###
###   /Library/Frameworks/R.framework/Versions/Current/Resources/bin/R CMD INSTALL ArrayTools
###
##############################################################################
##############################################################################


* installing to library ‘/Library/Frameworks/R.framework/Versions/4.0/Resources/library’
* installing *source* package ‘ArrayTools’ ...
** using staged installation
** R
** data
** byte-compile and prepare package for lazy loading
** help
*** installing help indices
** building package indices
** installing vignettes
** testing if installed package can be loaded from temporary location
** testing if installed package can be loaded from final location
** testing if installed package keeps a record of temporary installation path
* DONE (ArrayTools)

Tests output


Example timings

ArrayTools.Rcheck/ArrayTools-Ex.timings

nameusersystemelapsed
Output2HTML0.1490.0100.159
QC0.0020.0010.002
Sort0.0890.0030.092
contrastMatrix-class0.0360.0060.042
createExpressionSet0.0850.0050.089
createGSEAFiles0.0050.0020.008
createIndex0.1380.0050.143
createIngenuityFile0.0190.0030.021
designMatrix-class0.0130.0030.016
eSetExample0.0040.0020.006
exprsExample0.0020.0020.004
geneFilter5.0730.2005.278
interactionResult-class0.0930.0040.096
pDataExample0.0010.0020.003
postInteraction0.0850.0040.088
preProcess3prime2.5080.0642.575
preProcessGeneST0.0170.0020.019
qa3prime000
qaGeneST0.0140.0040.018
regress0.0140.0020.015
regressResult-class0.0140.0020.015
selectSigGene0.0160.0020.018
selectSigGeneInt0.0930.0030.095