Back to Multiple platform build/check report for BioC 3.12
[A]BCDEFGHIJKLMNOPQRSTUVWXYZ

BUILD report for AnnotationDbi on tokay1

This page was generated on 2021-01-17 11:52:36 -0500 (Sun, 17 Jan 2021).

TO THE DEVELOPERS/MAINTAINERS OF THE AnnotationDbi PACKAGE: Please make sure to use the following settings in order to reproduce any error or warning you see on this page.
Package 62/1974HostnameOS / ArchINSTALLBUILDCHECKBUILD BIN
AnnotationDbi 1.52.0
Bioconductor Package Maintainer
Snapshot Date: 2021-01-16 14:41:12 -0500 (Sat, 16 Jan 2021)
URL: https://git.bioconductor.org/packages/AnnotationDbi
Branch: RELEASE_3_12
Last Commit: c4e0ca9
Last Changed Date: 2020-10-27 10:29:55 -0500 (Tue, 27 Oct 2020)
malbec1 Linux (Ubuntu 18.04.5 LTS) / x86_64  OK  OK  OK UNNEEDED, same version exists in internal repository
nebbiolo1 Linux (Ubuntu 20.04.1 LTS) / x86_64  OK  OK  OK 
tokay1 Windows Server 2012 R2 Standard / x64  OK [ OK ] OK  OK UNNEEDED, same version exists in internal repository
merida1 macOS 10.14.6 Mojave / x86_64  OK  OK  OK  OK UNNEEDED, same version exists in internal repository

Summary

Package: AnnotationDbi
Version: 1.52.0
Command: chmod a+r AnnotationDbi -R && C:\Users\biocbuild\bbs-3.12-bioc\R\bin\R.exe CMD build --keep-empty-dirs --no-resave-data AnnotationDbi
StartedAt: 2021-01-16 19:28:34 -0500 (Sat, 16 Jan 2021)
EndedAt: 2021-01-16 19:31:34 -0500 (Sat, 16 Jan 2021)
EllapsedTime: 179.1 seconds
RetCode: 0
Status:  OK  
PackageFile: AnnotationDbi_1.52.0.tar.gz
PackageFileSize: 4.139 MiB

Command output

##############################################################################
##############################################################################
###
### Running command:
###
###   chmod a+r AnnotationDbi -R && C:\Users\biocbuild\bbs-3.12-bioc\R\bin\R.exe CMD build --keep-empty-dirs --no-resave-data AnnotationDbi
###
##############################################################################
##############################################################################


* checking for file 'AnnotationDbi/DESCRIPTION' ... OK
* preparing 'AnnotationDbi':
* checking DESCRIPTION meta-information ... OK
* installing the package to build vignettes
* creating vignettes ... OK
* checking for LF line-endings in source and make files and shell scripts
* checking for empty or unneeded directories
* building 'AnnotationDbi_1.52.0.tar.gz'