Back to Multiple platform build/check report for BioC 3.12
[A]BCDEFGHIJKLMNOPQRSTUVWXYZ

BUILD report for AnVIL on merida1

This page was generated on 2020-09-28 11:32:10 -0400 (Mon, 28 Sep 2020).

TO THE DEVELOPERS/MAINTAINERS OF THE AnVIL PACKAGE: Please make sure to use the following settings in order to reproduce any error or warning you see on this page.
Package 70/1923HostnameOS / ArchINSTALLBUILDCHECKBUILD BIN
AnVIL 1.1.18
Martin Morgan
Snapshot Date: 2020-09-27 14:41:58 -0400 (Sun, 27 Sep 2020)
URL: https://git.bioconductor.org/packages/AnVIL
Branch: master
Last Commit: 2cadfcb
Last Changed Date: 2020-09-27 04:09:35 -0400 (Sun, 27 Sep 2020)
malbec1 Linux (Ubuntu 18.04.4 LTS) / x86_64  OK  OK  OK YES, new version is higher than in internal repository
nebbiolo1 Linux (Ubuntu 20.04.1 LTS) / x86_64  OK  OK  OK 
tokay1 Windows Server 2012 R2 Standard / x64  OK  OK  OK  OK YES, new version is higher than in internal repository
riesling1 Windows Server 2019 Standard / x64  OK  OK  OK  OK 
merida1 macOS 10.14.6 Mojave / x86_64  OK [ OK ] OK  NA 

Summary

Package: AnVIL
Version: 1.1.18
Command: /Library/Frameworks/R.framework/Versions/Current/Resources/bin/R CMD build --keep-empty-dirs --no-resave-data AnVIL
StartedAt: 2020-09-27 22:44:25 -0400 (Sun, 27 Sep 2020)
EndedAt: 2020-09-27 22:44:37 -0400 (Sun, 27 Sep 2020)
EllapsedTime: 12.3 seconds
RetCode: 0
Status:  OK 
PackageFile: AnVIL_1.1.18.tar.gz
PackageFileSize: 810.2 KiB

Command output

##############################################################################
##############################################################################
###
### Running command:
###
###   /Library/Frameworks/R.framework/Versions/Current/Resources/bin/R CMD build --keep-empty-dirs --no-resave-data AnVIL
###
##############################################################################
##############################################################################


* checking for file ‘AnVIL/DESCRIPTION’ ... OK
* preparing ‘AnVIL’:
* checking DESCRIPTION meta-information ... OK
* installing the package to build vignettes
* creating vignettes ... OK
* checking for LF line-endings in source and make files and shell scripts
* checking for empty or unneeded directories
* building ‘AnVIL_1.1.18.tar.gz’