Back to Multiple platform build/check report for BioC 3.12
[A]BCDEFGHIJKLMNOPQRSTUVWXYZ

BUILD report for ASICS on tokay1

This page was generated on 2020-11-27 11:56:28 -0500 (Fri, 27 Nov 2020).

TO THE DEVELOPERS/MAINTAINERS OF THE ASICS PACKAGE: Please make sure to use the following settings in order to reproduce any error or warning you see on this page.
Package 93/1974HostnameOS / ArchINSTALLBUILDCHECKBUILD BIN
ASICS 2.6.1
Gaƫlle Lefort
Snapshot Date: 2020-11-26 14:42:42 -0500 (Thu, 26 Nov 2020)
URL: https://git.bioconductor.org/packages/ASICS
Branch: RELEASE_3_12
Last Commit: 2165d0b
Last Changed Date: 2020-10-28 05:58:26 -0500 (Wed, 28 Oct 2020)
malbec1 Linux (Ubuntu 18.04.4 LTS) / x86_64  OK  OK  OK UNNEEDED, same version exists in internal repository
nebbiolo1 Linux (Ubuntu 20.04.1 LTS) / x86_64  OK  OK  OK 
tokay1 Windows Server 2012 R2 Standard / x64  OK [ OK ] OK  OK UNNEEDED, same version exists in internal repository
merida1 macOS 10.14.6 Mojave / x86_64  OK  OK  OK  OK UNNEEDED, same version exists in internal repository

Summary

Package: ASICS
Version: 2.6.1
Command: chmod a+r ASICS -R && C:\Users\biocbuild\bbs-3.12-bioc\R\bin\R.exe CMD build --keep-empty-dirs --no-resave-data ASICS
StartedAt: 2020-11-26 19:35:40 -0500 (Thu, 26 Nov 2020)
EndedAt: 2020-11-26 19:38:30 -0500 (Thu, 26 Nov 2020)
EllapsedTime: 169.9 seconds
RetCode: 0
Status:  OK  
PackageFile: ASICS_2.6.1.tar.gz
PackageFileSize: 3.192 MiB

Command output

##############################################################################
##############################################################################
###
### Running command:
###
###   chmod a+r ASICS -R && C:\Users\biocbuild\bbs-3.12-bioc\R\bin\R.exe CMD build --keep-empty-dirs --no-resave-data ASICS
###
##############################################################################
##############################################################################


* checking for file 'ASICS/DESCRIPTION' ... OK
* preparing 'ASICS':
* checking DESCRIPTION meta-information ... OK
* installing the package to build vignettes
* creating vignettes ... OK
* checking for LF line-endings in source and make files and shell scripts
* checking for empty or unneeded directories
* building 'ASICS_2.6.1.tar.gz'