Back to Multiple platform build/check report for BioC 3.12
[A]BCDEFGHIJKLMNOPQRSTUVWXYZ

INSTALL report for ALPS on malbec1

This page was generated on 2020-11-26 12:12:42 -0500 (Thu, 26 Nov 2020).

TO THE DEVELOPERS/MAINTAINERS OF THE ALPS PACKAGE: Please make sure to use the following settings in order to reproduce any error or warning you see on this page.
Package 47/1974HostnameOS / ArchINSTALLBUILDCHECKBUILD BIN
ALPS 1.4.0
Venu Thatikonda
Snapshot Date: 2020-11-25 14:42:33 -0500 (Wed, 25 Nov 2020)
URL: https://git.bioconductor.org/packages/ALPS
Branch: RELEASE_3_12
Last Commit: efa0189
Last Changed Date: 2020-10-27 11:50:35 -0500 (Tue, 27 Oct 2020)
malbec1 Linux (Ubuntu 18.04.4 LTS) / x86_64 [ OK ] OK  OK UNNEEDED, same version exists in internal repository
nebbiolo1 Linux (Ubuntu 20.04.1 LTS) / x86_64  OK  OK  OK 
tokay1 Windows Server 2012 R2 Standard / x64  OK  OK  OK  OK UNNEEDED, same version exists in internal repository
merida1 macOS 10.14.6 Mojave / x86_64  OK  OK  OK  OK UNNEEDED, same version exists in internal repository

Summary

Package: ALPS
Version: 1.4.0
Command: /home/biocbuild/bbs-3.12-bioc/R/bin/R CMD INSTALL ALPS
StartedAt: 2020-11-25 17:31:11 -0500 (Wed, 25 Nov 2020)
EndedAt: 2020-11-25 17:32:57 -0500 (Wed, 25 Nov 2020)
EllapsedTime: 106.0 seconds
RetCode: 0
Status:  OK 

Command output

##############################################################################
##############################################################################
###
### Running command:
###
###   /home/biocbuild/bbs-3.12-bioc/R/bin/R CMD INSTALL ALPS
###
##############################################################################
##############################################################################


* installing to library ‘/home/biocbuild/bbs-3.12-bioc/R/library’
* installing *source* package ‘ALPS’ ...
** using staged installation
** R
** inst
** byte-compile and prepare package for lazy loading
** help
*** installing help indices
** building package indices
** installing vignettes
** testing if installed package can be loaded from temporary location
** testing if installed package can be loaded from final location
** testing if installed package keeps a record of temporary installation path
* DONE (ALPS)