Back to Multiple platform build/check report for BioC 3.12
[A]BCDEFGHIJKLMNOPQRSTUVWXYZ

BUILD report for ALDEx2 on tokay1

This page was generated on 2020-11-23 12:19:03 -0500 (Mon, 23 Nov 2020).

TO THE DEVELOPERS/MAINTAINERS OF THE ALDEx2 PACKAGE: Please make sure to use the following settings in order to reproduce any error or warning you see on this page.
Package 42/1974HostnameOS / ArchINSTALLBUILDCHECKBUILD BIN
ALDEx2 1.22.0
Greg Gloor
Snapshot Date: 2020-11-22 14:42:09 -0500 (Sun, 22 Nov 2020)
URL: https://git.bioconductor.org/packages/ALDEx2
Branch: RELEASE_3_12
Last Commit: ac7f0ab
Last Changed Date: 2020-10-27 10:59:20 -0500 (Tue, 27 Oct 2020)
malbec1 Linux (Ubuntu 18.04.4 LTS) / x86_64  OK  OK  OK UNNEEDED, same version exists in internal repository
nebbiolo1 Linux (Ubuntu 20.04.1 LTS) / x86_64  OK  OK  OK 
tokay1 Windows Server 2012 R2 Standard / x64  OK [ OK ] OK  OK UNNEEDED, same version exists in internal repository
merida1 macOS 10.14.6 Mojave / x86_64  OK  OK  OK  OK UNNEEDED, same version exists in internal repository

Summary

Package: ALDEx2
Version: 1.22.0
Command: chmod a+r ALDEx2 -R && C:\Users\biocbuild\bbs-3.12-bioc\R\bin\R.exe CMD build --keep-empty-dirs --no-resave-data ALDEx2
StartedAt: 2020-11-22 19:27:45 -0500 (Sun, 22 Nov 2020)
EndedAt: 2020-11-22 19:29:23 -0500 (Sun, 22 Nov 2020)
EllapsedTime: 98.3 seconds
RetCode: 0
Status:  OK  
PackageFile: ALDEx2_1.22.0.tar.gz
PackageFileSize: 1.325 MiB

Command output

##############################################################################
##############################################################################
###
### Running command:
###
###   chmod a+r ALDEx2 -R && C:\Users\biocbuild\bbs-3.12-bioc\R\bin\R.exe CMD build --keep-empty-dirs --no-resave-data ALDEx2
###
##############################################################################
##############################################################################


* checking for file 'ALDEx2/DESCRIPTION' ... OK
* preparing 'ALDEx2':
* checking DESCRIPTION meta-information ... OK
* installing the package to build vignettes
* creating vignettes ... OK
* checking for LF line-endings in source and make files and shell scripts
* checking for empty or unneeded directories
* looking to see if a 'data/datalist' file should be added
* building 'ALDEx2_1.22.0.tar.gz'