Back to Multiple platform build/check report for BioC 3.12
[A]BCDEFGHIJKLMNOPQRSTUVWXYZ

BUILD BIN report for ADAMgui on tokay1

This page was generated on 2020-11-26 12:19:04 -0500 (Thu, 26 Nov 2020).

TO THE DEVELOPERS/MAINTAINERS OF THE ADAMgui PACKAGE: Please make sure to use the following settings in order to reproduce any error or warning you see on this page.
Package 17/1974HostnameOS / ArchINSTALLBUILDCHECKBUILD BIN
ADAMgui 1.6.0
Jose Luiz Rybarczyk Filho
Snapshot Date: 2020-11-25 14:42:33 -0500 (Wed, 25 Nov 2020)
URL: https://git.bioconductor.org/packages/ADAMgui
Branch: RELEASE_3_12
Last Commit: 75782fe
Last Changed Date: 2020-10-27 11:45:19 -0500 (Tue, 27 Oct 2020)
malbec1 Linux (Ubuntu 18.04.4 LTS) / x86_64  OK  OK  OK UNNEEDED, same version exists in internal repository
nebbiolo1 Linux (Ubuntu 20.04.1 LTS) / x86_64  OK  OK  OK 
tokay1 Windows Server 2012 R2 Standard / x64  OK  OK  OK [ OK ]UNNEEDED, same version exists in internal repository
merida1 macOS 10.14.6 Mojave / x86_64  OK  OK  OK  OK UNNEEDED, same version exists in internal repository

Summary

Package: ADAMgui
Version: 1.6.0
Command: rm -rf ADAMgui.buildbin-libdir && mkdir ADAMgui.buildbin-libdir && C:\Users\biocbuild\bbs-3.12-bioc\R\bin\R.exe CMD INSTALL --merge-multiarch --build --library=ADAMgui.buildbin-libdir ADAMgui_1.6.0.tar.gz
StartedAt: 2020-11-26 08:40:42 -0500 (Thu, 26 Nov 2020)
EndedAt: 2020-11-26 08:41:33 -0500 (Thu, 26 Nov 2020)
EllapsedTime: 50.9 seconds
RetCode: 0
Status:  OK  
PackageFile: ADAMgui_1.6.0.zip
PackageFileSize: 1.108 MiB

Command output

##############################################################################
##############################################################################
###
### Running command:
###
###   rm -rf ADAMgui.buildbin-libdir && mkdir ADAMgui.buildbin-libdir && C:\Users\biocbuild\bbs-3.12-bioc\R\bin\R.exe CMD INSTALL --merge-multiarch --build --library=ADAMgui.buildbin-libdir ADAMgui_1.6.0.tar.gz
###
##############################################################################
##############################################################################



install for i386

* installing *source* package 'ADAMgui' ...
** using staged installation
** R
** data
** inst
** byte-compile and prepare package for lazy loading
** help
*** installing help indices
  converting help for package 'ADAMgui'
    finding HTML links ... done
    DiffAedes                               html  
    GFAGpathUi                              html  
    GFAGtargetUi                            html  
    GeneFunctionAedes                       html  
    ResultAnalysisAedes                     html  
** building package indices
** installing vignettes
** testing if installed package can be loaded from temporary location
** testing if installed package can be loaded from final location
** testing if installed package keeps a record of temporary installation path

install for x64

* installing *source* package 'ADAMgui' ...
** testing if installed package can be loaded
* MD5 sums
packaged installation of 'ADAMgui' as ADAMgui_1.6.0.zip
* DONE (ADAMgui)