RBGL 1.32.1 Bioconductor Package Maintainer
Snapshot Date: 2012-09-23 17:01:39 -0700 (Sun, 23 Sep 2012) | URL: https://hedgehog.fhcrc.org/bioconductor/branches/RELEASE_2_10/madman/Rpacks/RBGL | Last Changed Rev: 66825 / Revision: 69725 | Last Changed Date: 2012-06-19 05:56:24 -0700 (Tue, 19 Jun 2012) |
| lamb2 | Linux (openSUSE 11.4) / x86_64 | OK | [ OK ] | |
moscato2 | Windows Server 2008 R2 Enterprise SP1 (64-bit) / x64 | OK | OK | OK |
petty | Mac OS X Leopard (10.5.8) / i386 | OK | WARNINGS | OK |
* installing *source* package ‘RBGL’ ...
found rbgl_trimmed_boost_1_49_0 header sources and tar archive;\n using what is there.
** libs
g++ -I/home/biocbuild/bbs-2.10-bioc/R/include -DNDEBUG -I/usr/local/include -Irbgl_trimmed_boost_1_49_0 -fpic -g -O2 -Wall -c bbc.cpp -o bbc.o
g++ -I/home/biocbuild/bbs-2.10-bioc/R/include -DNDEBUG -I/usr/local/include -Irbgl_trimmed_boost_1_49_0 -fpic -g -O2 -Wall -c cliques.cpp -o cliques.o
g++ -I/home/biocbuild/bbs-2.10-bioc/R/include -DNDEBUG -I/usr/local/include -Irbgl_trimmed_boost_1_49_0 -fpic -g -O2 -Wall -c clusteringCoef.cpp -o clusteringCoef.o
clusteringCoef.cpp: In function ‘SEXPREC* graphGenerator(SEXPREC*, SEXPREC*, SEXPREC*)’:
clusteringCoef.cpp:394:40: warning: ‘u’ may be used uninitialized in this function
g++ -I/home/biocbuild/bbs-2.10-bioc/R/include -DNDEBUG -I/usr/local/include -Irbgl_trimmed_boost_1_49_0 -fpic -g -O2 -Wall -c dominatorTree.cpp -o dominatorTree.o
g++ -I/home/biocbuild/bbs-2.10-bioc/R/include -DNDEBUG -I/usr/local/include -Irbgl_trimmed_boost_1_49_0 -fpic -g -O2 -Wall -c edmonds_optimum_branching.cpp -o edmonds_optimum_branching.o
g++ -I/home/biocbuild/bbs-2.10-bioc/R/include -DNDEBUG -I/usr/local/include -Irbgl_trimmed_boost_1_49_0 -fpic -g -O2 -Wall -c hcs.cpp -o hcs.o
g++ -I/home/biocbuild/bbs-2.10-bioc/R/include -DNDEBUG -I/usr/local/include -Irbgl_trimmed_boost_1_49_0 -fpic -g -O2 -Wall -c incrConnComp.cpp -o incrConnComp.o
incrConnComp.cpp: In function ‘SEXPREC* BGL_incr_comp_internal(SEXPREC*, SEXPREC*, SEXPREC*, E_IC_METHOD)’:
incrConnComp.cpp:74:6: warning: unused variable ‘child_index’
g++ -I/home/biocbuild/bbs-2.10-bioc/R/include -DNDEBUG -I/usr/local/include -Irbgl_trimmed_boost_1_49_0 -fpic -g -O2 -Wall -c interfaces.cpp -o interfaces.o
g++ -I/home/biocbuild/bbs-2.10-bioc/R/include -DNDEBUG -I/usr/local/include -Irbgl_trimmed_boost_1_49_0 -fpic -g -O2 -Wall -c minST.cpp -o minST.o
g++ -I/home/biocbuild/bbs-2.10-bioc/R/include -DNDEBUG -I/usr/local/include -Irbgl_trimmed_boost_1_49_0 -fpic -g -O2 -Wall -c mincut.cpp -o mincut.o
g++ -I/home/biocbuild/bbs-2.10-bioc/R/include -DNDEBUG -I/usr/local/include -Irbgl_trimmed_boost_1_49_0 -fpic -g -O2 -Wall -c ordering.cpp -o ordering.o
g++ -I/home/biocbuild/bbs-2.10-bioc/R/include -DNDEBUG -I/usr/local/include -Irbgl_trimmed_boost_1_49_0 -fpic -g -O2 -Wall -c planar.cpp -o planar.o
planar.cpp: In function ‘SEXPREC* planarFaceTraversal(SEXPREC*, SEXPREC*, SEXPREC*)’:
planar.cpp:151:45: warning: comparison between signed and unsigned integer expressions
planar.cpp:153:53: warning: comparison between signed and unsigned integer expressions
planar.cpp:161:50: warning: comparison between signed and unsigned integer expressions
planar.cpp:165:58: warning: comparison between signed and unsigned integer expressions
planar.cpp: In function ‘SEXPREC* planarCanonicalOrdering(SEXPREC*, SEXPREC*, SEXPREC*)’:
planar.cpp:256:40: warning: comparison between signed and unsigned integer expressions
planar.cpp: In function ‘SEXPREC* isStraightLineDrawing(SEXPREC*, SEXPREC*, SEXPREC*, SEXPREC*)’:
planar.cpp:369:44: warning: comparison between signed and unsigned integer expressions
planar.cpp: In function ‘SEXPREC* isKuratowskiSubgraph(SEXPREC*, SEXPREC*, SEXPREC*)’:
planar.cpp:461:6: warning: unused variable ‘i’
planar.cpp: In function ‘SEXPREC* makeConnected(SEXPREC*, SEXPREC*, SEXPREC*)’:
planar.cpp:485:42: warning: comparison between signed and unsigned integer expressions
planar.cpp: In function ‘SEXPREC* makeBiconnectedPlanar(SEXPREC*, SEXPREC*, SEXPREC*)’:
planar.cpp:539:45: warning: comparison between signed and unsigned integer expressions
In file included from planar.cpp:5:0:
rbgl_trimmed_boost_1_49_0/boost/graph/planar_canonical_ordering.hpp: In function ‘void boost::planar_canonical_ordering(const Graph&, PlanarEmbedding, OutputIterator, VertexIndexMap) [with Graph = boost::adjacency_list<boost::vecS, boost::vecS, boost::undirectedS, boost::property<boost::vertex_index_t, int>, boost::property<boost::edge_index_t, int> >, PlanarEmbedding = boost::iterator_property_map<__gnu_cxx::__normal_iterator<std::vector<boost::detail::edge_desc_impl<boost::undirected_tag, long unsigned int> >*, std::vector<std::vector<boost::detail::edge_desc_impl<boost::undirected_tag, long unsigned int> > > >, boost::vec_adj_list_vertex_id_map<boost::property<boost::vertex_index_t, int>, long unsigned int> >, OutputIterator = std::back_insert_iterator<std::vector<long unsigned int> >, VertexIndexMap = boost::vec_adj_list_vertex_id_map<boost::property<boost::vertex_index_t, int>, long unsigned int>]’:
rbgl_trimmed_boost_1_49_0/boost/graph/planar_canonical_ordering.hpp:68:14: warning: ‘second_vertex’ may be used uninitialized in this function
In file included from rbgl_trimmed_boost_1_49_0/boost/graph/boyer_myrvold_planar_test.hpp:12:0,
from planar.cpp:3:
rbgl_trimmed_boost_1_49_0/boost/graph/planar_detail/boyer_myrvold_impl.hpp: In member function ‘void boost::boyer_myrvold_impl<Graph, VertexIndexMap, StoreOldHandlesPolicy, StoreEmbeddingPolicy>::extract_kuratowski_subgraph(OutputIterator, EdgeIndexMap) [with OutputIterator = std::back_insert_iterator<std::vector<boost::detail::edge_desc_impl<boost::undirected_tag, long unsigned int> > >, EdgeIndexMap = boost::adj_list_edge_property_map<boost::undirected_tag, int, int&, long unsigned int, boost::property<boost::edge_index_t, int>, boost::edge_index_t>, Graph = boost::adjacency_list<boost::vecS, boost::vecS, boost::undirectedS, boost::property<boost::vertex_index_t, int>, boost::property<boost::edge_index_t, int> >, VertexIndexMap = boost::vec_adj_list_vertex_id_map<boost::property<boost::vertex_index_t, int>, long unsigned int>, StoreOldHandlesPolicy = boost::graph::detail::store_old_handles, StoreEmbeddingPolicy = boost::graph::detail::no_embedding]’:
rbgl_trimmed_boost_1_49_0/boost/graph/planar_detail/boyer_myrvold_impl.hpp:1279:16: warning: ‘previous_vertex’ may be used uninitialized in this function
rbgl_trimmed_boost_1_49_0/boost/graph/planar_detail/boyer_myrvold_impl.hpp:1238:16: warning: ‘bicomp_root’ may be used uninitialized in this function
rbgl_trimmed_boost_1_49_0/boost/graph/planar_detail/boyer_myrvold_impl.hpp:1237:16: warning: ‘z’ may be used uninitialized in this function
In file included from planar.cpp:6:0:
rbgl_trimmed_boost_1_49_0/boost/graph/chrobak_payne_drawing.hpp: In function ‘void boost::chrobak_payne_straight_line_drawing(const Graph&, PlanarEmbedding, ForwardIterator, ForwardIterator, GridPositionMap, VertexIndexMap) [with Graph = boost::adjacency_list<boost::vecS, boost::vecS, boost::undirectedS, boost::property<boost::vertex_index_t, int>, boost::property<boost::edge_index_t, int> >, PlanarEmbedding = boost::iterator_property_map<__gnu_cxx::__normal_iterator<std::vector<boost::detail::edge_desc_impl<boost::undirected_tag, long unsigned int> >*, std::vector<std::vector<boost::detail::edge_desc_impl<boost::undirected_tag, long unsigned int> > > >, boost::vec_adj_list_vertex_id_map<boost::property<boost::vertex_index_t, int>, long unsigned int> >, ForwardIterator = __gnu_cxx::__normal_iterator<long unsigned int*, std::vector<long unsigned int> >, GridPositionMap = boost::iterator_property_map<__gnu_cxx::__normal_iterator<coord_t*, std::vector<coord_t> >, boost::vec_adj_list_vertex_id_map<boost::property<boost::vertex_index_t, int>, long unsigned int> >, VertexIndexMap = boost::vec_adj_list_vertex_id_map<boost::property<boost::vertex_index_t, int>, long unsigned int>]’:
rbgl_trimmed_boost_1_49_0/boost/graph/chrobak_payne_drawing.hpp:219:22: warning: ‘next_to_rightmost’ may be used uninitialized in this function
In file included from planar.cpp:11:0:
rbgl_trimmed_boost_1_49_0/boost/graph/max_cardinality_matching.hpp: In member function ‘bool boost::edmonds_augmenting_path_finder<Graph, MateMap, VertexIndexMap>::augment_matching() [with Graph = R_adjacency_list<boost::undirectedS, int>, MateMap = long unsigned int*, VertexIndexMap = boost::vec_adj_list_vertex_id_map<boost::property<boost::vertex_color_t, boost::default_color_type>, long unsigned int>]’:
rbgl_trimmed_boost_1_49_0/boost/graph/max_cardinality_matching.hpp:231:27: warning: ‘v’ may be used uninitialized in this function
rbgl_trimmed_boost_1_49_0/boost/graph/max_cardinality_matching.hpp:231:29: warning: ‘w’ may be used uninitialized in this function
g++ -I/home/biocbuild/bbs-2.10-bioc/R/include -DNDEBUG -I/usr/local/include -Irbgl_trimmed_boost_1_49_0 -fpic -g -O2 -Wall -c shortestPath.cpp -o shortestPath.o
g++ -I/home/biocbuild/bbs-2.10-bioc/R/include -DNDEBUG -I/usr/local/include -Irbgl_trimmed_boost_1_49_0 -fpic -g -O2 -Wall -c sna.cpp -o sna.o
g++ -I/home/biocbuild/bbs-2.10-bioc/R/include -DNDEBUG -I/usr/local/include -Irbgl_trimmed_boost_1_49_0 -fpic -g -O2 -Wall -c transitive_closure.cpp -o transitive_closure.o
g++ -I/home/biocbuild/bbs-2.10-bioc/R/include -DNDEBUG -I/usr/local/include -Irbgl_trimmed_boost_1_49_0 -fpic -g -O2 -Wall -c wavefront.cpp -o wavefront.o
g++ -shared -L/usr/local/lib64 -o RBGL.so bbc.o cliques.o clusteringCoef.o dominatorTree.o edmonds_optimum_branching.o hcs.o incrConnComp.o interfaces.o minST.o mincut.o ordering.o planar.o shortestPath.o sna.o transitive_closure.o wavefront.o -L/home/biocbuild/bbs-2.10-bioc/R/lib -lR
installing to /loc/home/biocbuild/bbs-2.10-bioc/meat/RBGL.Rcheck/RBGL/libs
** R
** data
** inst
** preparing package for lazy loading
** help
*** installing help indices
** building package indices
** installing vignettes
‘RBGL.Rnw’
** testing if installed package can be loaded
* DONE (RBGL)