Index of /checkResults/release/bioc-testing-LATEST/impute/raw-results/nebbiolo1
Name
Last modified
Size
Description
Parent Directory
-
buildsrc-summary.dcf
18-Jul-2024 00:15
413
buildsrc-out.txt
18-Jul-2024 00:15
808
bioccheck-summary.dcf
18-Jul-2024 00:15
311
bioccheck-out.txt
18-Jul-2024 00:15
4.6K