Index of /checkResults/release/bioc-testing-LATEST/ROC/raw-results/nebbiolo1
Name
Last modified
Size
Description
Parent Directory
-
buildsrc-summary.dcf
18-Jul-2024 00:15
402
buildsrc-out.txt
18-Jul-2024 00:15
820
bioccheck-summary.dcf
18-Jul-2024 00:15
306
bioccheck-out.txt
18-Jul-2024 00:15
4.6K