Back to Multiple platform build/check report for BioC 3.19: simplified long |
|
This page was generated on 2024-07-24 09:06 -0400 (Wed, 24 Jul 2024).
Hostname | OS | Arch (*) | R version | Installed pkgs |
---|---|---|---|---|
nebbiolo1 | Linux (Ubuntu 22.04.3 LTS) | x86_64 | 4.4.1 (2024-06-14) -- "Race for Your Life" | 4747 |
palomino7 | Windows Server 2022 Datacenter | x64 | 4.4.1 (2024-06-14 ucrt) -- "Race for Your Life" | 4489 |
merida1 | macOS 12.7.5 Monterey | x86_64 | 4.4.1 (2024-06-14) -- "Race for Your Life" | 4518 |
kjohnson1 | macOS 13.6.6 Ventura | arm64 | 4.4.1 (2024-06-14) -- "Race for Your Life" | 4467 |
Click on any hostname to see more info about the system (e.g. compilers) (*) as reported by 'uname -p', except on Windows and Mac OS X |
Package 2220/2300 | Hostname | OS / Arch | INSTALL | BUILD | CHECK | BUILD BIN | ||||||||
ttgsea 1.12.0 (landing page) Dongmin Jung
| nebbiolo1 | Linux (Ubuntu 22.04.3 LTS) / x86_64 | OK | OK | OK | |||||||||
palomino7 | Windows Server 2022 Datacenter / x64 | OK | ERROR | skipped | skipped | |||||||||
merida1 | macOS 12.7.5 Monterey / x86_64 | OK | OK | OK | OK | |||||||||
kjohnson1 | macOS 13.6.6 Ventura / arm64 | OK | OK | OK | OK | |||||||||
To the developers/maintainers of the ttgsea package: - Allow up to 24 hours (and sometimes 48 hours) for your latest push to git@git.bioconductor.org:packages/ttgsea.git to reflect on this report. See Troubleshooting Build Report for more information. - Use the following Renviron settings to reproduce errors and warnings. - If 'R CMD check' started to fail recently on the Linux builder(s) over a missing dependency, add the missing dependency to 'Suggests:' in your DESCRIPTION file. See Renviron.bioc for more information. |
Package: ttgsea |
Version: 1.12.0 |
Command: /Library/Frameworks/R.framework/Resources/bin/R CMD check --install=check:ttgsea.install-out.txt --library=/Library/Frameworks/R.framework/Resources/library --no-vignettes --timings ttgsea_1.12.0.tar.gz |
StartedAt: 2024-07-22 14:17:35 -0400 (Mon, 22 Jul 2024) |
EndedAt: 2024-07-22 14:23:15 -0400 (Mon, 22 Jul 2024) |
EllapsedTime: 340.2 seconds |
RetCode: 0 |
Status: OK |
CheckDir: ttgsea.Rcheck |
Warnings: 0 |
############################################################################## ############################################################################## ### ### Running command: ### ### /Library/Frameworks/R.framework/Resources/bin/R CMD check --install=check:ttgsea.install-out.txt --library=/Library/Frameworks/R.framework/Resources/library --no-vignettes --timings ttgsea_1.12.0.tar.gz ### ############################################################################## ############################################################################## * using log directory ‘/Users/biocbuild/bbs-3.19-bioc/meat/ttgsea.Rcheck’ * using R version 4.4.1 (2024-06-14) * using platform: x86_64-apple-darwin20 * R was compiled by Apple clang version 14.0.0 (clang-1400.0.29.202) GNU Fortran (GCC) 12.2.0 * running under: macOS Monterey 12.7.5 * using session charset: UTF-8 * using option ‘--no-vignettes’ * checking for file ‘ttgsea/DESCRIPTION’ ... OK * checking extension type ... Package * this is package ‘ttgsea’ version ‘1.12.0’ * checking package namespace information ... OK * checking package dependencies ... OK * checking if this is a source package ... OK * checking if there is a namespace ... OK * checking for hidden files and directories ... OK * checking for portable file names ... OK * checking for sufficient/correct file permissions ... OK * checking whether package ‘ttgsea’ can be installed ... OK * checking installed package size ... OK * checking package directory ... OK * checking ‘build’ directory ... OK * checking DESCRIPTION meta-information ... OK * checking top-level files ... OK * checking for left-over files ... OK * checking index information ... OK * checking package subdirectories ... OK * checking code files for non-ASCII characters ... OK * checking R files for syntax errors ... OK * checking whether the package can be loaded ... OK * checking whether the package can be loaded with stated dependencies ... OK * checking whether the package can be unloaded cleanly ... OK * checking whether the namespace can be loaded with stated dependencies ... OK * checking whether the namespace can be unloaded cleanly ... OK * checking dependencies in R code ... OK * checking S3 generic/method consistency ... OK * checking replacement functions ... OK * checking foreign function calls ... OK * checking R code for possible problems ... OK * checking Rd files ... OK * checking Rd metadata ... OK * checking Rd cross-references ... OK * checking for missing documentation entries ... OK * checking for code/documentation mismatches ... OK * checking Rd \usage sections ... OK * checking Rd contents ... OK * checking for unstated dependencies in examples ... OK * checking files in ‘vignettes’ ... OK * checking examples ... OK Examples with CPU (user + system) or elapsed time > 5s user system elapsed fit_model 39.497 3.660 35.779 predict_model 38.796 3.754 31.752 bi_gru 17.095 3.030 28.196 token_vector 15.714 0.911 13.317 text_token 15.471 0.780 11.988 * checking for unstated dependencies in ‘tests’ ... OK * checking tests ... Running ‘testthat.R’ OK * checking for unstated dependencies in vignettes ... OK * checking package vignettes ... OK * checking running R code from vignettes ... SKIPPED * checking re-building of vignette outputs ... SKIPPED * checking PDF version of manual ... OK * DONE Status: OK
ttgsea.Rcheck/00install.out
############################################################################## ############################################################################## ### ### Running command: ### ### /Library/Frameworks/R.framework/Resources/bin/R CMD INSTALL ttgsea ### ############################################################################## ############################################################################## * installing to library ‘/Library/Frameworks/R.framework/Versions/4.4-x86_64/Resources/library’ * installing *source* package ‘ttgsea’ ... ** using staged installation ** R ** byte-compile and prepare package for lazy loading ** help *** installing help indices ** building package indices ** installing vignettes ** testing if installed package can be loaded from temporary location ** testing if installed package can be loaded from final location ** testing if installed package keeps a record of temporary installation path * DONE (ttgsea)
ttgsea.Rcheck/tests/testthat.Rout
R version 4.4.1 (2024-06-14) -- "Race for Your Life" Copyright (C) 2024 The R Foundation for Statistical Computing Platform: x86_64-apple-darwin20 R is free software and comes with ABSOLUTELY NO WARRANTY. You are welcome to redistribute it under certain conditions. Type 'license()' or 'licence()' for distribution details. R is a collaborative project with many contributors. Type 'contributors()' for more information and 'citation()' on how to cite R or R packages in publications. Type 'demo()' for some demos, 'help()' for on-line help, or 'help.start()' for an HTML browser interface to help. Type 'q()' to quit R. > library(testthat) > library(ttgsea) Loading required package: keras > > test_check("ttgsea") 1/45 [..............................] - ETA: 8:08 - loss: 1.4456 - pearson_correlation: 0.5711 2/45 [>.............................] - ETA: 2s - loss: 1.4267 - pearson_correlation: 0.3264 4/45 [=>............................] - ETA: 1s - loss: 1.5261 - pearson_correlation: 0.3017 6/45 [===>..........................] - ETA: 1s - loss: 1.5584 - pearson_correlation: 0.2566 8/45 [====>.........................] - ETA: 1s - loss: 1.5874 - pearson_correlation: 0.2223 10/45 [=====>........................] - ETA: 1s - loss: 1.5747 - pearson_correlation: 0.2064 12/45 [=======>......................] - ETA: 1s - loss: 1.5493 - pearson_correlation: 0.1808 14/45 [========>.....................] - ETA: 1s - loss: 1.5220 - pearson_correlation: 0.1771 16/45 [=========>....................] - ETA: 1s - loss: 1.5427 - pearson_correlation: 0.1911 18/45 [===========>..................] - ETA: 1s - loss: 1.5567 - pearson_correlation: 0.1922 20/45 [============>.................] - ETA: 0s - loss: 1.5360 - pearson_correlation: 0.1932 22/45 [=============>................] - ETA: 0s - loss: 1.5479 - pearson_correlation: 0.1955 24/45 [===============>..............] - ETA: 0s - loss: 1.5726 - pearson_correlation: 0.1941 26/45 [================>.............] - ETA: 0s - loss: 1.5741 - pearson_correlation: 0.1878 28/45 [=================>............] - ETA: 0s - loss: 1.5884 - pearson_correlation: 0.1979 30/45 [===================>..........] - ETA: 0s - loss: 1.5722 - pearson_correlation: 0.2136 32/45 [====================>.........] - ETA: 0s - loss: 1.5886 - pearson_correlation: 0.2176 34/45 [=====================>........] - ETA: 0s - loss: 1.5827 - pearson_correlation: 0.2211 36/45 [=======================>......] - ETA: 0s - loss: 1.5781 - pearson_correlation: 0.2070 38/45 [========================>.....] - ETA: 0s - loss: 1.5597 - pearson_correlation: 0.2048 40/45 [=========================>....] - ETA: 0s - loss: 1.5565 - pearson_correlation: 0.2024 42/45 [===========================>..] - ETA: 0s - loss: 1.5568 - pearson_correlation: 0.2047 44/45 [============================>.] - ETA: 0s - loss: 1.5608 - pearson_correlation: 0.2031 45/45 [==============================] - 13s 37ms/step - loss: 1.5602 - pearson_correlation: 0.2015 1/4 [======>.......................] - ETA: 3s 4/4 [==============================] - 1s 10ms/step 1/1 [==============================] - ETA: 0s 1/1 [==============================] - 0s 50ms/step 1/32 [..............................] - ETA: 1s 7/32 [=====>........................] - ETA: 0s 13/32 [===========>..................] - ETA: 0s 19/32 [================>.............] - ETA: 0s 25/32 [======================>.......] - ETA: 0s 30/32 [===========================>..] - ETA: 0s 32/32 [==============================] - 0s 9ms/step 1/32 [..............................] - ETA: 1s 7/32 [=====>........................] - ETA: 0s 13/32 [===========>..................] - ETA: 0s 19/32 [================>.............] - ETA: 0s 25/32 [======================>.......] - ETA: 0s 31/32 [============================>.] - ETA: 0s 32/32 [==============================] - 0s 10ms/step 1/1 [==============================] - ETA: 0s 1/1 [==============================] - 0s 50ms/step 1/32 [..............................] - ETA: 1s 8/32 [======>.......................] - ETA: 0s 14/32 [============>.................] - ETA: 0s 20/32 [=================>............] - ETA: 0s 26/32 [=======================>......] - ETA: 0s 32/32 [==============================] - ETA: 0s 32/32 [==============================] - 0s 9ms/step 1/32 [..............................] - ETA: 2s 7/32 [=====>........................] - ETA: 0s 12/32 [==========>...................] - ETA: 0s 18/32 [===============>..............] - ETA: 0s 24/32 [=====================>........] - ETA: 0s 30/32 [===========================>..] - ETA: 0s 32/32 [==============================] - 0s 10ms/step 1/32 [..............................] - ETA: 1s 7/32 [=====>........................] - ETA: 0s 13/32 [===========>..................] - ETA: 0s 19/32 [================>.............] - ETA: 0s 25/32 [======================>.......] - ETA: 0s 30/32 [===========================>..] - ETA: 0s 32/32 [==============================] - 0s 9ms/step 1/32 [..............................] - ETA: 1s 7/32 [=====>........................] - ETA: 0s 13/32 [===========>..................] - ETA: 0s 19/32 [================>.............] - ETA: 0s 25/32 [======================>.......] - ETA: 0s 31/32 [============================>.] - ETA: 0s 32/32 [==============================] - 0s 9ms/step [ FAIL 0 | WARN 0 | SKIP 0 | PASS 13 ] > > proc.time() user system elapsed 56.553 7.204 62.033
ttgsea.Rcheck/ttgsea-Ex.timings
name | user | system | elapsed | |
bi_gru | 17.095 | 3.030 | 28.196 | |
bi_lstm | 0.588 | 0.040 | 0.968 | |
fit_model | 39.497 | 3.660 | 35.779 | |
metric_pearson_correlation | 0.023 | 0.002 | 0.026 | |
plot_model | 0.442 | 0.053 | 0.572 | |
predict_model | 38.796 | 3.754 | 31.752 | |
sampling_generator | 0.001 | 0.001 | 0.002 | |
text_token | 15.471 | 0.780 | 11.988 | |
token_vector | 15.714 | 0.911 | 13.317 | |