Back to Multiple platform build/check report for BioC 3.19: simplified long |
|
This page was generated on 2024-07-24 09:04 -0400 (Wed, 24 Jul 2024).
Hostname | OS | Arch (*) | R version | Installed pkgs |
---|---|---|---|---|
nebbiolo1 | Linux (Ubuntu 22.04.3 LTS) | x86_64 | 4.4.1 (2024-06-14) -- "Race for Your Life" | 4747 |
palomino7 | Windows Server 2022 Datacenter | x64 | 4.4.1 (2024-06-14 ucrt) -- "Race for Your Life" | 4489 |
merida1 | macOS 12.7.5 Monterey | x86_64 | 4.4.1 (2024-06-14) -- "Race for Your Life" | 4518 |
kjohnson1 | macOS 13.6.6 Ventura | arm64 | 4.4.1 (2024-06-14) -- "Race for Your Life" | 4467 |
Click on any hostname to see more info about the system (e.g. compilers) (*) as reported by 'uname -p', except on Windows and Mac OS X |
Package 2032/2300 | Hostname | OS / Arch | INSTALL | BUILD | CHECK | BUILD BIN | ||||||||
spatialDE 1.10.0 (landing page) Gabriele Sales
| nebbiolo1 | Linux (Ubuntu 22.04.3 LTS) / x86_64 | OK | OK | OK | |||||||||
palomino7 | Windows Server 2022 Datacenter / x64 | OK | OK | OK | OK | |||||||||
merida1 | macOS 12.7.5 Monterey / x86_64 | OK | OK | OK | OK | |||||||||
kjohnson1 | macOS 13.6.6 Ventura / arm64 | OK | OK | OK | OK | |||||||||
To the developers/maintainers of the spatialDE package: - Allow up to 24 hours (and sometimes 48 hours) for your latest push to git@git.bioconductor.org:packages/spatialDE.git to reflect on this report. See Troubleshooting Build Report for more information. - Use the following Renviron settings to reproduce errors and warnings. - If 'R CMD check' started to fail recently on the Linux builder(s) over a missing dependency, add the missing dependency to 'Suggests:' in your DESCRIPTION file. See Renviron.bioc for more information. |
Package: spatialDE |
Version: 1.10.0 |
Command: /home/biocbuild/bbs-3.19-bioc/R/bin/R CMD check --install=check:spatialDE.install-out.txt --library=/home/biocbuild/bbs-3.19-bioc/R/site-library --timings spatialDE_1.10.0.tar.gz |
StartedAt: 2024-07-22 05:19:36 -0400 (Mon, 22 Jul 2024) |
EndedAt: 2024-07-22 05:27:07 -0400 (Mon, 22 Jul 2024) |
EllapsedTime: 450.9 seconds |
RetCode: 0 |
Status: OK |
CheckDir: spatialDE.Rcheck |
Warnings: 0 |
############################################################################## ############################################################################## ### ### Running command: ### ### /home/biocbuild/bbs-3.19-bioc/R/bin/R CMD check --install=check:spatialDE.install-out.txt --library=/home/biocbuild/bbs-3.19-bioc/R/site-library --timings spatialDE_1.10.0.tar.gz ### ############################################################################## ############################################################################## * using log directory ‘/home/biocbuild/bbs-3.19-bioc/meat/spatialDE.Rcheck’ * using R version 4.4.1 (2024-06-14) * using platform: x86_64-pc-linux-gnu * R was compiled by gcc (Ubuntu 11.4.0-1ubuntu1~22.04) 11.4.0 GNU Fortran (Ubuntu 11.4.0-1ubuntu1~22.04) 11.4.0 * running under: Ubuntu 22.04.4 LTS * using session charset: UTF-8 * checking for file ‘spatialDE/DESCRIPTION’ ... OK * this is package ‘spatialDE’ version ‘1.10.0’ * package encoding: UTF-8 * checking package namespace information ... OK * checking package dependencies ... OK * checking if this is a source package ... OK * checking if there is a namespace ... OK * checking for hidden files and directories ... OK * checking for portable file names ... OK * checking for sufficient/correct file permissions ... OK * checking whether package ‘spatialDE’ can be installed ... NOTE Found the following notes/warnings: Non-staged installation was used See ‘/home/biocbuild/bbs-3.19-bioc/meat/spatialDE.Rcheck/00install.out’ for details. * checking installed package size ... OK * checking package directory ... OK * checking ‘build’ directory ... OK * checking DESCRIPTION meta-information ... OK * checking top-level files ... OK * checking for left-over files ... OK * checking index information ... OK * checking package subdirectories ... OK * checking code files for non-ASCII characters ... OK * checking R files for syntax errors ... OK * checking whether the package can be loaded ... OK * checking whether the package can be loaded with stated dependencies ... OK * checking whether the package can be unloaded cleanly ... OK * checking whether the namespace can be loaded with stated dependencies ... OK * checking whether the namespace can be unloaded cleanly ... OK * checking loading without being on the library search path ... OK * checking dependencies in R code ... OK * checking S3 generic/method consistency ... OK * checking replacement functions ... OK * checking foreign function calls ... OK * checking R code for possible problems ... OK * checking Rd files ... OK * checking Rd metadata ... OK * checking Rd cross-references ... OK * checking for missing documentation entries ... OK * checking for code/documentation mismatches ... OK * checking Rd \usage sections ... OK * checking Rd contents ... OK * checking for unstated dependencies in examples ... OK * checking contents of ‘data’ directory ... OK * checking data for non-ASCII characters ... OK * checking data for ASCII and uncompressed saves ... OK * checking line endings in shell scripts ... OK * checking files in ‘vignettes’ ... OK * checking examples ... OK Examples with CPU (user + system) or elapsed time > 5s user system elapsed spatial_patterns 56.664 1.336 56.292 FSV_sig 6.322 0.942 6.965 * checking for unstated dependencies in ‘tests’ ... OK * checking tests ... Running ‘testthat.R’ OK * checking for unstated dependencies in vignettes ... OK * checking package vignettes ... OK * checking re-building of vignette outputs ... OK * checking PDF version of manual ... OK * DONE Status: 1 NOTE See ‘/home/biocbuild/bbs-3.19-bioc/meat/spatialDE.Rcheck/00check.log’ for details.
spatialDE.Rcheck/00install.out
############################################################################## ############################################################################## ### ### Running command: ### ### /home/biocbuild/bbs-3.19-bioc/R/bin/R CMD INSTALL spatialDE ### ############################################################################## ############################################################################## * installing to library ‘/home/biocbuild/bbs-3.19-bioc/R/site-library’ * installing *source* package ‘spatialDE’ ... ** using non-staged installation via StagedInstall field ** R ** data ** inst ** byte-compile and prepare package for lazy loading ** help *** installing help indices ** building package indices ** installing vignettes ** testing if installed package can be loaded * DONE (spatialDE)
spatialDE.Rcheck/tests/testthat.Rout
R version 4.4.1 (2024-06-14) -- "Race for Your Life" Copyright (C) 2024 The R Foundation for Statistical Computing Platform: x86_64-pc-linux-gnu R is free software and comes with ABSOLUTELY NO WARRANTY. You are welcome to redistribute it under certain conditions. Type 'license()' or 'licence()' for distribution details. R is a collaborative project with many contributors. Type 'contributors()' for more information and 'citation()' on how to cite R or R packages in publications. Type 'demo()' for some demos, 'help()' for on-line help, or 'help.start()' for an HTML browser interface to help. Type 'q()' to quit R. > library(testthat) > library(spatialDE) > > test_check("spatialDE") Loading required package: SingleCellExperiment Loading required package: SummarizedExperiment Loading required package: MatrixGenerics Loading required package: matrixStats Attaching package: 'MatrixGenerics' The following objects are masked from 'package:matrixStats': colAlls, colAnyNAs, colAnys, colAvgsPerRowSet, colCollapse, colCounts, colCummaxs, colCummins, colCumprods, colCumsums, colDiffs, colIQRDiffs, colIQRs, colLogSumExps, colMadDiffs, colMads, colMaxs, colMeans2, colMedians, colMins, colOrderStats, colProds, colQuantiles, colRanges, colRanks, colSdDiffs, colSds, colSums2, colTabulates, colVarDiffs, colVars, colWeightedMads, colWeightedMeans, colWeightedMedians, colWeightedSds, colWeightedVars, rowAlls, rowAnyNAs, rowAnys, rowAvgsPerColSet, rowCollapse, rowCounts, rowCummaxs, rowCummins, rowCumprods, rowCumsums, rowDiffs, rowIQRDiffs, rowIQRs, rowLogSumExps, rowMadDiffs, rowMads, rowMaxs, rowMeans2, rowMedians, rowMins, rowOrderStats, rowProds, rowQuantiles, rowRanges, rowRanks, rowSdDiffs, rowSds, rowSums2, rowTabulates, rowVarDiffs, rowVars, rowWeightedMads, rowWeightedMeans, rowWeightedMedians, rowWeightedSds, rowWeightedVars Loading required package: GenomicRanges Loading required package: stats4 Loading required package: BiocGenerics Attaching package: 'BiocGenerics' The following objects are masked from 'package:stats': IQR, mad, sd, var, xtabs The following objects are masked from 'package:base': Filter, Find, Map, Position, Reduce, anyDuplicated, aperm, append, as.data.frame, basename, cbind, colnames, dirname, do.call, duplicated, eval, evalq, get, grep, grepl, intersect, is.unsorted, lapply, mapply, match, mget, order, paste, pmax, pmax.int, pmin, pmin.int, rank, rbind, rownames, sapply, setdiff, table, tapply, union, unique, unsplit, which.max, which.min Loading required package: S4Vectors Attaching package: 'S4Vectors' The following object is masked from 'package:utils': findMatches The following objects are masked from 'package:base': I, expand.grid, unname Loading required package: IRanges Loading required package: GenomeInfoDb Loading required package: Biobase Welcome to Bioconductor Vignettes contain introductory material; view with 'browseVignettes()'. To cite Bioconductor, see 'citation("Biobase")', and for packages 'citation("pkgname")'. Attaching package: 'Biobase' The following object is masked from 'package:MatrixGenerics': rowMedians The following objects are masked from 'package:matrixStats': anyMissing, rowMedians Models: 0%| | 0/10 [00:00<?, ?it/s] 0%| | 0/100 [00:00<?, ?it/s][A 42%|████▏ | 42/100 [00:00<00:00, 418.37it/s][A 86%|████████▌ | 86/100 [00:00<00:00, 426.19it/s][A [A Models: 10%|█ | 1/10 [00:00<00:02, 4.17it/s] 0%| | 0/100 [00:00<?, ?it/s][A 34%|███▍ | 34/100 [00:00<00:00, 339.92it/s][A 68%|██████▊ | 68/100 [00:00<00:00, 317.14it/s][A 100%|██████████| 100/100 [00:00<00:00, 309.00it/s][A [A Models: 20%|██ | 2/10 [00:00<00:02, 3.47it/s] 0%| | 0/100 [00:00<?, ?it/s][A 33%|███▎ | 33/100 [00:00<00:00, 329.65it/s][A 66%|██████▌ | 66/100 [00:00<00:00, 309.25it/s][A 98%|█████████▊| 98/100 [00:00<00:00, 288.56it/s][A [A Models: 30%|███ | 3/10 [00:00<00:02, 3.20it/s] 0%| | 0/100 [00:00<?, ?it/s][A 31%|███ | 31/100 [00:00<00:00, 307.77it/s][A 62%|██████▏ | 62/100 [00:00<00:00, 295.39it/s][A 92%|█████████▏| 92/100 [00:00<00:00, 280.82it/s][A [A Models: 40%|████ | 4/10 [00:01<00:01, 3.03it/s] 0%| | 0/100 [00:00<?, ?it/s][A 28%|██▊ | 28/100 [00:00<00:00, 273.55it/s][A 56%|█████▌ | 56/100 [00:00<00:00, 276.39it/s][A 84%|████████▍ | 84/100 [00:00<00:00, 269.43it/s][A [A Models: 50%|█████ | 5/10 [00:01<00:01, 2.89it/s] 0%| | 0/100 [00:00<?, ?it/s][A 27%|██▋ | 27/100 [00:00<00:00, 269.75it/s][A 56%|█████▌ | 56/100 [00:00<00:00, 278.13it/s][A 84%|████████▍ | 84/100 [00:00<00:00, 275.97it/s][A [A Models: 60%|██████ | 6/10 [00:02<00:01, 2.83it/s] 0%| | 0/100 [00:00<?, ?it/s][A 29%|██▉ | 29/100 [00:00<00:00, 279.25it/s][A 58%|█████▊ | 58/100 [00:00<00:00, 280.44it/s][A 87%|████████▋ | 87/100 [00:00<00:00, 277.75it/s][A [A Models: 70%|███████ | 7/10 [00:02<00:01, 2.80it/s] 0%| | 0/100 [00:00<?, ?it/s][A 29%|██▉ | 29/100 [00:00<00:00, 279.78it/s][A 59%|█████▉ | 59/100 [00:00<00:00, 288.69it/s][A 88%|████████▊ | 88/100 [00:00<00:00, 282.34it/s][A [A Models: 80%|████████ | 8/10 [00:02<00:00, 2.80it/s] 0%| | 0/100 [00:00<?, ?it/s][A 17%|█▋ | 17/100 [00:00<00:00, 168.96it/s][A 48%|████▊ | 48/100 [00:00<00:00, 248.15it/s][A 77%|███████▋ | 77/100 [00:00<00:00, 266.28it/s][A [A Models: 90%|█████████ | 9/10 [00:03<00:00, 2.73it/s] 0%| | 0/100 [00:00<?, ?it/s][A 34%|███▍ | 34/100 [00:00<00:00, 333.34it/s][A 68%|██████▊ | 68/100 [00:00<00:00, 334.25it/s][A [A Models: 100%|██████████| 10/10 [00:03<00:00, 2.86it/s] Models: 100%|██████████| 10/10 [00:03<00:00, 2.92it/s] Models: 0%| | 0/10 [00:00<?, ?it/s] 0%| | 0/100 [00:00<?, ?it/s][A 45%|████▌ | 45/100 [00:00<00:00, 446.96it/s][A 90%|█████████ | 90/100 [00:00<00:00, 430.01it/s][A [A Models: 10%|█ | 1/10 [00:00<00:02, 4.27it/s] 0%| | 0/100 [00:00<?, ?it/s][A 34%|███▍ | 34/100 [00:00<00:00, 339.87it/s][A 68%|██████▊ | 68/100 [00:00<00:00, 315.69it/s][A 100%|██████████| 100/100 [00:00<00:00, 308.17it/s][A [A Models: 20%|██ | 2/10 [00:00<00:02, 3.49it/s] 0%| | 0/100 [00:00<?, ?it/s][A 33%|███▎ | 33/100 [00:00<00:00, 328.36it/s][A 66%|██████▌ | 66/100 [00:00<00:00, 301.55it/s][A 97%|█████████▋| 97/100 [00:00<00:00, 291.75it/s][A [A Models: 30%|███ | 3/10 [00:00<00:02, 3.22it/s] 0%| | 0/100 [00:00<?, ?it/s][A 32%|███▏ | 32/100 [00:00<00:00, 311.16it/s][A 64%|██████▍ | 64/100 [00:00<00:00, 284.66it/s][A 93%|█████████▎| 93/100 [00:00<00:00, 282.17it/s][A [A Models: 40%|████ | 4/10 [00:01<00:01, 3.05it/s] 0%| | 0/100 [00:00<?, ?it/s][A 32%|███▏ | 32/100 [00:00<00:00, 311.12it/s][A 64%|██████▍ | 64/100 [00:00<00:00, 287.36it/s][A 93%|█████████▎| 93/100 [00:00<00:00, 277.13it/s][A [A Models: 50%|█████ | 5/10 [00:01<00:01, 2.96it/s] 0%| | 0/100 [00:00<?, ?it/s][A 32%|███▏ | 32/100 [00:00<00:00, 313.81it/s][A 64%|██████▍ | 64/100 [00:00<00:00, 288.84it/s][A 94%|█████████▍| 94/100 [00:00<00:00, 282.32it/s][A [A Models: 60%|██████ | 6/10 [00:01<00:01, 2.92it/s] 0%| | 0/100 [00:00<?, ?it/s][A 32%|███▏ | 32/100 [00:00<00:00, 317.26it/s][A 64%|██████▍ | 64/100 [00:00<00:00, 294.69it/s][A 94%|█████████▍| 94/100 [00:00<00:00, 288.73it/s][A [A Models: 70%|███████ | 7/10 [00:02<00:01, 2.92it/s] 0%| | 0/100 [00:00<?, ?it/s][A 33%|███▎ | 33/100 [00:00<00:00, 317.86it/s][A 65%|██████▌ | 65/100 [00:00<00:00, 294.46it/s][A 95%|█████████▌| 95/100 [00:00<00:00, 291.10it/s][A [A Models: 80%|████████ | 8/10 [00:02<00:00, 2.92it/s] 0%| | 0/100 [00:00<?, ?it/s][A 32%|███▏ | 32/100 [00:00<00:00, 312.40it/s][A 64%|██████▍ | 64/100 [00:00<00:00, 294.60it/s][A 95%|█████████▌| 95/100 [00:00<00:00, 297.62it/s][A [A Models: 90%|█████████ | 9/10 [00:02<00:00, 2.93it/s] 0%| | 0/100 [00:00<?, ?it/s][A 33%|███▎ | 33/100 [00:00<00:00, 325.68it/s][A 66%|██████▌ | 66/100 [00:00<00:00, 312.45it/s][A 98%|█████████▊| 98/100 [00:00<00:00, 314.04it/s][A [A Models: 100%|██████████| 10/10 [00:03<00:00, 2.99it/s] Models: 100%|██████████| 10/10 [00:03<00:00, 3.03it/s] /var/cache/basilisk/1.16.0/spatialDE/1.10.0/env/lib/python3.9/site-packages/pandas/core/internals/blocks.py:351: RuntimeWarning: invalid value encountered in log result = func(self.values, **kwargs) Models: 0%| | 0/10 [00:00<?, ?it/s] 0%| | 0/100 [00:00<?, ?it/s][A 42%|████▏ | 42/100 [00:00<00:00, 410.90it/s][A 88%|████████▊ | 88/100 [00:00<00:00, 437.51it/s][A [A Models: 10%|█ | 1/10 [00:00<00:02, 4.29it/s] 0%| | 0/100 [00:00<?, ?it/s][A 36%|███▌ | 36/100 [00:00<00:00, 351.82it/s][A 72%|███████▏ | 72/100 [00:00<00:00, 336.01it/s][A [A Models: 20%|██ | 2/10 [00:00<00:02, 3.64it/s] 0%| | 0/100 [00:00<?, ?it/s][A 33%|███▎ | 33/100 [00:00<00:00, 322.10it/s][A 66%|██████▌ | 66/100 [00:00<00:00, 308.10it/s][A 97%|█████████▋| 97/100 [00:00<00:00, 304.59it/s][A [A Models: 30%|███ | 3/10 [00:00<00:02, 3.34it/s] 0%| | 0/100 [00:00<?, ?it/s][A 31%|███ | 31/100 [00:00<00:00, 307.23it/s][A 62%|██████▏ | 62/100 [00:00<00:00, 294.34it/s][A 92%|█████████▏| 92/100 [00:00<00:00, 290.10it/s][A [A Models: 40%|████ | 4/10 [00:01<00:01, 3.16it/s] 0%| | 0/100 [00:00<?, ?it/s][A 31%|███ | 31/100 [00:00<00:00, 303.18it/s][A 62%|██████▏ | 62/100 [00:00<00:00, 288.95it/s][A 91%|█████████ | 91/100 [00:00<00:00, 288.89it/s][A [A Models: 50%|█████ | 5/10 [00:01<00:01, 3.05it/s] 0%| | 0/100 [00:00<?, ?it/s][A 31%|███ | 31/100 [00:00<00:00, 306.55it/s][A 62%|██████▏ | 62/100 [00:00<00:00, 288.24it/s][A 91%|█████████ | 91/100 [00:00<00:00, 287.59it/s][A [A Models: 60%|██████ | 6/10 [00:01<00:01, 2.99it/s] 0%| | 0/100 [00:00<?, ?it/s][A 32%|███▏ | 32/100 [00:00<00:00, 311.36it/s][A 64%|██████▍ | 64/100 [00:00<00:00, 296.44it/s][A 94%|█████████▍| 94/100 [00:00<00:00, 294.36it/s][A [A Models: 70%|███████ | 7/10 [00:02<00:01, 2.97it/s] 0%| | 0/100 [00:00<?, ?it/s][A 32%|███▏ | 32/100 [00:00<00:00, 313.07it/s][A 64%|██████▍ | 64/100 [00:00<00:00, 295.28it/s][A 94%|█████████▍| 94/100 [00:00<00:00, 293.66it/s][A [A Models: 80%|████████ | 8/10 [00:02<00:00, 2.96it/s] 0%| | 0/100 [00:00<?, ?it/s][A 34%|███▍ | 34/100 [00:00<00:00, 331.28it/s][A 68%|██████▊ | 68/100 [00:00<00:00, 309.63it/s][A 100%|██████████| 100/100 [00:00<00:00, 307.98it/s][A [A Models: 90%|█████████ | 9/10 [00:02<00:00, 2.99it/s] 0%| | 0/100 [00:00<?, ?it/s][A 34%|███▍ | 34/100 [00:00<00:00, 334.06it/s][A 68%|██████▊ | 68/100 [00:00<00:00, 333.35it/s][A [A Models: 100%|██████████| 10/10 [00:03<00:00, 3.07it/s] Models: 100%|██████████| 10/10 [00:03<00:00, 3.11it/s] Models: 0%| | 0/10 [00:00<?, ?it/s] 0%| | 0/100 [00:00<?, ?it/s][A 42%|████▏ | 42/100 [00:00<00:00, 415.00it/s][A 88%|████████▊ | 88/100 [00:00<00:00, 438.87it/s][A [A Models: 10%|█ | 1/10 [00:00<00:02, 4.30it/s] 0%| | 0/100 [00:00<?, ?it/s][A 36%|███▌ | 36/100 [00:00<00:00, 351.27it/s][A 72%|███████▏ | 72/100 [00:00<00:00, 334.13it/s][A [A Models: 20%|██ | 2/10 [00:00<00:02, 3.63it/s] 0%| | 0/100 [00:00<?, ?it/s][A 33%|███▎ | 33/100 [00:00<00:00, 324.26it/s][A 66%|██████▌ | 66/100 [00:00<00:00, 307.41it/s][A 97%|█████████▋| 97/100 [00:00<00:00, 298.14it/s][A [A Models: 30%|███ | 3/10 [00:00<00:02, 3.31it/s] 0%| | 0/100 [00:00<?, ?it/s][A 31%|███ | 31/100 [00:00<00:00, 305.34it/s][A 62%|██████▏ | 62/100 [00:00<00:00, 290.22it/s][A 92%|█████████▏| 92/100 [00:00<00:00, 286.99it/s][A [A Models: 40%|████ | 4/10 [00:01<00:01, 3.13it/s] 0%| | 0/100 [00:00<?, ?it/s][A 31%|███ | 31/100 [00:00<00:00, 308.07it/s][A 62%|██████▏ | 62/100 [00:00<00:00, 291.19it/s][A 92%|█████████▏| 92/100 [00:00<00:00, 284.18it/s][A [A Models: 50%|█████ | 5/10 [00:01<00:01, 3.02it/s] 0%| | 0/100 [00:00<?, ?it/s][A 31%|███ | 31/100 [00:00<00:00, 303.01it/s][A 62%|██████▏ | 62/100 [00:00<00:00, 286.66it/s][A 91%|█████████ | 91/100 [00:00<00:00, 284.66it/s][A [A Models: 60%|██████ | 6/10 [00:01<00:01, 2.96it/s] 0%| | 0/100 [00:00<?, ?it/s][A 31%|███ | 31/100 [00:00<00:00, 306.91it/s][A 62%|██████▏ | 62/100 [00:00<00:00, 292.82it/s][A 92%|█████████▏| 92/100 [00:00<00:00, 291.02it/s][A [A Models: 70%|███████ | 7/10 [00:02<00:01, 2.94it/s] 0%| | 0/100 [00:00<?, ?it/s][A 32%|███▏ | 32/100 [00:00<00:00, 318.96it/s][A 64%|██████▍ | 64/100 [00:00<00:00, 302.80it/s][A 95%|█████████▌| 95/100 [00:00<00:00, 297.69it/s][A [A Models: 80%|████████ | 8/10 [00:02<00:00, 2.96it/s] 0%| | 0/100 [00:00<?, ?it/s][A 34%|███▍ | 34/100 [00:00<00:00, 331.75it/s][A 68%|██████▊ | 68/100 [00:00<00:00, 309.53it/s][A 100%|██████████| 100/100 [00:00<00:00, 306.38it/s][A [A Models: 90%|█████████ | 9/10 [00:02<00:00, 2.99it/s] 0%| | 0/100 [00:00<?, ?it/s][A 34%|███▍ | 34/100 [00:00<00:00, 337.61it/s][A 68%|██████▊ | 68/100 [00:00<00:00, 330.70it/s][A [A Models: 100%|██████████| 10/10 [00:03<00:00, 3.06it/s] Models: 100%|██████████| 10/10 [00:03<00:00, 3.09it/s] Models: 0%| | 0/10 [00:00<?, ?it/s] 0%| | 0/100 [00:00<?, ?it/s][A 42%|████▏ | 42/100 [00:00<00:00, 411.79it/s][A 88%|████████▊ | 88/100 [00:00<00:00, 437.38it/s][A [A Models: 10%|█ | 1/10 [00:00<00:02, 4.28it/s] 0%| | 0/100 [00:00<?, ?it/s][A 36%|███▌ | 36/100 [00:00<00:00, 349.90it/s][A 71%|███████ | 71/100 [00:00<00:00, 330.88it/s][A [A Models: 20%|██ | 2/10 [00:00<00:02, 3.62it/s] 0%| | 0/100 [00:00<?, ?it/s][A 33%|███▎ | 33/100 [00:00<00:00, 324.78it/s][A 66%|██████▌ | 66/100 [00:00<00:00, 309.49it/s][A 97%|█████████▋| 97/100 [00:00<00:00, 303.05it/s][A [A Models: 30%|███ | 3/10 [00:00<00:02, 3.33it/s] 0%| | 0/100 [00:00<?, ?it/s][A 32%|███▏ | 32/100 [00:00<00:00, 312.12it/s][A 64%|██████▍ | 64/100 [00:00<00:00, 290.63it/s][A 94%|█████████▍| 94/100 [00:00<00:00, 288.04it/s][A [A Models: 40%|████ | 4/10 [00:01<00:01, 3.13it/s] 0%| | 0/100 [00:00<?, ?it/s][A 31%|███ | 31/100 [00:00<00:00, 305.42it/s][A 62%|██████▏ | 62/100 [00:00<00:00, 289.55it/s][A 92%|█████████▏| 92/100 [00:00<00:00, 288.97it/s][A [A Models: 50%|█████ | 5/10 [00:01<00:01, 3.04it/s] 0%| | 0/100 [00:00<?, ?it/s][A 31%|███ | 31/100 [00:00<00:00, 301.40it/s][A 62%|██████▏ | 62/100 [00:00<00:00, 287.47it/s][A 91%|█████████ | 91/100 [00:00<00:00, 287.33it/s][A [A Models: 60%|██████ | 6/10 [00:01<00:01, 2.98it/s] 0%| | 0/100 [00:00<?, ?it/s][A 32%|███▏ | 32/100 [00:00<00:00, 311.08it/s][A 64%|██████▍ | 64/100 [00:00<00:00, 302.29it/s][A 95%|█████████▌| 95/100 [00:00<00:00, 294.99it/s][A [A Models: 70%|███████ | 7/10 [00:02<00:01, 2.96it/s] 0%| | 0/100 [00:00<?, ?it/s][A 32%|███▏ | 32/100 [00:00<00:00, 315.36it/s][A 64%|██████▍ | 64/100 [00:00<00:00, 298.04it/s][A 94%|█████████▍| 94/100 [00:00<00:00, 296.56it/s][A [A Models: 80%|████████ | 8/10 [00:02<00:00, 2.96it/s] 0%| | 0/100 [00:00<?, ?it/s][A 34%|███▍ | 34/100 [00:00<00:00, 336.36it/s][A 68%|██████▊ | 68/100 [00:00<00:00, 310.89it/s][A 100%|██████████| 100/100 [00:00<00:00, 304.45it/s][A [A Models: 90%|█████████ | 9/10 [00:02<00:00, 2.99it/s] 0%| | 0/100 [00:00<?, ?it/s][A 35%|███▌ | 35/100 [00:00<00:00, 340.63it/s][A 70%|███████ | 70/100 [00:00<00:00, 336.50it/s][A [A Models: 100%|██████████| 10/10 [00:03<00:00, 3.07it/s] Models: 100%|██████████| 10/10 [00:03<00:00, 3.10it/s] [ FAIL 0 | WARN 0 | SKIP 0 | PASS 29 ] > > proc.time() user system elapsed 50.605 7.266 50.033
spatialDE.Rcheck/spatialDE-Ex.timings
name | user | system | elapsed | |
FSV_sig | 6.322 | 0.942 | 6.965 | |
mockSVG | 0.265 | 0.048 | 0.312 | |
modelSearch | 3.452 | 0.368 | 3.439 | |
model_search | 3.040 | 0.408 | 2.993 | |
multiGenePlots | 3.301 | 0.364 | 3.348 | |
regress_out | 0.117 | 0.000 | 0.117 | |
run | 1.513 | 0.124 | 1.501 | |
spatialDE | 1.659 | 0.232 | 1.657 | |
spatialPatterns | 1.536 | 0.885 | 1.364 | |
spatial_patterns | 56.664 | 1.336 | 56.292 | |
stabilize | 0.131 | 0.008 | 0.138 | |