Back to Multiple platform build/check report for BioC 3.19: simplified long |
|
This page was generated on 2024-07-24 09:03 -0400 (Wed, 24 Jul 2024).
Hostname | OS | Arch (*) | R version | Installed pkgs |
---|---|---|---|---|
nebbiolo1 | Linux (Ubuntu 22.04.3 LTS) | x86_64 | 4.4.1 (2024-06-14) -- "Race for Your Life" | 4747 |
palomino7 | Windows Server 2022 Datacenter | x64 | 4.4.1 (2024-06-14 ucrt) -- "Race for Your Life" | 4489 |
merida1 | macOS 12.7.5 Monterey | x86_64 | 4.4.1 (2024-06-14) -- "Race for Your Life" | 4518 |
kjohnson1 | macOS 13.6.6 Ventura | arm64 | 4.4.1 (2024-06-14) -- "Race for Your Life" | 4467 |
Click on any hostname to see more info about the system (e.g. compilers) (*) as reported by 'uname -p', except on Windows and Mac OS X |
Package 1457/2300 | Hostname | OS / Arch | INSTALL | BUILD | CHECK | BUILD BIN | ||||||||
omada 1.6.0 (landing page) Sokratis Kariotis
| nebbiolo1 | Linux (Ubuntu 22.04.3 LTS) / x86_64 | OK | OK | OK | |||||||||
palomino7 | Windows Server 2022 Datacenter / x64 | OK | OK | OK | OK | |||||||||
merida1 | macOS 12.7.5 Monterey / x86_64 | OK | OK | OK | OK | |||||||||
kjohnson1 | macOS 13.6.6 Ventura / arm64 | OK | OK | OK | OK | |||||||||
To the developers/maintainers of the omada package: - Allow up to 24 hours (and sometimes 48 hours) for your latest push to git@git.bioconductor.org:packages/omada.git to reflect on this report. See Troubleshooting Build Report for more information. - Use the following Renviron settings to reproduce errors and warnings. - If 'R CMD check' started to fail recently on the Linux builder(s) over a missing dependency, add the missing dependency to 'Suggests:' in your DESCRIPTION file. See Renviron.bioc for more information. |
Package: omada |
Version: 1.6.0 |
Command: /home/biocbuild/bbs-3.19-bioc/R/bin/R CMD check --install=check:omada.install-out.txt --library=/home/biocbuild/bbs-3.19-bioc/R/site-library --timings omada_1.6.0.tar.gz |
StartedAt: 2024-07-22 03:03:31 -0400 (Mon, 22 Jul 2024) |
EndedAt: 2024-07-22 03:20:55 -0400 (Mon, 22 Jul 2024) |
EllapsedTime: 1043.7 seconds |
RetCode: 0 |
Status: OK |
CheckDir: omada.Rcheck |
Warnings: 0 |
############################################################################## ############################################################################## ### ### Running command: ### ### /home/biocbuild/bbs-3.19-bioc/R/bin/R CMD check --install=check:omada.install-out.txt --library=/home/biocbuild/bbs-3.19-bioc/R/site-library --timings omada_1.6.0.tar.gz ### ############################################################################## ############################################################################## * using log directory ‘/home/biocbuild/bbs-3.19-bioc/meat/omada.Rcheck’ * using R version 4.4.1 (2024-06-14) * using platform: x86_64-pc-linux-gnu * R was compiled by gcc (Ubuntu 11.4.0-1ubuntu1~22.04) 11.4.0 GNU Fortran (Ubuntu 11.4.0-1ubuntu1~22.04) 11.4.0 * running under: Ubuntu 22.04.4 LTS * using session charset: UTF-8 * checking for file ‘omada/DESCRIPTION’ ... OK * checking extension type ... Package * this is package ‘omada’ version ‘1.6.0’ * package encoding: UTF-8 * checking package namespace information ... OK * checking package dependencies ... NOTE Depends: includes the non-default packages: 'pdfCluster', 'kernlab', 'fpc', 'Rcpp', 'diceR', 'ggplot2', 'reshape', 'genieclust', 'clValid', 'glmnet', 'dplyr' Adding so many packages to the search path is excessive and importing selectively is preferable. * checking if this is a source package ... OK * checking if there is a namespace ... OK * checking for hidden files and directories ... OK * checking for portable file names ... OK * checking for sufficient/correct file permissions ... OK * checking whether package ‘omada’ can be installed ... OK * checking installed package size ... OK * checking package directory ... OK * checking ‘build’ directory ... OK * checking DESCRIPTION meta-information ... NOTE Package listed in more than one of Depends, Imports, Suggests, Enhances: ‘clValid’ A package should be listed in only one of these fields. * checking top-level files ... NOTE File LICENSE is not mentioned in the DESCRIPTION file. * checking for left-over files ... OK * checking index information ... OK * checking package subdirectories ... OK * checking code files for non-ASCII characters ... OK * checking R files for syntax errors ... OK * checking whether the package can be loaded ... OK * checking whether the package can be loaded with stated dependencies ... OK * checking whether the package can be unloaded cleanly ... OK * checking whether the namespace can be loaded with stated dependencies ... OK * checking whether the namespace can be unloaded cleanly ... OK * checking loading without being on the library search path ... OK * checking dependencies in R code ... NOTE Packages in Depends field not imported from: ‘Rcpp’ ‘dplyr’ ‘genieclust’ ‘glmnet’ ‘kernlab’ ‘reshape’ These packages need to be imported from (in the NAMESPACE file) for when this namespace is loaded but not attached. * checking S3 generic/method consistency ... OK * checking replacement functions ... OK * checking foreign function calls ... OK * checking R code for possible problems ... NOTE Index.15and28: no visible global function definition for ‘dist’ Index.15and28: no visible global function definition for ‘as.dist’ Index.sPlussMoins: no visible global function definition for ‘dist’ Index.sPlussMoins: no visible global function definition for ‘as.dist’ Index.sPlussMoins: no visible global function definition for ‘median’ Indice.cindex: no visible global function definition for ‘dist’ clusterVoting: no visible global function definition for ‘calinhara’ clusterVoting: no visible global function definition for ‘generalised_dunn_index’ clusterVoting: no visible global function definition for ‘silhouette_index’ clusterVoting: no visible global function definition for ‘negated_davies_bouldin_index’ clusterVoting: no visible binding for global variable ‘k’ clusterVoting: no visible binding for global variable ‘Frequency’ clusteringMethodSelection: no visible binding for global variable ‘value’ clusteringMethodSelection: no visible binding for global variable ‘methods’ featureSelection: no visible binding for global variable ‘featureSet’ featureSelection: no visible binding for global variable ‘means’ Undefined global functions or variables: Frequency as.dist calinhara dist featureSet generalised_dunn_index k means median methods negated_davies_bouldin_index silhouette_index value Consider adding importFrom("stats", "as.dist", "dist", "median") importFrom("utils", "methods") to your NAMESPACE file. * checking Rd files ... OK * checking Rd metadata ... OK * checking Rd cross-references ... OK * checking for missing documentation entries ... OK * checking for code/documentation mismatches ... OK * checking Rd \usage sections ... OK * checking Rd contents ... OK * checking for unstated dependencies in examples ... OK * checking contents of ‘data’ directory ... OK * checking data for non-ASCII characters ... OK * checking LazyData ... OK * checking data for ASCII and uncompressed saves ... OK * checking files in ‘vignettes’ ... OK * checking examples ... OK Examples with CPU (user + system) or elapsed time > 5s user system elapsed get_feature_selection_optimal_number_of_features 68.235 1.155 71.743 get_feature_selection_scores 58.869 0.352 62.933 plot_feature_selection 47.146 0.412 48.138 plot_partition_agreement 38.555 0.811 40.818 get_sample_memberships 38.662 0.119 40.466 get_partition_agreement_scores 36.523 0.076 36.921 plot_cluster_voting 35.408 0.616 38.260 get_feature_selection_optimal_features 30.277 0.112 30.389 omada 29.153 0.064 29.350 get_cluster_voting_k_votes 28.933 0.159 29.094 get_cluster_voting_metric_votes 28.668 0.128 28.797 get_cluster_voting_scores 28.547 0.084 28.631 get_cluster_voting_memberships 28.131 0.104 28.235 plot_average_stabilities 19.747 0.135 23.134 get_optimal_stability_score 15.537 0.108 15.648 get_optimal_memberships 13.959 0.022 13.986 get_optimal_number_of_features 11.156 0.040 11.197 get_optimal_parameter_used 10.239 0.008 10.537 get_optimal_features 10.144 0.037 10.238 featureSelection 6.669 0.113 6.781 * checking for unstated dependencies in ‘tests’ ... OK * checking tests ... Running ‘testthat.R’ OK * checking for unstated dependencies in vignettes ... OK * checking package vignettes ... OK * checking re-building of vignette outputs ... OK * checking PDF version of manual ... OK * DONE Status: 5 NOTEs See ‘/home/biocbuild/bbs-3.19-bioc/meat/omada.Rcheck/00check.log’ for details.
omada.Rcheck/00install.out
############################################################################## ############################################################################## ### ### Running command: ### ### /home/biocbuild/bbs-3.19-bioc/R/bin/R CMD INSTALL omada ### ############################################################################## ############################################################################## * installing to library ‘/home/biocbuild/bbs-3.19-bioc/R/site-library’ * installing *source* package ‘omada’ ... ** using staged installation ** R ** data *** moving datasets to lazyload DB ** inst ** byte-compile and prepare package for lazy loading ** help *** installing help indices ** building package indices ** installing vignettes ** testing if installed package can be loaded from temporary location ** testing if installed package can be loaded from final location ** testing if installed package keeps a record of temporary installation path * DONE (omada)
omada.Rcheck/tests/testthat.Rout
R version 4.4.1 (2024-06-14) -- "Race for Your Life" Copyright (C) 2024 The R Foundation for Statistical Computing Platform: x86_64-pc-linux-gnu R is free software and comes with ABSOLUTELY NO WARRANTY. You are welcome to redistribute it under certain conditions. Type 'license()' or 'licence()' for distribution details. R is a collaborative project with many contributors. Type 'contributors()' for more information and 'citation()' on how to cite R or R packages in publications. Type 'demo()' for some demos, 'help()' for on-line help, or 'help.start()' for an HTML browser interface to help. Type 'q()' to quit R. > library(testthat) > library(omada) Loading required package: pdfCluster pdfCluster 1.0-4 Loading required package: kernlab Loading required package: fpc Loading required package: Rcpp Loading required package: diceR Loading required package: ggplot2 Attaching package: 'ggplot2' The following object is masked from 'package:kernlab': alpha Loading required package: reshape Loading required package: genieclust Loading required package: clValid Loading required package: cluster Loading required package: glmnet Loading required package: Matrix Attaching package: 'Matrix' The following object is masked from 'package:reshape': expand Loaded glmnet 4.1-8 Loading required package: dplyr Attaching package: 'dplyr' The following object is masked from 'package:reshape': rename The following object is masked from 'package:pdfCluster': groups The following object is masked from 'package:testthat': matches The following objects are masked from 'package:stats': filter, lag The following objects are masked from 'package:base': intersect, setdiff, setequal, union > > test_check("omada") [ FAIL 0 | WARN 1 | SKIP 0 | PASS 38 ] [ FAIL 0 | WARN 1 | SKIP 0 | PASS 38 ] > > proc.time() user system elapsed 138.258 2.359 152.129
omada.Rcheck/omada-Ex.timings
name | user | system | elapsed | |
clusterVoting | 3.729 | 0.128 | 3.857 | |
clusteringMethodSelection | 1.177 | 0.027 | 1.206 | |
feasibilityAnalysis | 1.188 | 0.020 | 1.207 | |
feasibilityAnalysisDataBased | 2.726 | 0.099 | 2.826 | |
featureSelection | 6.669 | 0.113 | 6.781 | |
get_agreement_scores | 0.496 | 0.024 | 0.519 | |
get_average_feature_k_stabilities | 4.630 | 0.011 | 4.642 | |
get_average_stabilities_per_k | 0.821 | 0.013 | 0.832 | |
get_average_stability | 0.818 | 0.019 | 0.838 | |
get_cluster_memberships_k | 0.765 | 0.017 | 0.781 | |
get_cluster_voting_k_votes | 28.933 | 0.159 | 29.094 | |
get_cluster_voting_memberships | 28.131 | 0.104 | 28.235 | |
get_cluster_voting_metric_votes | 28.668 | 0.128 | 28.797 | |
get_cluster_voting_scores | 28.547 | 0.084 | 28.631 | |
get_feature_selection_optimal_features | 30.277 | 0.112 | 30.389 | |
get_feature_selection_optimal_number_of_features | 68.235 | 1.155 | 71.743 | |
get_feature_selection_scores | 58.869 | 0.352 | 62.933 | |
get_generated_dataset | 3.007 | 0.008 | 3.015 | |
get_internal_metric_scores | 0.738 | 0.008 | 0.746 | |
get_max_stability | 0.783 | 0.008 | 0.791 | |
get_metric_votes_k | 0.718 | 0.012 | 0.730 | |
get_optimal_features | 10.144 | 0.037 | 10.238 | |
get_optimal_memberships | 13.959 | 0.022 | 13.986 | |
get_optimal_number_of_features | 11.156 | 0.040 | 11.197 | |
get_optimal_parameter_used | 10.239 | 0.008 | 10.537 | |
get_optimal_stability_score | 15.537 | 0.108 | 15.648 | |
get_partition_agreement_scores | 36.523 | 0.076 | 36.921 | |
get_sample_memberships | 38.662 | 0.119 | 40.466 | |
get_vote_frequencies_k | 1.069 | 0.000 | 1.069 | |
omada | 29.153 | 0.064 | 29.350 | |
optimalClustering | 0.102 | 0.004 | 0.115 | |
partitionAgreement | 0.454 | 0.008 | 0.677 | |
plot_average_stabilities | 19.747 | 0.135 | 23.134 | |
plot_cluster_voting | 35.408 | 0.616 | 38.260 | |
plot_feature_selection | 47.146 | 0.412 | 48.138 | |
plot_partition_agreement | 38.555 | 0.811 | 40.818 | |
plot_vote_frequencies | 0.877 | 0.052 | 0.930 | |
toy_gene_memberships | 0.007 | 0.008 | 0.017 | |
toy_genes | 0.001 | 0.000 | 0.001 | |