Back to Multiple platform build/check report for BioC 3.19: simplified long |
|
This page was generated on 2024-07-24 09:03 -0400 (Wed, 24 Jul 2024).
Hostname | OS | Arch (*) | R version | Installed pkgs |
---|---|---|---|---|
nebbiolo1 | Linux (Ubuntu 22.04.3 LTS) | x86_64 | 4.4.1 (2024-06-14) -- "Race for Your Life" | 4747 |
palomino7 | Windows Server 2022 Datacenter | x64 | 4.4.1 (2024-06-14 ucrt) -- "Race for Your Life" | 4489 |
merida1 | macOS 12.7.5 Monterey | x86_64 | 4.4.1 (2024-06-14) -- "Race for Your Life" | 4518 |
kjohnson1 | macOS 13.6.6 Ventura | arm64 | 4.4.1 (2024-06-14) -- "Race for Your Life" | 4467 |
Click on any hostname to see more info about the system (e.g. compilers) (*) as reported by 'uname -p', except on Windows and Mac OS X |
Package 1299/2300 | Hostname | OS / Arch | INSTALL | BUILD | CHECK | BUILD BIN | ||||||||
mixOmics 6.28.0 (landing page) Max Bladen
| nebbiolo1 | Linux (Ubuntu 22.04.3 LTS) / x86_64 | OK | OK | OK | |||||||||
palomino7 | Windows Server 2022 Datacenter / x64 | OK | OK | OK | OK | |||||||||
merida1 | macOS 12.7.5 Monterey / x86_64 | OK | OK | OK | OK | |||||||||
kjohnson1 | macOS 13.6.6 Ventura / arm64 | OK | OK | OK | OK | |||||||||
To the developers/maintainers of the mixOmics package: - Allow up to 24 hours (and sometimes 48 hours) for your latest push to git@git.bioconductor.org:packages/mixOmics.git to reflect on this report. See Troubleshooting Build Report for more information. - Use the following Renviron settings to reproduce errors and warnings. - If 'R CMD check' started to fail recently on the Linux builder(s) over a missing dependency, add the missing dependency to 'Suggests:' in your DESCRIPTION file. See Renviron.bioc for more information. |
Package: mixOmics |
Version: 6.28.0 |
Command: /home/biocbuild/bbs-3.19-bioc/R/bin/R CMD check --install=check:mixOmics.install-out.txt --library=/home/biocbuild/bbs-3.19-bioc/R/site-library --timings mixOmics_6.28.0.tar.gz |
StartedAt: 2024-07-22 02:24:30 -0400 (Mon, 22 Jul 2024) |
EndedAt: 2024-07-22 02:37:19 -0400 (Mon, 22 Jul 2024) |
EllapsedTime: 769.5 seconds |
RetCode: 0 |
Status: OK |
CheckDir: mixOmics.Rcheck |
Warnings: 0 |
############################################################################## ############################################################################## ### ### Running command: ### ### /home/biocbuild/bbs-3.19-bioc/R/bin/R CMD check --install=check:mixOmics.install-out.txt --library=/home/biocbuild/bbs-3.19-bioc/R/site-library --timings mixOmics_6.28.0.tar.gz ### ############################################################################## ############################################################################## * using log directory ‘/home/biocbuild/bbs-3.19-bioc/meat/mixOmics.Rcheck’ * using R version 4.4.1 (2024-06-14) * using platform: x86_64-pc-linux-gnu * R was compiled by gcc (Ubuntu 11.4.0-1ubuntu1~22.04) 11.4.0 GNU Fortran (Ubuntu 11.4.0-1ubuntu1~22.04) 11.4.0 * running under: Ubuntu 22.04.4 LTS * using session charset: UTF-8 * checking for file ‘mixOmics/DESCRIPTION’ ... OK * checking extension type ... Package * this is package ‘mixOmics’ version ‘6.28.0’ * package encoding: UTF-8 * checking package namespace information ... OK * checking package dependencies ... OK * checking if this is a source package ... OK * checking if there is a namespace ... OK * checking for hidden files and directories ... OK * checking for portable file names ... OK * checking for sufficient/correct file permissions ... OK * checking whether package ‘mixOmics’ can be installed ... OK * checking installed package size ... NOTE installed size is 7.8Mb sub-directories of 1Mb or more: R 1.2Mb data 3.4Mb doc 1.7Mb * checking package directory ... OK * checking DESCRIPTION meta-information ... OK * checking top-level files ... OK * checking for left-over files ... OK * checking index information ... OK * checking package subdirectories ... OK * checking code files for non-ASCII characters ... OK * checking R files for syntax errors ... OK * checking whether the package can be loaded ... OK * checking whether the package can be loaded with stated dependencies ... OK * checking whether the package can be unloaded cleanly ... OK * checking whether the namespace can be loaded with stated dependencies ... OK * checking whether the namespace can be unloaded cleanly ... OK * checking loading without being on the library search path ... OK * checking whether startup messages can be suppressed ... OK * checking dependencies in R code ... OK * checking S3 generic/method consistency ... OK * checking replacement functions ... OK * checking foreign function calls ... OK * checking R code for possible problems ... OK * checking Rd files ... OK * checking Rd metadata ... OK * checking Rd cross-references ... OK * checking for missing documentation entries ... OK * checking for code/documentation mismatches ... OK * checking Rd \usage sections ... OK * checking Rd contents ... OK * checking for unstated dependencies in examples ... OK * checking contents of ‘data’ directory ... OK * checking data for non-ASCII characters ... OK * checking data for ASCII and uncompressed saves ... OK * checking installed files from ‘inst/doc’ ... OK * checking files in ‘vignettes’ ... OK * checking examples ... OK Examples with CPU (user + system) or elapsed time > 5s user system elapsed biplot 14.168 0.112 14.280 background.predict 6.585 0.092 6.677 block.splsda 6.289 0.064 6.353 circosPlot 5.686 0.032 5.719 block.spls 5.141 0.040 5.182 * checking for unstated dependencies in ‘tests’ ... OK * checking tests ... Running ‘testthat.R’ OK * checking for unstated dependencies in vignettes ... OK * checking package vignettes ... OK * checking re-building of vignette outputs ... OK * checking PDF version of manual ... OK * DONE Status: 1 NOTE See ‘/home/biocbuild/bbs-3.19-bioc/meat/mixOmics.Rcheck/00check.log’ for details.
mixOmics.Rcheck/00install.out
############################################################################## ############################################################################## ### ### Running command: ### ### /home/biocbuild/bbs-3.19-bioc/R/bin/R CMD INSTALL mixOmics ### ############################################################################## ############################################################################## * installing to library ‘/home/biocbuild/bbs-3.19-bioc/R/site-library’ * installing *source* package ‘mixOmics’ ... ** using staged installation ** R ** data ** inst ** byte-compile and prepare package for lazy loading ** help *** installing help indices ** building package indices ** installing vignettes ** testing if installed package can be loaded from temporary location ** testing if installed package can be loaded from final location ** testing if installed package keeps a record of temporary installation path * DONE (mixOmics)
mixOmics.Rcheck/tests/testthat.Rout
R version 4.4.1 (2024-06-14) -- "Race for Your Life" Copyright (C) 2024 The R Foundation for Statistical Computing Platform: x86_64-pc-linux-gnu R is free software and comes with ABSOLUTELY NO WARRANTY. You are welcome to redistribute it under certain conditions. Type 'license()' or 'licence()' for distribution details. R is a collaborative project with many contributors. Type 'contributors()' for more information and 'citation()' on how to cite R or R packages in publications. Type 'demo()' for some demos, 'help()' for on-line help, or 'help.start()' for an HTML browser interface to help. Type 'q()' to quit R. > library(testthat) > library(mixOmics) Loading required package: MASS Loading required package: lattice Loading required package: ggplot2 Loaded mixOmics 6.28.0 Thank you for using mixOmics! Tutorials: http://mixomics.org Bookdown vignette: https://mixomicsteam.github.io/Bookdown Questions, issues: Follow the prompts at http://mixomics.org/contact-us Cite us: citation('mixOmics') > > test_check("mixOmics") [ FAIL 0 | WARN 4 | SKIP 0 | PASS 236 ] [ FAIL 0 | WARN 4 | SKIP 0 | PASS 236 ] Warning messages: 1: In for (ijk.keepA in 1:nrow(keepA[[comp]])) { : closing unused connection 6 (<-localhost:11165) 2: In for (ijk.keepA in 1:nrow(keepA[[comp]])) { : closing unused connection 5 (<-localhost:11165) > > proc.time() user system elapsed 97.266 2.769 114.752
mixOmics.Rcheck/mixOmics-Ex.timings
name | user | system | elapsed | |
S3methods-print | 0.02 | 0.00 | 0.02 | |
auroc | 1.022 | 0.032 | 1.054 | |
background.predict | 6.585 | 0.092 | 6.677 | |
biplot | 14.168 | 0.112 | 14.280 | |
block.pls | 0.502 | 0.020 | 0.522 | |
block.plsda | 0.630 | 0.008 | 0.637 | |
block.spls | 5.141 | 0.040 | 5.182 | |
block.splsda | 6.289 | 0.064 | 6.353 | |
cim | 0.039 | 0.000 | 0.039 | |
cimDiablo | 0.242 | 0.004 | 0.246 | |
circosPlot | 5.686 | 0.032 | 5.719 | |
colors | 0.028 | 0.000 | 0.028 | |
explained_variance | 0.383 | 0.008 | 0.391 | |
get.confusion_matrix | 0.129 | 0.004 | 0.133 | |
image.tune.rcc | 1.989 | 0.008 | 1.997 | |
imgCor | 0.072 | 0.004 | 0.076 | |
impute.nipals | 0.011 | 0.000 | 0.011 | |
ipca | 0.732 | 0.024 | 0.756 | |
logratio-transformations | 0.065 | 0.000 | 0.065 | |
map | 0.004 | 0.000 | 0.004 | |
mat.rank | 0.000 | 0.002 | 0.002 | |
mint.block.pls | 0.132 | 0.001 | 0.133 | |
mint.block.plsda | 0.124 | 0.000 | 0.124 | |
mint.block.spls | 0.15 | 0.00 | 0.15 | |
mint.block.splsda | 0.381 | 0.000 | 0.381 | |
mint.pca | 0.336 | 0.003 | 0.340 | |
mint.pls | 0.501 | 0.000 | 0.501 | |
mint.plsda | 0.592 | 0.032 | 0.624 | |
mint.spls | 0.491 | 0.004 | 0.495 | |
mint.splsda | 0.578 | 0.000 | 0.578 | |
mixOmics | 0.273 | 0.000 | 0.273 | |
nearZeroVar | 0.656 | 0.008 | 0.665 | |
network | 0.010 | 0.004 | 0.014 | |
pca | 4.095 | 0.020 | 4.115 | |
perf | 2.418 | 0.059 | 2.478 | |
plot.rcc | 0.014 | 0.000 | 0.015 | |
plot.tune | 0.001 | 0.000 | 0.001 | |
plotArrow | 3.243 | 0.008 | 3.252 | |
plotDiablo | 0.168 | 0.004 | 0.172 | |
plotIndiv | 0.277 | 0.000 | 0.277 | |
plotLoadings | 0.093 | 0.004 | 0.097 | |
plotMarkers | 0 | 0 | 0 | |
plotVar | 0.500 | 0.000 | 0.501 | |
pls | 0.002 | 0.004 | 0.006 | |
plsda | 0.297 | 0.000 | 0.297 | |
predict | 0.14 | 0.00 | 0.14 | |
rcc | 0.003 | 0.000 | 0.002 | |
selectVar | 0.328 | 0.008 | 0.335 | |
sipca | 0.451 | 0.000 | 0.451 | |
spca | 2.947 | 0.028 | 2.975 | |
spls | 0.170 | 0.008 | 0.177 | |
splsda | 0.306 | 0.000 | 0.306 | |
study_split | 0.006 | 0.000 | 0.005 | |
summary | 0.015 | 0.000 | 0.015 | |
tune | 3.739 | 0.019 | 3.778 | |
tune.block.splsda | 0 | 0 | 0 | |
tune.mint.splsda | 2.193 | 0.000 | 2.193 | |
tune.pca | 0.170 | 0.004 | 0.174 | |
tune.rcc | 2.242 | 0.000 | 2.242 | |
tune.spca | 0.567 | 0.015 | 0.583 | |
tune.spls | 0.001 | 0.001 | 0.001 | |
tune.splsda | 3.835 | 0.121 | 3.978 | |
tune.splslevel | 0.790 | 0.012 | 0.802 | |
unmap | 0.006 | 0.000 | 0.006 | |
vip | 0.01 | 0.00 | 0.01 | |
withinVariation | 0.824 | 0.000 | 0.825 | |
wrapper.rgcca | 0.059 | 0.003 | 0.063 | |
wrapper.sgcca | 0.108 | 0.001 | 0.108 | |