Back to Multiple platform build/check report for BioC 3.19: simplified long |
|
This page was generated on 2024-06-14 14:37 -0400 (Fri, 14 Jun 2024).
Hostname | OS | Arch (*) | R version | Installed pkgs |
---|---|---|---|---|
nebbiolo1 | Linux (Ubuntu 22.04.3 LTS) | x86_64 | 4.4.0 (2024-04-24) -- "Puppy Cup" | 4757 |
palomino3 | Windows Server 2022 Datacenter | x64 | 4.4.0 (2024-04-24 ucrt) -- "Puppy Cup" | 4491 |
Click on any hostname to see more info about the system (e.g. compilers) (*) as reported by 'uname -p', except on Windows and Mac OS X |
Package 1163/2300 | Hostname | OS / Arch | INSTALL | BUILD | CHECK | BUILD BIN | ||||||||
maser 1.22.0 (landing page) Diogo F.T. Veiga
| nebbiolo1 | Linux (Ubuntu 22.04.3 LTS) / x86_64 | OK | OK | OK | |||||||||
palomino3 | Windows Server 2022 Datacenter / x64 | OK | OK | OK | OK | |||||||||
To the developers/maintainers of the maser package: - Allow up to 24 hours (and sometimes 48 hours) for your latest push to git@git.bioconductor.org:packages/maser.git to reflect on this report. See Troubleshooting Build Report for more information. - Use the following Renviron settings to reproduce errors and warnings. - If 'R CMD check' started to fail recently on the Linux builder(s) over a missing dependency, add the missing dependency to 'Suggests:' in your DESCRIPTION file. See Renviron.bioc for more information. |
Package: maser |
Version: 1.22.0 |
Command: /home/biocbuild/bbs-3.19-bioc/R/bin/R CMD check --install=check:maser.install-out.txt --library=/home/biocbuild/bbs-3.19-bioc/R/site-library --timings maser_1.22.0.tar.gz |
StartedAt: 2024-06-13 00:35:13 -0400 (Thu, 13 Jun 2024) |
EndedAt: 2024-06-13 00:43:58 -0400 (Thu, 13 Jun 2024) |
EllapsedTime: 524.1 seconds |
RetCode: 0 |
Status: OK |
CheckDir: maser.Rcheck |
Warnings: 0 |
############################################################################## ############################################################################## ### ### Running command: ### ### /home/biocbuild/bbs-3.19-bioc/R/bin/R CMD check --install=check:maser.install-out.txt --library=/home/biocbuild/bbs-3.19-bioc/R/site-library --timings maser_1.22.0.tar.gz ### ############################################################################## ############################################################################## * using log directory ‘/home/biocbuild/bbs-3.19-bioc/meat/maser.Rcheck’ * using R version 4.4.0 (2024-04-24) * using platform: x86_64-pc-linux-gnu * R was compiled by gcc (Ubuntu 11.4.0-1ubuntu1~22.04) 11.4.0 GNU Fortran (Ubuntu 11.4.0-1ubuntu1~22.04) 11.4.0 * running under: Ubuntu 22.04.4 LTS * using session charset: UTF-8 * checking for file ‘maser/DESCRIPTION’ ... OK * checking extension type ... Package * this is package ‘maser’ version ‘1.22.0’ * package encoding: UTF-8 * checking package namespace information ... OK * checking package dependencies ... OK * checking if this is a source package ... OK * checking if there is a namespace ... OK * checking for hidden files and directories ... OK * checking for portable file names ... OK * checking for sufficient/correct file permissions ... OK * checking whether package ‘maser’ can be installed ... OK * checking installed package size ... OK * checking package directory ... OK * checking ‘build’ directory ... OK * checking DESCRIPTION meta-information ... OK * checking top-level files ... OK * checking for left-over files ... OK * checking index information ... OK * checking package subdirectories ... OK * checking code files for non-ASCII characters ... OK * checking R files for syntax errors ... OK * checking whether the package can be loaded ... OK * checking whether the package can be loaded with stated dependencies ... OK * checking whether the package can be unloaded cleanly ... OK * checking whether the namespace can be loaded with stated dependencies ... OK * checking whether the namespace can be unloaded cleanly ... OK * checking loading without being on the library search path ... OK * checking whether startup messages can be suppressed ... OK * checking dependencies in R code ... OK * checking S3 generic/method consistency ... OK * checking replacement functions ... OK * checking foreign function calls ... OK * checking R code for possible problems ... NOTE availableFeaturesUniprotKB: no visible global function definition for 'read.csv' availableFeaturesUniprotKB: no visible binding for global variable 'Category' availableFeaturesUniprotKB: no visible binding for global variable 'Name' filterByIds: no visible binding for global variable 'ID' mapTranscriptsA3SSevent: no visible global function definition for 'subjectHits' mapTranscriptsA5SSevent: no visible global function definition for 'subjectHits' mapTranscriptsMXEevent: no visible global function definition for 'subjectHits' mapTranscriptsRIevent: no visible global function definition for 'subjectHits' mapTranscriptsSEevent: no visible global function definition for 'subjectHits' overlappingFeatures: no visible global function definition for 'subjectHits' urlTracksUniprotKB: no visible global function definition for 'read.csv' Undefined global functions or variables: Category ID Name read.csv subjectHits Consider adding importFrom("utils", "read.csv") to your NAMESPACE file. * checking Rd files ... OK * checking Rd metadata ... OK * checking Rd cross-references ... OK * checking for missing documentation entries ... OK * checking for code/documentation mismatches ... OK * checking Rd \usage sections ... OK * checking Rd contents ... OK * checking for unstated dependencies in examples ... OK * checking R/sysdata.rda ... OK * checking files in ‘vignettes’ ... OK * checking examples ... OK Examples with CPU (user + system) or elapsed time > 5s user system elapsed plotTranscripts 7.711 0.176 7.887 plotUniprotKBFeatures 6.084 0.071 7.922 * checking for unstated dependencies in vignettes ... OK * checking package vignettes ... OK * checking re-building of vignette outputs ... OK * checking PDF version of manual ... OK * DONE Status: 1 NOTE See ‘/home/biocbuild/bbs-3.19-bioc/meat/maser.Rcheck/00check.log’ for details.
maser.Rcheck/00install.out
############################################################################## ############################################################################## ### ### Running command: ### ### /home/biocbuild/bbs-3.19-bioc/R/bin/R CMD INSTALL maser ### ############################################################################## ############################################################################## * installing to library ‘/home/biocbuild/bbs-3.19-bioc/R/site-library’ * installing *source* package ‘maser’ ... ** using staged installation ** R ** inst ** byte-compile and prepare package for lazy loading ** help *** installing help indices ** building package indices ** installing vignettes ** testing if installed package can be loaded from temporary location ** testing if installed package can be loaded from final location ** testing if installed package keeps a record of temporary installation path * DONE (maser)
maser.Rcheck/maser-Ex.timings
name | user | system | elapsed | |
PSI-Maser-character-method | 0.741 | 0.053 | 0.797 | |
PSI | 0.535 | 0.040 | 0.575 | |
annotation-Maser-method | 0.481 | 0.000 | 0.481 | |
availableFeaturesUniprotKB | 0.100 | 0.000 | 0.258 | |
boxplot_PSI_levels | 1.724 | 0.004 | 1.728 | |
counts-Maser-method | 1.905 | 0.003 | 1.909 | |
display | 1.382 | 0.099 | 1.483 | |
dotplot | 3.003 | 0.224 | 3.227 | |
filterByCoverage | 0.847 | 0.001 | 0.847 | |
filterByEventId | 0.881 | 0.000 | 0.881 | |
geneEvents | 0.877 | 0.004 | 0.881 | |
granges-Maser-method | 0.626 | 0.000 | 0.626 | |
mapProteinFeaturesToEvents | 3.677 | 0.116 | 4.926 | |
mapTranscriptsToEvents | 1.507 | 0.020 | 1.527 | |
maser | 0.502 | 0.008 | 0.510 | |
pca | 1.014 | 0.036 | 1.050 | |
plotGenePSI | 1.547 | 0.008 | 1.555 | |
plotTranscripts | 7.711 | 0.176 | 7.887 | |
plotUniprotKBFeatures | 6.084 | 0.071 | 7.922 | |
splicingDistribution | 1.143 | 0.004 | 1.147 | |
summary-Maser-method | 0.681 | 0.004 | 0.685 | |
topEvents | 1.020 | 0.004 | 1.023 | |
volcano | 1.048 | 0.036 | 1.084 | |