Back to Multiple platform build/check report for BioC 3.19: simplified long |
|
This page was generated on 2024-07-24 09:03 -0400 (Wed, 24 Jul 2024).
Hostname | OS | Arch (*) | R version | Installed pkgs |
---|---|---|---|---|
nebbiolo1 | Linux (Ubuntu 22.04.3 LTS) | x86_64 | 4.4.1 (2024-06-14) -- "Race for Your Life" | 4747 |
palomino7 | Windows Server 2022 Datacenter | x64 | 4.4.1 (2024-06-14 ucrt) -- "Race for Your Life" | 4489 |
merida1 | macOS 12.7.5 Monterey | x86_64 | 4.4.1 (2024-06-14) -- "Race for Your Life" | 4518 |
kjohnson1 | macOS 13.6.6 Ventura | arm64 | 4.4.1 (2024-06-14) -- "Race for Your Life" | 4467 |
Click on any hostname to see more info about the system (e.g. compilers) (*) as reported by 'uname -p', except on Windows and Mac OS X |
Package 742/2300 | Hostname | OS / Arch | INSTALL | BUILD | CHECK | BUILD BIN | ||||||||
flowGraph 1.12.0 (landing page) Alice Yue
| nebbiolo1 | Linux (Ubuntu 22.04.3 LTS) / x86_64 | OK | OK | OK | |||||||||
palomino7 | Windows Server 2022 Datacenter / x64 | OK | OK | OK | OK | |||||||||
merida1 | macOS 12.7.5 Monterey / x86_64 | OK | OK | OK | OK | |||||||||
kjohnson1 | macOS 13.6.6 Ventura / arm64 | OK | OK | OK | OK | |||||||||
To the developers/maintainers of the flowGraph package: - Allow up to 24 hours (and sometimes 48 hours) for your latest push to git@git.bioconductor.org:packages/flowGraph.git to reflect on this report. See Troubleshooting Build Report for more information. - Use the following Renviron settings to reproduce errors and warnings. - If 'R CMD check' started to fail recently on the Linux builder(s) over a missing dependency, add the missing dependency to 'Suggests:' in your DESCRIPTION file. See Renviron.bioc for more information. |
Package: flowGraph |
Version: 1.12.0 |
Command: /home/biocbuild/bbs-3.19-bioc/R/bin/R CMD check --install=check:flowGraph.install-out.txt --library=/home/biocbuild/bbs-3.19-bioc/R/site-library --timings flowGraph_1.12.0.tar.gz |
StartedAt: 2024-07-22 00:23:54 -0400 (Mon, 22 Jul 2024) |
EndedAt: 2024-07-22 00:27:45 -0400 (Mon, 22 Jul 2024) |
EllapsedTime: 231.6 seconds |
RetCode: 0 |
Status: OK |
CheckDir: flowGraph.Rcheck |
Warnings: 0 |
############################################################################## ############################################################################## ### ### Running command: ### ### /home/biocbuild/bbs-3.19-bioc/R/bin/R CMD check --install=check:flowGraph.install-out.txt --library=/home/biocbuild/bbs-3.19-bioc/R/site-library --timings flowGraph_1.12.0.tar.gz ### ############################################################################## ############################################################################## * using log directory ‘/home/biocbuild/bbs-3.19-bioc/meat/flowGraph.Rcheck’ * using R version 4.4.1 (2024-06-14) * using platform: x86_64-pc-linux-gnu * R was compiled by gcc (Ubuntu 11.4.0-1ubuntu1~22.04) 11.4.0 GNU Fortran (Ubuntu 11.4.0-1ubuntu1~22.04) 11.4.0 * running under: Ubuntu 22.04.4 LTS * using session charset: UTF-8 * checking for file ‘flowGraph/DESCRIPTION’ ... OK * checking extension type ... Package * this is package ‘flowGraph’ version ‘1.12.0’ * checking package namespace information ... OK * checking package dependencies ... OK * checking if this is a source package ... OK * checking if there is a namespace ... OK * checking for hidden files and directories ... OK * checking for portable file names ... OK * checking for sufficient/correct file permissions ... OK * checking whether package ‘flowGraph’ can be installed ... OK * checking installed package size ... OK * checking package directory ... OK * checking ‘build’ directory ... OK * checking DESCRIPTION meta-information ... OK * checking top-level files ... OK * checking for left-over files ... OK * checking index information ... OK * checking package subdirectories ... OK * checking code files for non-ASCII characters ... OK * checking R files for syntax errors ... OK * checking whether the package can be loaded ... OK * checking whether the package can be loaded with stated dependencies ... OK * checking whether the package can be unloaded cleanly ... OK * checking whether the namespace can be loaded with stated dependencies ... OK * checking whether the namespace can be unloaded cleanly ... OK * checking loading without being on the library search path ... OK * checking dependencies in R code ... OK * checking S3 generic/method consistency ... OK * checking replacement functions ... OK * checking foreign function calls ... OK * checking R code for possible problems ... NOTE get_child: no visible binding for global variable ‘no_cores’ get_paren: no visible binding for global variable ‘no_cores’ ms_psig: no visible binding for global variable ‘meta’ Undefined global functions or variables: meta no_cores * checking Rd files ... NOTE checkRd: (-1) fg_get_graph.Rd:13: Lost braces 13 | A list containing two data frames (\code{v} and ]code{e}) | ^ checkRd: (-1) ggdf.Rd:22: Lost braces 22 | code{ggdf} adds to the data frames \code{v} and \code{e} in slot | ^ * checking Rd metadata ... OK * checking Rd cross-references ... OK * checking for missing documentation entries ... OK * checking for code/documentation mismatches ... OK * checking Rd \usage sections ... OK * checking Rd contents ... OK * checking for unstated dependencies in examples ... OK * checking contents of ‘data’ directory ... OK * checking data for non-ASCII characters ... OK * checking data for ASCII and uncompressed saves ... OK * checking files in ‘vignettes’ ... OK * checking examples ... OK Examples with CPU (user + system) or elapsed time > 5s user system elapsed fg_save_plots 38.555 0.676 39.232 fg_save 38.080 0.828 38.909 fg_load 37.731 0.895 38.531 * checking for unstated dependencies in ‘tests’ ... OK * checking tests ... Running ‘testthat.R’ OK * checking for unstated dependencies in vignettes ... OK * checking package vignettes ... OK * checking re-building of vignette outputs ... OK * checking PDF version of manual ... OK * DONE Status: 2 NOTEs See ‘/home/biocbuild/bbs-3.19-bioc/meat/flowGraph.Rcheck/00check.log’ for details.
flowGraph.Rcheck/00install.out
############################################################################## ############################################################################## ### ### Running command: ### ### /home/biocbuild/bbs-3.19-bioc/R/bin/R CMD INSTALL flowGraph ### ############################################################################## ############################################################################## * installing to library ‘/home/biocbuild/bbs-3.19-bioc/R/site-library’ * installing *source* package ‘flowGraph’ ... ** using staged installation ** R ** data ** inst ** byte-compile and prepare package for lazy loading ** help Loading required namespace: flowGraph *** installing help indices ** building package indices ** installing vignettes ** testing if installed package can be loaded from temporary location ** testing if installed package can be loaded from final location ** testing if installed package keeps a record of temporary installation path * DONE (flowGraph)
flowGraph.Rcheck/tests/testthat.Rout
R version 4.4.1 (2024-06-14) -- "Race for Your Life" Copyright (C) 2024 The R Foundation for Statistical Computing Platform: x86_64-pc-linux-gnu R is free software and comes with ABSOLUTELY NO WARRANTY. You are welcome to redistribute it under certain conditions. Type 'license()' or 'licence()' for distribution details. R is a collaborative project with many contributors. Type 'contributors()' for more information and 'citation()' on how to cite R or R packages in publications. Type 'demo()' for some demos, 'help()' for on-line help, or 'help.start()' for an HTML browser interface to help. Type 'q()' to quit R. > library(testthat) > library(flowGraph) > > test_check("flowGraph") [ FAIL 0 | WARN 0 | SKIP 0 | PASS 34 ] > > proc.time() user system elapsed 5.065 0.210 5.263
flowGraph.Rcheck/flowGraph-Ex.timings
name | user | system | elapsed | |
cell_type_layers | 0.004 | 0.000 | 0.004 | |
fg_add_feature | 0.286 | 0.008 | 0.294 | |
fg_add_summary | 0.728 | 0.004 | 0.732 | |
fg_clean_phen | 0 | 0 | 0 | |
fg_clear_features | 0.736 | 0.004 | 0.740 | |
fg_clear_summary | 0.295 | 0.003 | 0.299 | |
fg_extract_phenotypes | 0.227 | 0.001 | 0.228 | |
fg_extract_raw | 0.689 | 0.004 | 0.693 | |
fg_extract_samples | 0.23 | 0.00 | 0.23 | |
fg_feat_cumsum | 0.236 | 0.035 | 0.272 | |
fg_feat_edge_specenr | 0.35 | 0.00 | 0.35 | |
fg_feat_mean_class | 0.224 | 0.000 | 0.224 | |
fg_feat_node_prop | 0.230 | 0.000 | 0.229 | |
fg_feat_node_specenr | 0.347 | 0.000 | 0.347 | |
fg_feat_prop_edge | 0.244 | 0.007 | 0.251 | |
fg_get_feature | 0.241 | 0.004 | 0.246 | |
fg_get_feature_desc | 0.695 | 0.000 | 0.695 | |
fg_get_feature_means | 1.055 | 0.039 | 1.095 | |
fg_get_graph | 0.228 | 0.005 | 0.232 | |
fg_get_markers | 0.231 | 0.000 | 0.231 | |
fg_get_meta | 0.232 | 0.000 | 0.232 | |
fg_get_summary | 1.535 | 0.012 | 1.547 | |
fg_get_summary_desc | 0.700 | 0.000 | 0.699 | |
fg_get_summary_index | 1.708 | 0.039 | 1.748 | |
fg_get_summary_tables | 1.006 | 0.005 | 1.009 | |
fg_gsub_ids | 0.210 | 0.000 | 0.211 | |
fg_gsub_markers | 0.258 | 0.000 | 0.258 | |
fg_load | 37.731 | 0.895 | 38.531 | |
fg_merge | 0.239 | 0.004 | 0.244 | |
fg_merge_samples | 0.245 | 0.004 | 0.250 | |
fg_plot | 0.360 | 0.004 | 0.365 | |
fg_plot_box | 0.548 | 0.008 | 0.557 | |
fg_plot_pVSdiff | 0.352 | 0.004 | 0.356 | |
fg_plot_qq | 0.924 | 0.024 | 0.948 | |
fg_replace_meta | 0.259 | 0.000 | 0.259 | |
fg_rm_feature | 0.776 | 0.000 | 0.775 | |
fg_rm_summary | 0.355 | 0.000 | 0.354 | |
fg_save | 38.080 | 0.828 | 38.909 | |
fg_save_plots | 38.555 | 0.676 | 39.232 | |
fg_set_layout | 0.24 | 0.00 | 0.24 | |
fg_summary | 0.308 | 0.000 | 0.308 | |
flowGraph-class | 0.001 | 0.000 | 0.001 | |
flowGraph | 1.028 | 0.000 | 1.028 | |
flowGraphSubset | 0 | 0 | 0 | |
flowGraphSubset_summary_adjust | 0.001 | 0.000 | 0.001 | |
flowGraphSubset_summary_pars | 0.001 | 0.000 | 0.000 | |
get_phen_list | 0.012 | 0.000 | 0.012 | |
get_phen_meta | 0.002 | 0.000 | 0.002 | |
ggdf | 0.219 | 0.010 | 0.229 | |
loop_ind_f | 0.000 | 0.000 | 0.001 | |
meandiff | 0.000 | 0.000 | 0.001 | |
plot_gr | 1.317 | 0.008 | 1.324 | |
set_layout_graph | 0.244 | 0.023 | 0.267 | |
summary_table | 0.003 | 0.000 | 0.003 | |
time_output | 0.001 | 0.000 | 0.001 | |
tstr | 0.001 | 0.000 | 0.000 | |