Back to Multiple platform build/check report for BioC 3.19: simplified long |
|
This page was generated on 2024-07-24 09:06 -0400 (Wed, 24 Jul 2024).
Hostname | OS | Arch (*) | R version | Installed pkgs |
---|---|---|---|---|
nebbiolo1 | Linux (Ubuntu 22.04.3 LTS) | x86_64 | 4.4.1 (2024-06-14) -- "Race for Your Life" | 4747 |
palomino7 | Windows Server 2022 Datacenter | x64 | 4.4.1 (2024-06-14 ucrt) -- "Race for Your Life" | 4489 |
merida1 | macOS 12.7.5 Monterey | x86_64 | 4.4.1 (2024-06-14) -- "Race for Your Life" | 4518 |
kjohnson1 | macOS 13.6.6 Ventura | arm64 | 4.4.1 (2024-06-14) -- "Race for Your Life" | 4467 |
Click on any hostname to see more info about the system (e.g. compilers) (*) as reported by 'uname -p', except on Windows and Mac OS X |
Package 2113/2300 | Hostname | OS / Arch | INSTALL | BUILD | CHECK | BUILD BIN | ||||||||
SWATH2stats 1.34.0 (landing page) Peter Blattmann
| nebbiolo1 | Linux (Ubuntu 22.04.3 LTS) / x86_64 | OK | OK | OK | |||||||||
palomino7 | Windows Server 2022 Datacenter / x64 | OK | OK | OK | OK | |||||||||
merida1 | macOS 12.7.5 Monterey / x86_64 | OK | OK | OK | OK | |||||||||
kjohnson1 | macOS 13.6.6 Ventura / arm64 | OK | OK | ERROR | OK | |||||||||
To the developers/maintainers of the SWATH2stats package: - Allow up to 24 hours (and sometimes 48 hours) for your latest push to git@git.bioconductor.org:packages/SWATH2stats.git to reflect on this report. See Troubleshooting Build Report for more information. - Use the following Renviron settings to reproduce errors and warnings. - If 'R CMD check' started to fail recently on the Linux builder(s) over a missing dependency, add the missing dependency to 'Suggests:' in your DESCRIPTION file. See Renviron.bioc for more information. |
Package: SWATH2stats |
Version: 1.34.0 |
Command: /Library/Frameworks/R.framework/Resources/bin/R CMD check --install=check:SWATH2stats.install-out.txt --library=/Library/Frameworks/R.framework/Resources/library --no-vignettes --timings SWATH2stats_1.34.0.tar.gz |
StartedAt: 2024-07-22 13:38:24 -0400 (Mon, 22 Jul 2024) |
EndedAt: 2024-07-22 13:44:51 -0400 (Mon, 22 Jul 2024) |
EllapsedTime: 386.9 seconds |
RetCode: 0 |
Status: OK |
CheckDir: SWATH2stats.Rcheck |
Warnings: 0 |
############################################################################## ############################################################################## ### ### Running command: ### ### /Library/Frameworks/R.framework/Resources/bin/R CMD check --install=check:SWATH2stats.install-out.txt --library=/Library/Frameworks/R.framework/Resources/library --no-vignettes --timings SWATH2stats_1.34.0.tar.gz ### ############################################################################## ############################################################################## * using log directory ‘/Users/biocbuild/bbs-3.19-bioc/meat/SWATH2stats.Rcheck’ * using R version 4.4.1 (2024-06-14) * using platform: x86_64-apple-darwin20 * R was compiled by Apple clang version 14.0.0 (clang-1400.0.29.202) GNU Fortran (GCC) 12.2.0 * running under: macOS Monterey 12.7.5 * using session charset: UTF-8 * using option ‘--no-vignettes’ * checking for file ‘SWATH2stats/DESCRIPTION’ ... OK * checking extension type ... Package * this is package ‘SWATH2stats’ version ‘1.34.0’ * package encoding: UTF-8 * checking package namespace information ... OK * checking package dependencies ... NOTE Package which this enhances but not available for checking: ‘aLFQ’ * checking if this is a source package ... OK * checking if there is a namespace ... OK * checking for hidden files and directories ... OK * checking for portable file names ... OK * checking for sufficient/correct file permissions ... OK * checking whether package ‘SWATH2stats’ can be installed ... OK * checking installed package size ... OK * checking package directory ... OK * checking ‘build’ directory ... OK * checking DESCRIPTION meta-information ... OK * checking top-level files ... OK * checking for left-over files ... OK * checking index information ... OK * checking package subdirectories ... OK * checking code files for non-ASCII characters ... OK * checking R files for syntax errors ... OK * checking whether the package can be loaded ... OK * checking whether the package can be loaded with stated dependencies ... OK * checking whether the package can be unloaded cleanly ... OK * checking whether the namespace can be loaded with stated dependencies ... OK * checking whether the namespace can be unloaded cleanly ... OK * checking dependencies in R code ... OK * checking S3 generic/method consistency ... OK * checking replacement functions ... OK * checking foreign function calls ... OK * checking R code for possible problems ... OK * checking Rd files ... OK * checking Rd metadata ... OK * checking Rd cross-references ... OK * checking for missing documentation entries ... OK * checking for code/documentation mismatches ... OK * checking Rd \usage sections ... OK * checking Rd contents ... OK * checking for unstated dependencies in examples ... OK * checking contents of ‘data’ directory ... OK * checking data for non-ASCII characters ... OK * checking data for ASCII and uncompressed saves ... OK * checking sizes of PDF files under ‘inst/doc’ ... OK * checking files in ‘vignettes’ ... OK * checking examples ... OK Examples with CPU (user + system) or elapsed time > 5s user system elapsed load_mart 2.51 0.168 64.083 * checking for unstated dependencies in ‘tests’ ... OK * checking tests ... Running ‘test-all.R’ OK * checking for unstated dependencies in vignettes ... OK * checking package vignettes ... OK * checking running R code from vignettes ... SKIPPED * checking re-building of vignette outputs ... SKIPPED * checking PDF version of manual ... OK * DONE Status: 1 NOTE See ‘/Users/biocbuild/bbs-3.19-bioc/meat/SWATH2stats.Rcheck/00check.log’ for details.
SWATH2stats.Rcheck/00install.out
############################################################################## ############################################################################## ### ### Running command: ### ### /Library/Frameworks/R.framework/Resources/bin/R CMD INSTALL SWATH2stats ### ############################################################################## ############################################################################## * installing to library ‘/Library/Frameworks/R.framework/Versions/4.4-x86_64/Resources/library’ * installing *source* package ‘SWATH2stats’ ... ** using staged installation ** R ** data ** inst ** byte-compile and prepare package for lazy loading ** help *** installing help indices ** building package indices ** installing vignettes ** testing if installed package can be loaded from temporary location ** testing if installed package can be loaded from final location ** testing if installed package keeps a record of temporary installation path * DONE (SWATH2stats)
SWATH2stats.Rcheck/tests/test-all.Rout
R version 4.4.1 (2024-06-14) -- "Race for Your Life" Copyright (C) 2024 The R Foundation for Statistical Computing Platform: x86_64-apple-darwin20 R is free software and comes with ABSOLUTELY NO WARRANTY. You are welcome to redistribute it under certain conditions. Type 'license()' or 'licence()' for distribution details. R is a collaborative project with many contributors. Type 'contributors()' for more information and 'citation()' on how to cite R or R packages in publications. Type 'demo()' for some demos, 'help()' for on-line help, or 'help.start()' for an HTML browser interface to help. Type 'q()' to quit R. > library(testthat) > test_check("SWATH2stats") Loading required package: SWATH2stats [1] "peterb_J131223_054" [1] "peterb_L150425_011_SW" [1] "peterb_L150514_002_SW" [ FAIL 0 | WARN 74 | SKIP 0 | PASS 113 ] [ FAIL 0 | WARN 74 | SKIP 0 | PASS 113 ] > > proc.time() user system elapsed 28.042 1.267 34.838
SWATH2stats.Rcheck/SWATH2stats-Ex.timings
name | user | system | elapsed | |
JPP_update | 0.198 | 0.009 | 0.227 | |
add_genesymbol | 0.011 | 0.002 | 0.016 | |
assess_decoy_rate | 0.221 | 0.007 | 0.243 | |
assess_fdr_byrun | 0.332 | 0.015 | 0.381 | |
assess_fdr_overall | 0.414 | 0.015 | 0.462 | |
convert4MSstats | 0.875 | 0.025 | 0.964 | |
convert4PECA | 0.274 | 0.009 | 0.299 | |
convert4aLFQ | 0.882 | 0.030 | 0.970 | |
convert4mapDIA | 0.800 | 0.029 | 0.937 | |
convert4pythonscript | 0.221 | 0.005 | 0.246 | |
convert_protein_ids | 0.000 | 0.001 | 0.001 | |
count_analytes | 0.232 | 0.006 | 0.276 | |
disaggregate | 0.787 | 0.033 | 0.913 | |
filter_all_peptides | 0.217 | 0.005 | 0.250 | |
filter_mscore | 0.289 | 0.012 | 0.333 | |
filter_mscore_condition | 0.287 | 0.010 | 0.342 | |
filter_mscore_fdr | 0.775 | 0.031 | 0.910 | |
filter_mscore_freqobs | 0.271 | 0.007 | 0.313 | |
filter_on_max_peptides | 0.264 | 0.008 | 0.309 | |
filter_on_min_peptides | 0.284 | 0.009 | 0.318 | |
filter_proteotypic_peptides | 0.223 | 0.004 | 0.259 | |
import_data | 0.727 | 0.041 | 0.873 | |
load_mart | 2.510 | 0.168 | 64.083 | |
mscore4assayfdr | 0.548 | 0.030 | 0.652 | |
mscore4pepfdr | 0.572 | 0.018 | 0.663 | |
mscore4protfdr | 0.442 | 0.009 | 0.503 | |
plot.fdr_cube | 0.293 | 0.010 | 0.338 | |
plot.fdr_table | 0.272 | 0.009 | 0.314 | |
plot_correlation_between_samples | 0.888 | 0.015 | 1.000 | |
plot_variation | 0.938 | 0.009 | 1.060 | |
plot_variation_vs_total | 0.802 | 0.012 | 0.908 | |
reduce_OpenSWATH_output | 0.206 | 0.004 | 0.242 | |
removeDecoyProteins | 0.217 | 0.005 | 0.255 | |
sample_annotation | 0.268 | 0.015 | 0.313 | |
transform_MSstats_OpenSWATH | 0.005 | 0.001 | 0.007 | |
unifyProteinGroupLabels | 0.246 | 0.006 | 0.287 | |
validate_columns | 0.002 | 0.000 | 0.002 | |
write_matrix_peptides | 0.227 | 0.004 | 0.263 | |
write_matrix_proteins | 0.222 | 0.004 | 0.259 | |