Back to Multiple platform build/check report for BioC 3.19: simplified long |
|
This page was generated on 2024-07-24 09:04 -0400 (Wed, 24 Jul 2024).
Hostname | OS | Arch (*) | R version | Installed pkgs |
---|---|---|---|---|
nebbiolo1 | Linux (Ubuntu 22.04.3 LTS) | x86_64 | 4.4.1 (2024-06-14) -- "Race for Your Life" | 4747 |
palomino7 | Windows Server 2022 Datacenter | x64 | 4.4.1 (2024-06-14 ucrt) -- "Race for Your Life" | 4489 |
merida1 | macOS 12.7.5 Monterey | x86_64 | 4.4.1 (2024-06-14) -- "Race for Your Life" | 4518 |
kjohnson1 | macOS 13.6.6 Ventura | arm64 | 4.4.1 (2024-06-14) -- "Race for Your Life" | 4467 |
Click on any hostname to see more info about the system (e.g. compilers) (*) as reported by 'uname -p', except on Windows and Mac OS X |
Package 1343/2300 | Hostname | OS / Arch | INSTALL | BUILD | CHECK | BUILD BIN | ||||||||
MsBackendRawFileReader 1.10.0 (landing page) Christian Panse
| nebbiolo1 | Linux (Ubuntu 22.04.3 LTS) / x86_64 | OK | OK | OK | |||||||||
palomino7 | Windows Server 2022 Datacenter / x64 | OK | OK | OK | OK | |||||||||
merida1 | macOS 12.7.5 Monterey / x86_64 | OK | OK | OK | OK | |||||||||
kjohnson1 | macOS 13.6.6 Ventura / arm64 | OK | OK | OK | OK | |||||||||
To the developers/maintainers of the MsBackendRawFileReader package: - Allow up to 24 hours (and sometimes 48 hours) for your latest push to git@git.bioconductor.org:packages/MsBackendRawFileReader.git to reflect on this report. See Troubleshooting Build Report for more information. - Use the following Renviron settings to reproduce errors and warnings. - If 'R CMD check' started to fail recently on the Linux builder(s) over a missing dependency, add the missing dependency to 'Suggests:' in your DESCRIPTION file. See Renviron.bioc for more information. |
Package: MsBackendRawFileReader |
Version: 1.10.0 |
Command: E:\biocbuild\bbs-3.19-bioc\R\bin\R.exe CMD check --no-multiarch --install=check:MsBackendRawFileReader.install-out.txt --library=E:\biocbuild\bbs-3.19-bioc\R\library --no-vignettes --timings MsBackendRawFileReader_1.10.0.tar.gz |
StartedAt: 2024-07-22 04:11:42 -0400 (Mon, 22 Jul 2024) |
EndedAt: 2024-07-22 04:17:27 -0400 (Mon, 22 Jul 2024) |
EllapsedTime: 345.2 seconds |
RetCode: 0 |
Status: OK |
CheckDir: MsBackendRawFileReader.Rcheck |
Warnings: 0 |
############################################################################## ############################################################################## ### ### Running command: ### ### E:\biocbuild\bbs-3.19-bioc\R\bin\R.exe CMD check --no-multiarch --install=check:MsBackendRawFileReader.install-out.txt --library=E:\biocbuild\bbs-3.19-bioc\R\library --no-vignettes --timings MsBackendRawFileReader_1.10.0.tar.gz ### ############################################################################## ############################################################################## * using log directory 'E:/biocbuild/bbs-3.19-bioc/meat/MsBackendRawFileReader.Rcheck' * using R version 4.4.1 (2024-06-14 ucrt) * using platform: x86_64-w64-mingw32 * R was compiled by gcc.exe (GCC) 13.2.0 GNU Fortran (GCC) 13.2.0 * running under: Windows Server 2022 x64 (build 20348) * using session charset: UTF-8 * using option '--no-vignettes' * checking for file 'MsBackendRawFileReader/DESCRIPTION' ... OK * checking extension type ... Package * this is package 'MsBackendRawFileReader' version '1.10.0' * package encoding: UTF-8 * checking package namespace information ... OK * checking package dependencies ... OK * checking if this is a source package ... OK * checking if there is a namespace ... OK * checking for hidden files and directories ... OK * checking for portable file names ... OK * checking whether package 'MsBackendRawFileReader' can be installed ... OK * checking installed package size ... OK * checking package directory ... OK * checking 'build' directory ... OK * checking DESCRIPTION meta-information ... OK * checking top-level files ... OK * checking for left-over files ... OK * checking index information ... OK * checking package subdirectories ... OK * checking code files for non-ASCII characters ... OK * checking R files for syntax errors ... OK * checking whether the package can be loaded ... OK * checking whether the package can be loaded with stated dependencies ... OK * checking whether the package can be unloaded cleanly ... OK * checking whether the namespace can be loaded with stated dependencies ... OK * checking whether the namespace can be unloaded cleanly ... OK * checking whether startup messages can be suppressed ... OK * checking dependencies in R code ... OK * checking S3 generic/method consistency ... OK * checking replacement functions ... OK * checking foreign function calls ... OK * checking R code for possible problems ... NOTE filterScan,MsBackendRawFileReader : <anonymous>: no visible global function definition for 'scanIndex' peaksData,MsBackendRawFileReader: no visible global function definition for 'scanIndex' Undefined global functions or variables: scanIndex * checking Rd files ... OK * checking Rd metadata ... OK * checking Rd cross-references ... OK * checking for missing documentation entries ... OK * checking for code/documentation mismatches ... OK * checking Rd \usage sections ... OK * checking Rd contents ... OK * checking for unstated dependencies in examples ... OK * checking files in 'vignettes' ... OK * checking examples ... OK Examples with CPU (user + system) or elapsed time > 5s user system elapsed ioBenchmark 9.23 2.23 58.45 MsBackendRawFileReader-class 0.84 0.03 13.02 MsBackendRawFileReader 0.85 0.02 29.17 hidden_aliases 0.32 0.00 11.68 * checking for unstated dependencies in 'tests' ... OK * checking tests ... Running 'testthat.R' OK * checking for unstated dependencies in vignettes ... OK * checking package vignettes ... OK * checking running R code from vignettes ... SKIPPED * checking re-building of vignette outputs ... SKIPPED * checking PDF version of manual ... OK * DONE Status: 1 NOTE See 'E:/biocbuild/bbs-3.19-bioc/meat/MsBackendRawFileReader.Rcheck/00check.log' for details.
MsBackendRawFileReader.Rcheck/00install.out
############################################################################## ############################################################################## ### ### Running command: ### ### E:\biocbuild\bbs-3.19-bioc\R\bin\R.exe CMD INSTALL MsBackendRawFileReader ### ############################################################################## ############################################################################## * installing to library 'E:/biocbuild/bbs-3.19-bioc/R/library' * installing *source* package 'MsBackendRawFileReader' ... ** using staged installation ** R ** inst ** byte-compile and prepare package for lazy loading ** help *** installing help indices ** building package indices ** installing vignettes ** testing if installed package can be loaded from temporary location ** testing if installed package can be loaded from final location ** testing if installed package keeps a record of temporary installation path * DONE (MsBackendRawFileReader)
MsBackendRawFileReader.Rcheck/tests/testthat.Rout
R version 4.4.1 (2024-06-14 ucrt) -- "Race for Your Life" Copyright (C) 2024 The R Foundation for Statistical Computing Platform: x86_64-w64-mingw32/x64 R is free software and comes with ABSOLUTELY NO WARRANTY. You are welcome to redistribute it under certain conditions. Type 'license()' or 'licence()' for distribution details. R is a collaborative project with many contributors. Type 'contributors()' for more information and 'citation()' on how to cite R or R packages in publications. Type 'demo()' for some demos, 'help()' for on-line help, or 'help.start()' for an HTML browser interface to help. Type 'q()' to quit R. > library("testthat") > library("MsBackendRawFileReader") Loading required package: Spectra Loading required package: S4Vectors Loading required package: stats4 Loading required package: BiocGenerics Attaching package: 'BiocGenerics' The following objects are masked from 'package:stats': IQR, mad, sd, var, xtabs The following objects are masked from 'package:base': Filter, Find, Map, Position, Reduce, anyDuplicated, aperm, append, as.data.frame, basename, cbind, colnames, dirname, do.call, duplicated, eval, evalq, get, grep, grepl, intersect, is.unsorted, lapply, mapply, match, mget, order, paste, pmax, pmax.int, pmin, pmin.int, rank, rbind, rownames, sapply, setdiff, table, tapply, union, unique, unsplit, which.max, which.min Attaching package: 'S4Vectors' The following object is masked from 'package:utils': findMatches The following objects are masked from 'package:base': I, expand.grid, unname Loading required package: BiocParallel Loading required package: ProtGenerics Attaching package: 'ProtGenerics' The following object is masked from 'package:stats': smooth > library("Spectra") > > > sample_raw_file <- file.path(system.file(package = "rawrr"), + 'extdata', 'sample.raw') > > sample_mzXML_file <- file.path(path.package(package = 'MsBackendRawFileReader'), + 'extdata', 'sample.mzXML') > > > sample_raw <- backendInitialize(MsBackendRawFileReader::MsBackendRawFileReader(), files = sample_raw_file) > > > #sample_mzr <- backendInitialize(MsBackendMzR(), files = sample_mzXML_file) > > > mgf_file <- file.path(system.file(package = "MsBackendRawFileReader"), + 'extdata', '3159619b11ed_4590_9594.mgf') > > > rv <- lapply(1:2, function(x){ + file.copy(from = sample_raw_file, to = tempfile(fileext='.raw'))}) > > > register(SnowParam(workers = 1, type = "SOCK") , default = TRUE); > sample_raw_2 <- backendInitialize(MsBackendRawFileReader(), + files = file.path(tempdir(), + list.files(path = tempdir(), pattern = 'raw$'))) > > > test_check("MsBackendRawFileReader") [ FAIL 0 | WARN 1 | SKIP 2 | PASS 21 ] ══ Skipped tests (2) ═══════════════════════════════════════════════════════════ • isFALSE(file.exists(sample_mzXML_file)) is TRUE (1): 'test_MsBackendMzR_MsBackendRawFileReader.R:1:1' • isFALSE(require(MsBackendRawMgf)) is TRUE (1): 'test_top_n_mgf.R:1:1' [ FAIL 0 | WARN 1 | SKIP 2 | PASS 21 ] > > > be <- Spectra::backendInitialize(MsBackendRawFileReader::MsBackendRawFileReader(), + files = c(sample_raw_file)) > > ## Run the MsBackend spectra variable test suite > test_suite <- system.file("test_backends", "test_MsBackend", + package = "Spectra") > > #res <- test_file(paste0(test_suite, "/test_spectra_variables.R"), > # reporter = check_reporter(), stop_on_failure = TRUE) > > > ## Run the whole suite. > res <- test_dir(test_suite, stop_on_failure = TRUE) ✔ | F W S OK | Context ⠏ | 0 | peaks_variables ⠙ | 2 | peaks_variables ⠸ | 4 | peaks_variables ✔ | 4 | peaks_variables [6.9s] ⠏ | 0 | spectra_subsetting ⠋ | 1 | spectra_subsetting ⠏ | 10 | spectra_subsetting ⠙ | 22 | spectra_subsetting ⠸ | 34 | spectra_subsetting ⠹ | 43 | spectra_subsetting ⠼ | 55 | spectra_subsetting ⠦ | 67 | spectra_subsetting ⠇ | 79 | spectra_subsetting ⠇ | 89 | spectra_subsetting ⠏ | 100 | spectra_subsetting ⠙ | 112 | spectra_subsetting ⠼ | 125 | spectra_subsetting ⠴ | 136 | spectra_subsetting ⠼ | 145 | spectra_subsetting ⠸ | 154 | spectra_subsetting ⠹ | 163 | spectra_subsetting ⠙ | 172 | spectra_subsetting ⠋ | 181 | spectra_subsetting ⠏ | 190 | spectra_subsetting ⠏ | 200 | spectra_subsetting ⠇ | 209 | spectra_subsetting ⠧ | 218 | spectra_subsetting ⠇ | 229 | spectra_subsetting ⠧ | 238 | spectra_subsetting ⠼ | 245 | spectra_subsetting ⠹ | 253 | spectra_subsetting ⠇ | 259 | spectra_subsetting ⠋ | 271 | spectra_subsetting ⠏ | 280 | spectra_subsetting ⠇ | 289 | spectra_subsetting ⠋ | 301 | spectra_subsetting ⠹ | 313 | spectra_subsetting ⠼ | 325 | spectra_subsetting ⠸ | 334 | spectra_subsetting ⠇ | 349 | spectra_subsetting ⠋ | 361 | spectra_subsetting ⠹ | 373 | spectra_subsetting ⠧ | 388 | spectra_subsetting ⠦ | 397 | spectra_subsetting ⠴ | 406 | spectra_subsetting ⠼ | 415 | spectra_subsetting ⠸ | 424 | spectra_subsetting ⠹ | 433 | spectra_subsetting ⠼ | 445 | spectra_subsetting ⠦ | 457 | spectra_subsetting ⠴ | 466 | spectra_subsetting ⠼ | 475 | spectra_subsetting ⠸ | 484 | spectra_subsetting ⠹ | 493 | spectra_subsetting ⠼ | 505 | spectra_subsetting ⠦ | 517 | spectra_subsetting ⠏ | 530 | spectra_subsetting ⠋ | 541 | spectra_subsetting ⠹ | 553 | spectra_subsetting ⠴ | 566 | spectra_subsetting ⠧ | 578 | spectra_subsetting ⠧ | 588 | spectra_subsetting ⠦ | 597 | spectra_subsetting ⠴ | 606 | spectra_subsetting ⠴ | 616 | spectra_subsetting ⠼ | 625 | spectra_subsetting ⠼ | 635 | spectra_subsetting ⠦ | 647 | spectra_subsetting ⠴ | 656 | spectra_subsetting ⠼ | 665 | spectra_subsetting ⠴ | 676 | spectra_subsetting ⠹ | 683 | spectra_subsetting ⠋ | 691 | spectra_subsetting ⠏ | 700 | spectra_subsetting ⠙ | 712 | spectra_subsetting ⠸ | 724 | spectra_subsetting ⠹ | 733 | spectra_subsetting ⠸ | 744 | spectra_subsetting ⠹ | 753 | spectra_subsetting ⠹ | 763 | spectra_subsetting ⠏ | 770 | spectra_subsetting ⠋ | 781 | spectra_subsetting ⠏ | 790 | spectra_subsetting ⠇ | 799 | spectra_subsetting ⠇ | 809 | spectra_subsetting ⠧ | 818 | spectra_subsetting ⠦ | 827 | spectra_subsetting ⠦ | 837 | spectra_subsetting ⠼ | 845 | spectra_subsetting ⠸ | 854 | spectra_subsetting ⠸ | 864 | spectra_subsetting ⠋ | 871 | spectra_subsetting ⠏ | 880 | spectra_subsetting ⠙ | 892 | spectra_subsetting ⠹ | 903 | spectra_subsetting ⠙ | 912 | spectra_subsetting ⠏ | 920 | spectra_subsetting ⠧ | 928 | spectra_subsetting ⠏ | 940 | spectra_subsetting ⠙ | 952 | spectra_subsetting ⠸ | 964 | spectra_subsetting ⠴ | 976 | spectra_subsetting ⠧ | 988 | spectra_subsetting ⠏ | 1000 | spectra_subsetting ⠇ | 1009 | spectra_subsetting ⠇ | 1019 | spectra_subsetting ⠏ | 1030 | spectra_subsetting ⠋ | 1041 | spectra_subsetting ⠧ | 1048 | spectra_subsetting ⠴ | 1056 | spectra_subsetting ⠴ | 1066 | spectra_subsetting ⠼ | 1075 | spectra_subsetting ⠸ | 1084 | spectra_subsetting ⠴ | 1096 | spectra_subsetting ⠴ | 1106 | spectra_subsetting ⠦ | 1117 | spectra_subsetting ⠴ | 1126 | spectra_subsetting ⠼ | 1135 | spectra_subsetting ⠹ | 1143 | spectra_subsetting ⠹ | 1153 | spectra_subsetting ⠙ | 1162 | spectra_subsetting ⠋ | 1171 | spectra_subsetting ⠏ | 1180 | spectra_subsetting ⠇ | 1189 | spectra_subsetting ⠧ | 1198 | spectra_subsetting ⠦ | 1207 | spectra_subsetting ⠦ | 1217 | spectra_subsetting ⠴ | 1226 | spectra_subsetting ⠦ | 1237 | spectra_subsetting ⠇ | 1249 | spectra_subsetting ⠴ | 1256 | spectra_subsetting ⠸ | 1264 | spectra_subsetting ⠹ | 1273 | spectra_subsetting ⠹ | 1283 | spectra_subsetting ⠋ | 1291 | spectra_subsetting ⠏ | 1300 | spectra_subsetting ⠼ | 1315 | spectra_subsetting ⠼ | 1325 | spectra_subsetting ⠴ | 1336 | spectra_subsetting ⠼ | 1345 | spectra_subsetting ⠼ | 1355 | spectra_subsetting ⠴ | 1366 | spectra_subsetting ⠹ | 1373 | spectra_subsetting ⠋ | 1381 | spectra_subsetting ⠋ | 1391 | spectra_subsetting ⠏ | 1400 | spectra_subsetting ⠧ | 1408 | spectra_subsetting ⠦ | 1417 | spectra_subsetting ⠦ | 1427 | spectra_subsetting ⠴ | 1436 | spectra_subsetting ⠸ | 1444 | spectra_subsetting ⠹ | 1453 | spectra_subsetting ⠴ | 1466 | spectra_subsetting ⠦ | 1477 | spectra_subsetting ⠏ | 1490 | spectra_subsetting ⠙ | 1502 | spectra_subsetting ⠹ | 1513 | spectra_subsetting ⠙ | 1522 | spectra_subsetting ⠋ | 1531 | spectra_subsetting ⠏ | 1540 | spectra_subsetting ⠇ | 1549 | spectra_subsetting ⠧ | 1558 | spectra_subsetting ⠦ | 1567 | spectra_subsetting ⠦ | 1577 | spectra_subsetting ⠴ | 1586 | spectra_subsetting ⠸ | 1594 | spectra_subsetting ⠇ | 1609 | spectra_subsetting ⠋ | 1621 | spectra_subsetting ⠹ | 1633 | spectra_subsetting ⠼ | 1645 | spectra_subsetting ⠦ | 1657 | spectra_subsetting ⠇ | 1669 | spectra_subsetting ⠋ | 1681 | spectra_subsetting ⠏ | 1690 | spectra_subsetting ⠇ | 1699 | spectra_subsetting ⠙ | 1712 | spectra_subsetting ⠹ | 1723 | spectra_subsetting ⠦ | 1727 | spectra_subsetting ⠇ | 1729 | spectra_subsetting ⠋ | 1731 | spectra_subsetting ⠹ | 1733 | spectra_subsetting ⠼ | 1735 | spectra_subsetting ⠦ | 1737 | spectra_subsetting ⠇ | 1739 | spectra_subsetting ⠋ | 1741 | spectra_subsetting ⠹ | 1743 | spectra_subsetting ⠸ | 1744 | spectra_subsetting ⠴ | 1746 | spectra_subsetting ⠧ | 1748 | spectra_subsetting ⠏ | 1750 | spectra_subsetting ⠙ | 1752 | spectra_subsetting ⠹ | 1753 | spectra_subsetting ⠼ | 1755 | spectra_subsetting ⠦ | 1757 | spectra_subsetting ⠇ | 1759 | spectra_subsetting ⠋ | 1761 | spectra_subsetting ⠹ | 1763 | spectra_subsetting ⠸ | 1764 | spectra_subsetting ⠴ | 1766 | spectra_subsetting ⠧ | 1768 | spectra_subsetting ⠏ | 1770 | spectra_subsetting ⠙ | 1772 | spectra_subsetting ⠸ | 1774 | spectra_subsetting ⠴ | 1776 | spectra_subsetting ⠧ | 1778 | spectra_subsetting ⠏ | 1780 | spectra_subsetting ⠙ | 1782 | spectra_subsetting ⠹ | 1783 | spectra_subsetting ⠼ | 1785 | spectra_subsetting ⠦ | 1787 | spectra_subsetting ⠇ | 1789 | spectra_subsetting ⠋ | 1791 | spectra_subsetting ⠹ | 1793 | spectra_subsetting ⠼ | 1795 | spectra_subsetting ⠦ | 1797 | spectra_subsetting ⠧ | 1798 | spectra_subsetting ⠏ | 1800 | spectra_subsetting ⠙ | 1802 | spectra_subsetting ⠹ | 1803 | spectra_subsetting ⠼ | 1805 | spectra_subsetting ⠦ | 1807 | spectra_subsetting ⠇ | 1809 | spectra_subsetting ⠏ | 1810 | spectra_subsetting ⠙ | 1812 | spectra_subsetting ⠹ | 1813 | spectra_subsetting ⠼ | 1815 | spectra_subsetting ⠦ | 1817 | spectra_subsetting ⠇ | 1819 | spectra_subsetting ⠏ | 1820 | spectra_subsetting ⠋ | 1821 | spectra_subsetting ⠹ | 1823 | spectra_subsetting ⠼ | 1825 | spectra_subsetting ⠦ | 1827 | spectra_subsetting ⠇ | 1829 | spectra_subsetting ⠋ | 1831 | spectra_subsetting ⠹ | 1833 | spectra_subsetting ⠼ | 1835 | spectra_subsetting ⠦ | 1837 | spectra_subsetting ⠇ | 1839 | spectra_subsetting ⠏ | 1840 | spectra_subsetting ⠙ | 1842 | spectra_subsetting ⠸ | 1844 | spectra_subsetting ⠴ | 1846 | spectra_subsetting ⠧ | 1848 | spectra_subsetting ⠏ | 1850 | spectra_subsetting ⠙ | 1852 | spectra_subsetting ⠸ | 1854 | spectra_subsetting ⠼ | 1855 | spectra_subsetting ⠦ | 1857 | spectra_subsetting ⠇ | 1859 | spectra_subsetting ⠋ | 1861 | spectra_subsetting ⠹ | 1863 | spectra_subsetting ⠼ | 1865 | spectra_subsetting ⠦ | 1867 | spectra_subsetting ⠇ | 1869 | spectra_subsetting ⠋ | 1871 | spectra_subsetting ⠹ | 1873 | spectra_subsetting ⠼ | 1875 | spectra_subsetting ⠦ | 1877 | spectra_subsetting ⠇ | 1879 | spectra_subsetting ⠋ | 1881 | spectra_subsetting ⠹ | 1883 | spectra_subsetting ⠼ | 1885 | spectra_subsetting ⠦ | 1887 | spectra_subsetting ⠇ | 1889 | spectra_subsetting ⠋ | 1891 | spectra_subsetting ⠹ | 1893 | spectra_subsetting ⠼ | 1895 | spectra_subsetting ⠦ | 1897 | spectra_subsetting ⠏ | 1900 | spectra_subsetting ⠙ | 1902 | spectra_subsetting ⠸ | 1904 | spectra_subsetting ⠴ | 1906 | spectra_subsetting ⠧ | 1908 | spectra_subsetting ⠏ | 1910 | spectra_subsetting ⠹ | 1913 | spectra_subsetting ⠴ | 1916 | spectra_subsetting ⠧ | 1918 | spectra_subsetting ⠏ | 1920 | spectra_subsetting ⠙ | 1922 | spectra_subsetting ⠸ | 1924 | spectra_subsetting ⠴ | 1926 | spectra_subsetting ⠧ | 1928 | spectra_subsetting ⠏ | 1930 | spectra_subsetting ⠙ | 1932 | spectra_subsetting ⠸ | 1934 | spectra_subsetting ⠴ | 1936 | spectra_subsetting ⠧ | 1938 | spectra_subsetting ⠏ | 1940 | spectra_subsetting ⠙ | 1942 | spectra_subsetting ⠹ | 1943 | spectra_subsetting ⠼ | 1945 | spectra_subsetting ⠦ | 1947 | spectra_subsetting ⠇ | 1949 | spectra_subsetting ⠋ | 1951 | spectra_subsetting ⠹ | 1953 | spectra_subsetting ⠼ | 1955 | spectra_subsetting ⠦ | 1957 | spectra_subsetting ⠇ | 1959 | spectra_subsetting ⠋ | 1961 | spectra_subsetting ⠹ | 1963 | spectra_subsetting ⠼ | 1965 | spectra_subsetting ⠦ | 1967 | spectra_subsetting ⠇ | 1969 | spectra_subsetting ⠋ | 1971 | spectra_subsetting ⠹ | 1973 | spectra_subsetting ⠼ | 1975 | spectra_subsetting ⠦ | 1977 | spectra_subsetting ⠇ | 1979 | spectra_subsetting ⠋ | 1981 | spectra_subsetting ⠸ | 1984 | spectra_subsetting ⠴ | 1986 | spectra_subsetting ⠧ | 1988 | spectra_subsetting ⠏ | 1990 | spectra_subsetting ⠙ | 1992 | spectra_subsetting ⠸ | 1994 | spectra_subsetting ⠴ | 1996 | spectra_subsetting ⠧ | 1998 | spectra_subsetting ⠏ | 2000 | spectra_subsetting ⠙ | 2002 | spectra_subsetting ⠸ | 2004 | spectra_subsetting ⠴ | 2006 | spectra_subsetting ⠧ | 2008 | spectra_subsetting ⠏ | 2010 | spectra_subsetting ⠙ | 2012 | spectra_subsetting ⠸ | 2014 | spectra_subsetting ⠴ | 2016 | spectra_subsetting ⠧ | 2018 | spectra_subsetting ⠏ | 2020 | spectra_subsetting ⠙ | 2022 | spectra_subsetting ⠸ | 2024 | spectra_subsetting ⠴ | 2026 | spectra_subsetting ⠧ | 2028 | spectra_subsetting ⠏ | 2030 | spectra_subsetting ⠙ | 2032 | spectra_subsetting ⠸ | 2034 | spectra_subsetting ⠴ | 2036 | spectra_subsetting ⠧ | 2038 | spectra_subsetting ⠏ | 2040 | spectra_subsetting ⠙ | 2042 | spectra_subsetting ⠸ | 2044 | spectra_subsetting ⠴ | 2046 | spectra_subsetting ⠧ | 2048 | spectra_subsetting ⠇ | 2049 | spectra_subsetting ⠋ | 2051 | spectra_subsetting ⠹ | 2053 | spectra_subsetting ⠼ | 2055 | spectra_subsetting ⠦ | 2057 | spectra_subsetting ⠇ | 2059 | spectra_subsetting ⠋ | 2061 | spectra_subsetting ⠹ | 2063 | spectra_subsetting ⠼ | 2065 | spectra_subsetting ⠦ | 2067 | spectra_subsetting ⠇ | 2069 | spectra_subsetting ⠋ | 2071 | spectra_subsetting ⠹ | 2073 | spectra_subsetting ⠼ | 2075 | spectra_subsetting ⠦ | 2077 | spectra_subsetting ⠇ | 2079 | spectra_subsetting ⠋ | 2081 | spectra_subsetting ⠹ | 2083 | spectra_subsetting ⠼ | 2085 | spectra_subsetting ⠦ | 2087 | spectra_subsetting ⠇ | 2089 | spectra_subsetting ⠋ | 2091 | spectra_subsetting ⠹ | 2093 | spectra_subsetting ⠼ | 2095 | spectra_subsetting ⠦ | 2097 | spectra_subsetting ⠇ | 2099 | spectra_subsetting ⠋ | 2101 | spectra_subsetting ⠹ | 2103 | spectra_subsetting ⠼ | 2105 | spectra_subsetting ⠦ | 2107 | spectra_subsetting ⠇ | 2109 | spectra_subsetting ⠏ | 2110 | spectra_subsetting ⠙ | 2112 | spectra_subsetting ⠸ | 2114 | spectra_subsetting ⠴ | 2116 | spectra_subsetting ⠦ | 2117 | spectra_subsetting ⠇ | 2119 | spectra_subsetting ⠋ | 2121 | spectra_subsetting ⠹ | 2123 | spectra_subsetting ⠸ | 2124 | spectra_subsetting ⠴ | 2126 | spectra_subsetting ⠧ | 2128 | spectra_subsetting ⠏ | 2130 | spectra_subsetting ⠙ | 2132 | spectra_subsetting ⠹ | 2133 | spectra_subsetting ⠼ | 2135 | spectra_subsetting ⠴ | 2136 | spectra_subsetting ⠧ | 2138 | spectra_subsetting ⠏ | 2140 | spectra_subsetting ⠙ | 2142 | spectra_subsetting ⠹ | 2143 | spectra_subsetting ⠼ | 2145 | spectra_subsetting ⠦ | 2147 | spectra_subsetting ⠇ | 2149 | spectra_subsetting ⠋ | 2151 | spectra_subsetting ⠹ | 2153 | spectra_subsetting ⠼ | 2155 | spectra_subsetting ⠦ | 2157 | spectra_subsetting ⠇ | 2159 | spectra_subsetting ⠋ | 2161 | spectra_subsetting ⠹ | 2163 | spectra_subsetting ⠼ | 2165 | spectra_subsetting ⠦ | 2167 | spectra_subsetting ⠇ | 2169 | spectra_subsetting ⠋ | 2171 | spectra_subsetting ⠹ | 2173 | spectra_subsetting ⠼ | 2175 | spectra_subsetting ⠦ | 2177 | spectra_subsetting ⠇ | 2179 | spectra_subsetting ⠋ | 2181 | spectra_subsetting ⠹ | 2183 | spectra_subsetting ⠼ | 2185 | spectra_subsetting ⠦ | 2187 | spectra_subsetting ⠇ | 2189 | spectra_subsetting ⠋ | 2191 | spectra_subsetting ⠹ | 2193 | spectra_subsetting ⠼ | 2195 | spectra_subsetting ⠦ | 2197 | spectra_subsetting ⠇ | 2199 | spectra_subsetting ⠋ | 2201 | spectra_subsetting ⠹ | 2203 | spectra_subsetting ⠼ | 2205 | spectra_subsetting ⠧ | 2208 | spectra_subsetting ⠏ | 2210 | spectra_subsetting ⠙ | 2212 | spectra_subsetting ⠸ | 2214 | spectra_subsetting ⠴ | 2216 | spectra_subsetting ⠧ | 2218 | spectra_subsetting ⠏ | 2220 | spectra_subsetting ⠙ | 2222 | spectra_subsetting ⠸ | 2224 | spectra_subsetting ⠴ | 2226 | spectra_subsetting ⠧ | 2228 | spectra_subsetting ⠏ | 2230 | spectra_subsetting ⠙ | 2232 | spectra_subsetting ⠸ | 2234 | spectra_subsetting ⠴ | 2236 | spectra_subsetting ⠧ | 2238 | spectra_subsetting ⠏ | 2240 | spectra_subsetting ⠙ | 2242 | spectra_subsetting ⠸ | 2244 | spectra_subsetting ⠴ | 2246 | spectra_subsetting ⠧ | 2248 | spectra_subsetting ⠏ | 2250 | spectra_subsetting ⠙ | 2252 | spectra_subsetting ⠸ | 2254 | spectra_subsetting ⠴ | 2256 | spectra_subsetting ⠇ | 2259 | spectra_subsetting ⠋ | 2261 | spectra_subsetting ⠹ | 2263 | spectra_subsetting ⠼ | 2265 | spectra_subsetting ⠦ | 2267 | spectra_subsetting ⠇ | 2269 | spectra_subsetting ⠋ | 2271 | spectra_subsetting ⠸ | 2274 | spectra_subsetting ⠴ | 2276 | spectra_subsetting ⠧ | 2278 | spectra_subsetting ⠏ | 2280 | spectra_subsetting ⠙ | 2282 | spectra_subsetting ⠸ | 2284 | spectra_subsetting ⠴ | 2286 | spectra_subsetting ⠧ | 2288 | spectra_subsetting ⠏ | 2290 | spectra_subsetting ⠙ | 2292 | spectra_subsetting ⠸ | 2294 | spectra_subsetting ⠴ | 2296 | spectra_subsetting ⠧ | 2298 | spectra_subsetting ⠏ | 2300 | spectra_subsetting ⠹ | 2303 | spectra_subsetting ⠇ | 2309 | spectra_subsetting ⠼ | 2315 | spectra_subsetting ⠦ | 2317 | spectra_subsetting ✔ | 2317 | spectra_subsetting [63.7s] ⠏ | 0 | spectra_variables ⠙ | 12 | spectra_variables ⠸ | 14 | spectra_variables ⠴ | 16 | spectra_variables ⠸ | 34 | spectra_variables ⠹ | 43 | spectra_variables ⠸ | 54 | spectra_variables ✔ | 1 62 | spectra_variables [14.0s] ══ Results ═════════════════════════════════════════════════════════════════════ Duration: 84.6 s ── Skipped tests (1) ─────────────────────────────────────────────────────────── • empty test (1): 'test_spectra_variables.R:262:1' [ FAIL 0 | WARN 0 | SKIP 1 | PASS 2383 ] > > proc.time() user system elapsed 77.00 4.45 151.03
MsBackendRawFileReader.Rcheck/MsBackendRawFileReader-Ex.timings
name | user | system | elapsed | |
MsBackendRawFileReader-class | 0.84 | 0.03 | 13.02 | |
MsBackendRawFileReader | 0.85 | 0.02 | 29.17 | |
hidden_aliases | 0.32 | 0.00 | 11.68 | |
ioBenchmark | 9.23 | 2.23 | 58.45 | |