Back to Multiple platform build/check report for BioC 3.19: simplified long |
|
This page was generated on 2024-06-14 14:37 -0400 (Fri, 14 Jun 2024).
Hostname | OS | Arch (*) | R version | Installed pkgs |
---|---|---|---|---|
nebbiolo1 | Linux (Ubuntu 22.04.3 LTS) | x86_64 | 4.4.0 (2024-04-24) -- "Puppy Cup" | 4757 |
palomino3 | Windows Server 2022 Datacenter | x64 | 4.4.0 (2024-04-24 ucrt) -- "Puppy Cup" | 4491 |
Click on any hostname to see more info about the system (e.g. compilers) (*) as reported by 'uname -p', except on Windows and Mac OS X |
Package 1231/2300 | Hostname | OS / Arch | INSTALL | BUILD | CHECK | BUILD BIN | ||||||||
MethPed 1.32.0 (landing page) Helena Carén
| nebbiolo1 | Linux (Ubuntu 22.04.3 LTS) / x86_64 | OK | OK | OK | |||||||||
palomino3 | Windows Server 2022 Datacenter / x64 | OK | OK | OK | OK | |||||||||
To the developers/maintainers of the MethPed package: - Allow up to 24 hours (and sometimes 48 hours) for your latest push to git@git.bioconductor.org:packages/MethPed.git to reflect on this report. See Troubleshooting Build Report for more information. - Use the following Renviron settings to reproduce errors and warnings. - If 'R CMD check' started to fail recently on the Linux builder(s) over a missing dependency, add the missing dependency to 'Suggests:' in your DESCRIPTION file. See Renviron.bioc for more information. |
Package: MethPed |
Version: 1.32.0 |
Command: /home/biocbuild/bbs-3.19-bioc/R/bin/R CMD check --install=check:MethPed.install-out.txt --library=/home/biocbuild/bbs-3.19-bioc/R/site-library --timings MethPed_1.32.0.tar.gz |
StartedAt: 2024-06-13 00:47:42 -0400 (Thu, 13 Jun 2024) |
EndedAt: 2024-06-13 00:52:16 -0400 (Thu, 13 Jun 2024) |
EllapsedTime: 273.5 seconds |
RetCode: 0 |
Status: OK |
CheckDir: MethPed.Rcheck |
Warnings: 0 |
############################################################################## ############################################################################## ### ### Running command: ### ### /home/biocbuild/bbs-3.19-bioc/R/bin/R CMD check --install=check:MethPed.install-out.txt --library=/home/biocbuild/bbs-3.19-bioc/R/site-library --timings MethPed_1.32.0.tar.gz ### ############################################################################## ############################################################################## * using log directory ‘/home/biocbuild/bbs-3.19-bioc/meat/MethPed.Rcheck’ * using R version 4.4.0 (2024-04-24) * using platform: x86_64-pc-linux-gnu * R was compiled by gcc (Ubuntu 11.4.0-1ubuntu1~22.04) 11.4.0 GNU Fortran (Ubuntu 11.4.0-1ubuntu1~22.04) 11.4.0 * running under: Ubuntu 22.04.4 LTS * using session charset: UTF-8 * checking for file ‘MethPed/DESCRIPTION’ ... OK * checking extension type ... Package * this is package ‘MethPed’ version ‘1.32.0’ * package encoding: UTF-8 * checking package namespace information ... OK * checking package dependencies ... OK * checking if this is a source package ... OK * checking if there is a namespace ... OK * checking for hidden files and directories ... OK * checking for portable file names ... OK * checking for sufficient/correct file permissions ... OK * checking whether package ‘MethPed’ can be installed ... OK * checking installed package size ... NOTE installed size is 9.1Mb sub-directories of 1Mb or more: R 2.3Mb data 6.7Mb * checking package directory ... OK * checking ‘build’ directory ... OK * checking DESCRIPTION meta-information ... OK * checking top-level files ... OK * checking for left-over files ... OK * checking index information ... OK * checking package subdirectories ... OK * checking code files for non-ASCII characters ... OK * checking R files for syntax errors ... OK * checking whether the package can be loaded ... OK * checking whether the package can be loaded with stated dependencies ... OK * checking whether the package can be unloaded cleanly ... OK * checking whether the namespace can be loaded with stated dependencies ... OK * checking whether the namespace can be unloaded cleanly ... OK * checking loading without being on the library search path ... OK * checking dependencies in R code ... OK * checking S3 generic/method consistency ... OK * checking replacement functions ... OK * checking foreign function calls ... OK * checking R code for possible problems ... OK * checking Rd files ... OK * checking Rd metadata ... OK * checking Rd cross-references ... OK * checking for missing documentation entries ... OK * checking for code/documentation mismatches ... OK * checking Rd \usage sections ... OK * checking Rd contents ... OK * checking for unstated dependencies in examples ... OK * checking contents of ‘data’ directory ... OK * checking data for non-ASCII characters ... NOTE Note: found 3 marked Latin-1 strings * checking data for ASCII and uncompressed saves ... OK * checking R/sysdata.rda ... OK * checking files in ‘vignettes’ ... OK * checking examples ... OK Examples with CPU (user + system) or elapsed time > 5s user system elapsed MethPed 75.672 0.236 75.909 probeMis 27.843 0.336 28.180 summary.methped 27.081 0.072 27.154 plot.methped 25.630 0.047 25.678 * checking for unstated dependencies in vignettes ... OK * checking package vignettes ... OK * checking re-building of vignette outputs ... OK * checking PDF version of manual ... OK * DONE Status: 2 NOTEs See ‘/home/biocbuild/bbs-3.19-bioc/meat/MethPed.Rcheck/00check.log’ for details.
MethPed.Rcheck/00install.out
############################################################################## ############################################################################## ### ### Running command: ### ### /home/biocbuild/bbs-3.19-bioc/R/bin/R CMD INSTALL MethPed ### ############################################################################## ############################################################################## * installing to library ‘/home/biocbuild/bbs-3.19-bioc/R/site-library’ * installing *source* package ‘MethPed’ ... ** using staged installation ** R ** data ** byte-compile and prepare package for lazy loading ** help *** installing help indices ** building package indices ** installing vignettes ** testing if installed package can be loaded from temporary location ** testing if installed package can be loaded from final location ** testing if installed package keeps a record of temporary installation path * DONE (MethPed)
MethPed.Rcheck/MethPed-Ex.timings
name | user | system | elapsed | |
MethPed | 75.672 | 0.236 | 75.909 | |
MethPed_900probes | 0.003 | 0.000 | 0.003 | |
MethPed_sample | 1.419 | 0.035 | 1.455 | |
checkNA | 1.446 | 0.029 | 1.474 | |
plot.methped | 25.630 | 0.047 | 25.678 | |
probeMis | 27.843 | 0.336 | 28.180 | |
summary.methped | 27.081 | 0.072 | 27.154 | |