Back to Multiple platform build/check report for BioC 3.19: simplified long |
|
This page was generated on 2024-07-24 09:03 -0400 (Wed, 24 Jul 2024).
Hostname | OS | Arch (*) | R version | Installed pkgs |
---|---|---|---|---|
nebbiolo1 | Linux (Ubuntu 22.04.3 LTS) | x86_64 | 4.4.1 (2024-06-14) -- "Race for Your Life" | 4747 |
palomino7 | Windows Server 2022 Datacenter | x64 | 4.4.1 (2024-06-14 ucrt) -- "Race for Your Life" | 4489 |
merida1 | macOS 12.7.5 Monterey | x86_64 | 4.4.1 (2024-06-14) -- "Race for Your Life" | 4518 |
kjohnson1 | macOS 13.6.6 Ventura | arm64 | 4.4.1 (2024-06-14) -- "Race for Your Life" | 4467 |
Click on any hostname to see more info about the system (e.g. compilers) (*) as reported by 'uname -p', except on Windows and Mac OS X |
Package 1147/2300 | Hostname | OS / Arch | INSTALL | BUILD | CHECK | BUILD BIN | ||||||||
MAGeCKFlute 2.8.0 (landing page) Wubing Zhang
| nebbiolo1 | Linux (Ubuntu 22.04.3 LTS) / x86_64 | OK | OK | OK | |||||||||
palomino7 | Windows Server 2022 Datacenter / x64 | OK | OK | OK | OK | |||||||||
merida1 | macOS 12.7.5 Monterey / x86_64 | OK | OK | OK | OK | |||||||||
kjohnson1 | macOS 13.6.6 Ventura / arm64 | OK | OK | OK | OK | |||||||||
To the developers/maintainers of the MAGeCKFlute package: - Allow up to 24 hours (and sometimes 48 hours) for your latest push to git@git.bioconductor.org:packages/MAGeCKFlute.git to reflect on this report. See Troubleshooting Build Report for more information. - Use the following Renviron settings to reproduce errors and warnings. - If 'R CMD check' started to fail recently on the Linux builder(s) over a missing dependency, add the missing dependency to 'Suggests:' in your DESCRIPTION file. See Renviron.bioc for more information. |
Package: MAGeCKFlute |
Version: 2.8.0 |
Command: /home/biocbuild/bbs-3.19-bioc/R/bin/R CMD check --install=check:MAGeCKFlute.install-out.txt --library=/home/biocbuild/bbs-3.19-bioc/R/site-library --timings MAGeCKFlute_2.8.0.tar.gz |
StartedAt: 2024-07-22 01:48:58 -0400 (Mon, 22 Jul 2024) |
EndedAt: 2024-07-22 01:56:06 -0400 (Mon, 22 Jul 2024) |
EllapsedTime: 427.9 seconds |
RetCode: 0 |
Status: OK |
CheckDir: MAGeCKFlute.Rcheck |
Warnings: 0 |
############################################################################## ############################################################################## ### ### Running command: ### ### /home/biocbuild/bbs-3.19-bioc/R/bin/R CMD check --install=check:MAGeCKFlute.install-out.txt --library=/home/biocbuild/bbs-3.19-bioc/R/site-library --timings MAGeCKFlute_2.8.0.tar.gz ### ############################################################################## ############################################################################## * using log directory ‘/home/biocbuild/bbs-3.19-bioc/meat/MAGeCKFlute.Rcheck’ * using R version 4.4.1 (2024-06-14) * using platform: x86_64-pc-linux-gnu * R was compiled by gcc (Ubuntu 11.4.0-1ubuntu1~22.04) 11.4.0 GNU Fortran (Ubuntu 11.4.0-1ubuntu1~22.04) 11.4.0 * running under: Ubuntu 22.04.4 LTS * using session charset: UTF-8 * checking for file ‘MAGeCKFlute/DESCRIPTION’ ... OK * checking extension type ... Package * this is package ‘MAGeCKFlute’ version ‘2.8.0’ * package encoding: UTF-8 * checking package namespace information ... OK * checking package dependencies ... OK * checking if this is a source package ... OK * checking if there is a namespace ... OK * checking for hidden files and directories ... OK * checking for portable file names ... OK * checking for sufficient/correct file permissions ... OK * checking whether package ‘MAGeCKFlute’ can be installed ... OK * checking installed package size ... NOTE installed size is 18.3Mb sub-directories of 1Mb or more: extdata 17.8Mb * checking package directory ... OK * checking ‘build’ directory ... OK * checking DESCRIPTION meta-information ... OK * checking top-level files ... OK * checking for left-over files ... OK * checking index information ... OK * checking package subdirectories ... OK * checking code files for non-ASCII characters ... OK * checking R files for syntax errors ... OK * checking whether the package can be loaded ... OK * checking whether the package can be loaded with stated dependencies ... OK * checking whether the package can be unloaded cleanly ... OK * checking whether the namespace can be loaded with stated dependencies ... OK * checking whether the namespace can be unloaded cleanly ... OK * checking loading without being on the library search path ... OK * checking dependencies in R code ... OK * checking S3 generic/method consistency ... OK * checking replacement functions ... OK * checking foreign function calls ... OK * checking R code for possible problems ... NOTE EnrichedFilter: no visible global function definition for ‘is’ EnrichedGeneView: no visible global function definition for ‘is’ EnrichedView: no visible global function definition for ‘is’ EnrichedView: no visible global function definition for ‘slot’ enrich.HGT: no visible global function definition for ‘new’ Undefined global functions or variables: is new slot Consider adding importFrom("methods", "is", "new", "slot") to your NAMESPACE file (and ensure that your DESCRIPTION Imports field contains 'methods'). * checking Rd files ... NOTE checkRd: (-1) FluteMLE.Rd:87: Lost braces; missing escapes or markup? 87 | \item {QC}: {Quality control} | ^ checkRd: (-1) FluteMLE.Rd:88: Lost braces; missing escapes or markup? 88 | \item {Selection}: {Positive selection and negative selection.} | ^ checkRd: (-1) FluteMLE.Rd:89: Lost braces; missing escapes or markup? 89 | \item {Enrichment}: {Enrichment analysis for positive and negative selection genes.} | ^ checkRd: (-1) FluteMLE.Rd:90: Lost braces; missing escapes or markup? 90 | \item {PathwayView}: {Pathway view for top enriched pathways.} | ^ checkRd: (-1) getOrg.Rd:18: Lost braces 18 | \code{pkg}{annotation package name} | ^ * checking Rd metadata ... OK * checking Rd cross-references ... OK * checking for missing documentation entries ... OK * checking for code/documentation mismatches ... OK * checking Rd \usage sections ... OK * checking Rd contents ... OK * checking for unstated dependencies in examples ... OK * checking files in ‘vignettes’ ... OK * checking examples ... OK Examples with CPU (user + system) or elapsed time > 5s user system elapsed MAView 10.653 0.208 10.862 * checking for unstated dependencies in vignettes ... OK * checking package vignettes ... OK * checking re-building of vignette outputs ... OK * checking PDF version of manual ... OK * DONE Status: 3 NOTEs See ‘/home/biocbuild/bbs-3.19-bioc/meat/MAGeCKFlute.Rcheck/00check.log’ for details.
MAGeCKFlute.Rcheck/00install.out
############################################################################## ############################################################################## ### ### Running command: ### ### /home/biocbuild/bbs-3.19-bioc/R/bin/R CMD INSTALL MAGeCKFlute ### ############################################################################## ############################################################################## * installing to library ‘/home/biocbuild/bbs-3.19-bioc/R/site-library’ * installing *source* package ‘MAGeCKFlute’ ... ** using staged installation ** R ** inst ** byte-compile and prepare package for lazy loading ** help *** installing help indices ** building package indices ** installing vignettes ** testing if installed package can be loaded from temporary location ** testing if installed package can be loaded from final location ** testing if installed package keeps a record of temporary installation path * DONE (MAGeCKFlute)
MAGeCKFlute.Rcheck/MAGeCKFlute-Ex.timings
name | user | system | elapsed | |
BarView | 0.218 | 0.027 | 0.244 | |
BatchRemove | 3.438 | 0.380 | 3.819 | |
ConsistencyView | 0.974 | 0.048 | 1.023 | |
CutoffCalling | 0.003 | 0.000 | 0.004 | |
DensityDiffView | 0.995 | 0.032 | 1.026 | |
DensityView | 0.804 | 0.048 | 0.852 | |
EnrichAnalyzer | 0.012 | 0.000 | 0.012 | |
EnrichedFilter | 0.01 | 0.00 | 0.01 | |
EnrichedGeneView | 0.01 | 0.00 | 0.01 | |
EnrichedView | 0.005 | 0.003 | 0.009 | |
FluteMLE | 0.001 | 0.000 | 0.001 | |
FluteRRA | 0.000 | 0.002 | 0.002 | |
HeatmapView | 0.304 | 0.006 | 0.310 | |
IdentBarView | 0.12 | 0.00 | 0.12 | |
IncorporateDepmap | 0.171 | 0.008 | 0.180 | |
MAView | 10.653 | 0.208 | 10.862 | |
MapRatesView | 0.363 | 0.028 | 0.392 | |
NormalizeBeta | 0.888 | 0.020 | 0.908 | |
OmitCommonEssential | 0 | 0 | 0 | |
RankView | 0.719 | 0.024 | 0.743 | |
ReadBeta | 0.323 | 0.000 | 0.324 | |
ReadRRA | 0.161 | 0.000 | 0.161 | |
ReadsgRRA | 0.013 | 0.000 | 0.013 | |
ResembleDepmap | 0.146 | 0.004 | 0.150 | |
ScatterView | 3.345 | 0.036 | 3.380 | |
Selector | 0.542 | 0.020 | 0.563 | |
SquareView | 1.118 | 0.012 | 1.130 | |
TransGeneID | 2.402 | 0.120 | 2.524 | |
ViolinView | 1.087 | 0.024 | 1.110 | |
VolcanoView | 1.724 | 0.012 | 1.736 | |
arrangePathview | 0.267 | 0.004 | 0.271 | |
enrich.GSE | 0.01 | 0.00 | 0.01 | |
enrich.HGT | 2.488 | 0.132 | 2.621 | |
enrich.ORT | 3.546 | 0.091 | 3.638 | |
getCols | 0.005 | 0.001 | 0.006 | |
getGeneAnn | 0 | 0 | 0 | |
getOrg | 0.000 | 0.000 | 0.001 | |
getOrtAnn | 0 | 0 | 0 | |
gsGetter | 0.295 | 0.000 | 0.296 | |
hclustView | 0.417 | 0.004 | 0.421 | |
loadDepmap | 0 | 0 | 0 | |
normalize.loess | 0.921 | 0.000 | 0.921 | |
sgRankView | 0.138 | 0.004 | 0.141 | |
writeGMT | 0.024 | 0.000 | 0.024 | |