Back to Multiple platform build/check report for BioC 3.19: simplified long |
|
This page was generated on 2024-07-24 09:03 -0400 (Wed, 24 Jul 2024).
Hostname | OS | Arch (*) | R version | Installed pkgs |
---|---|---|---|---|
nebbiolo1 | Linux (Ubuntu 22.04.3 LTS) | x86_64 | 4.4.1 (2024-06-14) -- "Race for Your Life" | 4747 |
palomino7 | Windows Server 2022 Datacenter | x64 | 4.4.1 (2024-06-14 ucrt) -- "Race for Your Life" | 4489 |
merida1 | macOS 12.7.5 Monterey | x86_64 | 4.4.1 (2024-06-14) -- "Race for Your Life" | 4518 |
kjohnson1 | macOS 13.6.6 Ventura | arm64 | 4.4.1 (2024-06-14) -- "Race for Your Life" | 4467 |
Click on any hostname to see more info about the system (e.g. compilers) (*) as reported by 'uname -p', except on Windows and Mac OS X |
Package 1097/2300 | Hostname | OS / Arch | INSTALL | BUILD | CHECK | BUILD BIN | ||||||||
KnowSeq 1.18.0 (landing page) Daniel Castillo-Secilla
| nebbiolo1 | Linux (Ubuntu 22.04.3 LTS) / x86_64 | OK | OK | OK | |||||||||
palomino7 | Windows Server 2022 Datacenter / x64 | OK | OK | OK | OK | |||||||||
merida1 | macOS 12.7.5 Monterey / x86_64 | OK | OK | OK | OK | |||||||||
kjohnson1 | macOS 13.6.6 Ventura / arm64 | OK | OK | OK | OK | |||||||||
To the developers/maintainers of the KnowSeq package: - Allow up to 24 hours (and sometimes 48 hours) for your latest push to git@git.bioconductor.org:packages/KnowSeq.git to reflect on this report. See Troubleshooting Build Report for more information. - Use the following Renviron settings to reproduce errors and warnings. - If 'R CMD check' started to fail recently on the Linux builder(s) over a missing dependency, add the missing dependency to 'Suggests:' in your DESCRIPTION file. See Renviron.bioc for more information. |
Package: KnowSeq |
Version: 1.18.0 |
Command: /home/biocbuild/bbs-3.19-bioc/R/bin/R CMD check --install=check:KnowSeq.install-out.txt --library=/home/biocbuild/bbs-3.19-bioc/R/site-library --timings KnowSeq_1.18.0.tar.gz |
StartedAt: 2024-07-22 01:40:38 -0400 (Mon, 22 Jul 2024) |
EndedAt: 2024-07-22 01:47:07 -0400 (Mon, 22 Jul 2024) |
EllapsedTime: 388.9 seconds |
RetCode: 0 |
Status: OK |
CheckDir: KnowSeq.Rcheck |
Warnings: 0 |
############################################################################## ############################################################################## ### ### Running command: ### ### /home/biocbuild/bbs-3.19-bioc/R/bin/R CMD check --install=check:KnowSeq.install-out.txt --library=/home/biocbuild/bbs-3.19-bioc/R/site-library --timings KnowSeq_1.18.0.tar.gz ### ############################################################################## ############################################################################## * using log directory ‘/home/biocbuild/bbs-3.19-bioc/meat/KnowSeq.Rcheck’ * using R version 4.4.1 (2024-06-14) * using platform: x86_64-pc-linux-gnu * R was compiled by gcc (Ubuntu 11.4.0-1ubuntu1~22.04) 11.4.0 GNU Fortran (Ubuntu 11.4.0-1ubuntu1~22.04) 11.4.0 * running under: Ubuntu 22.04.4 LTS * using session charset: UTF-8 * checking for file ‘KnowSeq/DESCRIPTION’ ... OK * checking extension type ... Package * this is package ‘KnowSeq’ version ‘1.18.0’ * package encoding: UTF-8 * checking package namespace information ... OK * checking package dependencies ... OK * checking if this is a source package ... OK * checking if there is a namespace ... OK * checking for hidden files and directories ... OK * checking for portable file names ... OK * checking for sufficient/correct file permissions ... OK * checking whether package ‘KnowSeq’ can be installed ... OK * checking installed package size ... OK * checking package directory ... OK * checking ‘build’ directory ... OK * checking DESCRIPTION meta-information ... OK * checking top-level files ... OK * checking for left-over files ... OK * checking index information ... OK * checking package subdirectories ... OK * checking code files for non-ASCII characters ... OK * checking R files for syntax errors ... OK * checking whether the package can be loaded ... OK * checking whether the package can be loaded with stated dependencies ... OK * checking whether the package can be unloaded cleanly ... OK * checking whether the namespace can be loaded with stated dependencies ... OK * checking whether the namespace can be unloaded cleanly ... OK * checking loading without being on the library search path ... OK * checking dependencies in R code ... OK * checking S3 generic/method consistency ... OK * checking replacement functions ... OK * checking foreign function calls ... OK * checking R code for possible problems ... NOTE DEGsExtraction: warning in topTable(fit, number = number, coef = 2, sort.by = "logFC", p.value = pvalue, adjust = "fdr", lfc = lfc): partial argument match of 'adjust' to 'adjust.method' RNAseqQA : outlierBarPlot: no visible binding for global variable ‘x’ RNAseqQA : outlierBarPlot: no visible binding for global variable ‘y’ RNAseqQA: no visible binding for global variable ‘Var1’ RNAseqQA: no visible binding for global variable ‘Var2’ RNAseqQA: no visible binding for global variable ‘value’ RNAseqQA: no visible binding for global variable ‘Expression’ RNAseqQA: no visible binding for global variable ‘Samples’ dataPlot: no visible binding for global variable ‘Var1’ dataPlot: no visible binding for global variable ‘Var2’ dataPlot: no visible binding for global variable ‘value’ dataPlot: no visible binding for global variable ‘Classes’ dataPlot: no visible binding for global variable ‘Value’ knn_trn: no visible global function definition for ‘knn.cv’ knowseqReport: no visible binding for global variable ‘target’ Undefined global functions or variables: Classes Expression Samples Value Var1 Var2 knn.cv target value x y * checking Rd files ... OK * checking Rd metadata ... OK * checking Rd cross-references ... OK * checking for missing documentation entries ... OK * checking for code/documentation mismatches ... OK * checking Rd \usage sections ... OK * checking Rd contents ... OK * checking for unstated dependencies in examples ... OK * checking files in ‘vignettes’ ... OK * checking examples ... OK Examples with CPU (user + system) or elapsed time > 5s user system elapsed dataPlot 17.436 0.396 17.777 rf_trn 14.656 0.340 14.997 svm_trn 14.182 0.116 14.298 svm_test 13.846 0.164 14.011 downloadPublicSeries 0.794 0.074 16.389 * checking for unstated dependencies in vignettes ... OK * checking package vignettes ... OK * checking re-building of vignette outputs ... OK * checking PDF version of manual ... OK * DONE Status: 1 NOTE See ‘/home/biocbuild/bbs-3.19-bioc/meat/KnowSeq.Rcheck/00check.log’ for details.
KnowSeq.Rcheck/00install.out
############################################################################## ############################################################################## ### ### Running command: ### ### /home/biocbuild/bbs-3.19-bioc/R/bin/R CMD INSTALL KnowSeq ### ############################################################################## ############################################################################## * installing to library ‘/home/biocbuild/bbs-3.19-bioc/R/site-library’ * installing *source* package ‘KnowSeq’ ... ** using staged installation ** R ** inst ** byte-compile and prepare package for lazy loading ** help *** installing help indices ** building package indices ** installing vignettes ** testing if installed package can be loaded from temporary location ** testing if installed package can be loaded from final location ** testing if installed package keeps a record of temporary installation path * DONE (KnowSeq)
KnowSeq.Rcheck/KnowSeq-Ex.timings
name | user | system | elapsed | |
DEGsEvidences | 0.923 | 0.039 | 1.700 | |
DEGsExtraction | 0.825 | 0.112 | 0.938 | |
DEGsToDiseases | 0.207 | 0.012 | 0.391 | |
DEGsToPathways | 0.354 | 0.052 | 0.408 | |
RNAseqQA | 2.324 | 0.256 | 2.551 | |
batchEffectRemoval | 2.419 | 0.204 | 2.623 | |
calculateGeneExpressionValues | 0.520 | 0.012 | 0.532 | |
countsToMatrix | 0.046 | 0.004 | 0.052 | |
dataPlot | 17.436 | 0.396 | 17.777 | |
downloadPublicSeries | 0.794 | 0.074 | 16.389 | |
featureSelection | 0.018 | 0.004 | 0.016 | |
fileMove | 0.001 | 0.000 | 0.000 | |
gdcClientDownload | 0 | 0 | 0 | |
geneOntologyEnrichment | 0 | 0 | 0 | |
getGenesAnnotation | 0.225 | 0.000 | 0.221 | |
hisatAlignment | 0.002 | 0.000 | 0.002 | |
knn_test | 0.049 | 0.000 | 0.048 | |
knn_trn | 1.492 | 0.112 | 1.605 | |
knowseqReport | 0.007 | 0.000 | 0.007 | |
plotConfMatrix | 0.019 | 0.000 | 0.019 | |
rawAlignment | 0.002 | 0.000 | 0.002 | |
rf_test | 3.865 | 0.200 | 4.065 | |
rf_trn | 14.656 | 0.340 | 14.997 | |
sraToFastq | 0 | 0 | 0 | |
svm_test | 13.846 | 0.164 | 14.011 | |
svm_trn | 14.182 | 0.116 | 14.298 | |