Back to Multiple platform build/check report for BioC 3.19: simplified long |
|
This page was generated on 2024-07-24 09:03 -0400 (Wed, 24 Jul 2024).
Hostname | OS | Arch (*) | R version | Installed pkgs |
---|---|---|---|---|
nebbiolo1 | Linux (Ubuntu 22.04.3 LTS) | x86_64 | 4.4.1 (2024-06-14) -- "Race for Your Life" | 4747 |
palomino7 | Windows Server 2022 Datacenter | x64 | 4.4.1 (2024-06-14 ucrt) -- "Race for Your Life" | 4489 |
merida1 | macOS 12.7.5 Monterey | x86_64 | 4.4.1 (2024-06-14) -- "Race for Your Life" | 4518 |
kjohnson1 | macOS 13.6.6 Ventura | arm64 | 4.4.1 (2024-06-14) -- "Race for Your Life" | 4467 |
Click on any hostname to see more info about the system (e.g. compilers) (*) as reported by 'uname -p', except on Windows and Mac OS X |
Package 817/2300 | Hostname | OS / Arch | INSTALL | BUILD | CHECK | BUILD BIN | ||||||||
GeneStructureTools 1.24.0 (landing page) Beth Signal
| nebbiolo1 | Linux (Ubuntu 22.04.3 LTS) / x86_64 | OK | OK | OK | |||||||||
palomino7 | Windows Server 2022 Datacenter / x64 | OK | OK | OK | OK | |||||||||
merida1 | macOS 12.7.5 Monterey / x86_64 | OK | OK | OK | OK | |||||||||
kjohnson1 | macOS 13.6.6 Ventura / arm64 | OK | OK | OK | OK | |||||||||
To the developers/maintainers of the GeneStructureTools package: - Allow up to 24 hours (and sometimes 48 hours) for your latest push to git@git.bioconductor.org:packages/GeneStructureTools.git to reflect on this report. See Troubleshooting Build Report for more information. - Use the following Renviron settings to reproduce errors and warnings. - If 'R CMD check' started to fail recently on the Linux builder(s) over a missing dependency, add the missing dependency to 'Suggests:' in your DESCRIPTION file. See Renviron.bioc for more information. |
Package: GeneStructureTools |
Version: 1.24.0 |
Command: /home/biocbuild/bbs-3.19-bioc/R/bin/R CMD check --install=check:GeneStructureTools.install-out.txt --library=/home/biocbuild/bbs-3.19-bioc/R/site-library --timings GeneStructureTools_1.24.0.tar.gz |
StartedAt: 2024-07-22 00:37:10 -0400 (Mon, 22 Jul 2024) |
EndedAt: 2024-07-22 00:45:10 -0400 (Mon, 22 Jul 2024) |
EllapsedTime: 479.9 seconds |
RetCode: 0 |
Status: OK |
CheckDir: GeneStructureTools.Rcheck |
Warnings: 0 |
############################################################################## ############################################################################## ### ### Running command: ### ### /home/biocbuild/bbs-3.19-bioc/R/bin/R CMD check --install=check:GeneStructureTools.install-out.txt --library=/home/biocbuild/bbs-3.19-bioc/R/site-library --timings GeneStructureTools_1.24.0.tar.gz ### ############################################################################## ############################################################################## * using log directory ‘/home/biocbuild/bbs-3.19-bioc/meat/GeneStructureTools.Rcheck’ * using R version 4.4.1 (2024-06-14) * using platform: x86_64-pc-linux-gnu * R was compiled by gcc (Ubuntu 11.4.0-1ubuntu1~22.04) 11.4.0 GNU Fortran (Ubuntu 11.4.0-1ubuntu1~22.04) 11.4.0 * running under: Ubuntu 22.04.4 LTS * using session charset: UTF-8 * checking for file ‘GeneStructureTools/DESCRIPTION’ ... OK * checking extension type ... Package * this is package ‘GeneStructureTools’ version ‘1.24.0’ * package encoding: UTF-8 * checking package namespace information ... OK * checking package dependencies ... OK * checking if this is a source package ... OK * checking if there is a namespace ... OK * checking for hidden files and directories ... OK * checking for portable file names ... OK * checking for sufficient/correct file permissions ... OK * checking whether package ‘GeneStructureTools’ can be installed ... OK * checking installed package size ... OK * checking package directory ... OK * checking ‘build’ directory ... OK * checking DESCRIPTION meta-information ... OK * checking top-level files ... OK * checking for left-over files ... OK * checking index information ... OK * checking package subdirectories ... OK * checking code files for non-ASCII characters ... OK * checking R files for syntax errors ... OK * checking whether the package can be loaded ... OK * checking whether the package can be loaded with stated dependencies ... OK * checking whether the package can be unloaded cleanly ... OK * checking whether the namespace can be loaded with stated dependencies ... OK * checking whether the namespace can be unloaded cleanly ... OK * checking loading without being on the library search path ... OK * checking dependencies in R code ... OK * checking S3 generic/method consistency ... OK * checking replacement functions ... OK * checking foreign function calls ... OK * checking R code for possible problems ... OK * checking Rd files ... OK * checking Rd metadata ... OK * checking Rd cross-references ... OK * checking for missing documentation entries ... OK * checking for code/documentation mismatches ... OK * checking Rd \usage sections ... OK * checking Rd contents ... OK * checking for unstated dependencies in examples ... OK * checking files in ‘vignettes’ ... OK * checking examples ... OK Examples with CPU (user + system) or elapsed time > 5s user system elapsed leafcutterTranscriptChangeSummary 20.966 0.375 21.342 whippetTranscriptChangeSummary 10.809 0.210 11.020 * checking for unstated dependencies in vignettes ... OK * checking package vignettes ... OK * checking re-building of vignette outputs ... OK * checking PDF version of manual ... OK * DONE Status: OK
GeneStructureTools.Rcheck/00install.out
############################################################################## ############################################################################## ### ### Running command: ### ### /home/biocbuild/bbs-3.19-bioc/R/bin/R CMD INSTALL GeneStructureTools ### ############################################################################## ############################################################################## * installing to library ‘/home/biocbuild/bbs-3.19-bioc/R/site-library’ * installing *source* package ‘GeneStructureTools’ ... ** using staged installation ** R ** inst ** byte-compile and prepare package for lazy loading ** help *** installing help indices ** building package indices ** installing vignettes ** testing if installed package can be loaded from temporary location ** testing if installed package can be loaded from final location ** testing if installed package keeps a record of temporary installation path * DONE (GeneStructureTools)
GeneStructureTools.Rcheck/GeneStructureTools-Ex.timings
name | user | system | elapsed | |
DEXSeqIdsToGeneIds | 0.003 | 0.000 | 0.003 | |
UTR2UTR53 | 2.109 | 0.083 | 2.194 | |
addBroadTypes | 0.180 | 0.001 | 0.180 | |
addIntronInTranscript | 1.652 | 0.065 | 1.718 | |
alternativeIntronUsage | 3.884 | 0.052 | 3.937 | |
annotateGeneModel | 0.775 | 0.004 | 0.779 | |
attrChangeAltSpliced | 1.154 | 0.016 | 1.170 | |
coordinates-methods | 0.054 | 0.008 | 0.061 | |
diffSplicingResults-methods | 0.048 | 0.012 | 0.059 | |
exonsToTranscripts | 0.307 | 0.004 | 0.311 | |
filterGtfOverlap | 0.239 | 0.000 | 0.240 | |
filterWhippetEvents | 0.060 | 0.011 | 0.071 | |
findDEXexonType | 2.364 | 0.028 | 2.394 | |
findExonContainingTranscripts | 0.385 | 0.003 | 0.388 | |
findIntronContainingTranscripts | 0.576 | 0.002 | 0.578 | |
findJunctionPairs | 1.213 | 0.036 | 1.248 | |
formatWhippetEvents | 0.015 | 0.002 | 0.017 | |
getOrfs | 0.649 | 0.024 | 0.674 | |
getUOrfs | 0.532 | 0.008 | 0.540 | |
junctions-methods | 0.055 | 0.007 | 0.060 | |
leafcutterTranscriptChangeSummary | 20.966 | 0.375 | 21.342 | |
makeGeneModel | 0.141 | 0.000 | 0.141 | |
maxLocation | 0.002 | 0.000 | 0.002 | |
orfDiff | 1.340 | 0.038 | 1.378 | |
orfSimilarity | 0.001 | 0.000 | 0.001 | |
overlapTypes | 2.097 | 0.007 | 2.105 | |
readCounts-methods | 0.059 | 0.003 | 0.062 | |
readWhippetDIFFfiles | 0.004 | 0.002 | 0.005 | |
readWhippetDataSet | 0.058 | 0.006 | 0.063 | |
readWhippetJNCfiles | 0.029 | 0.000 | 0.029 | |
readWhippetPSIfiles | 0.015 | 0.002 | 0.016 | |
removeDuplicateTranscripts | 0.246 | 0.000 | 0.247 | |
removeSameExon | 0.208 | 0.000 | 0.209 | |
removeVersion | 0.000 | 0.000 | 0.001 | |
reorderExonNumbers | 0.163 | 0.000 | 0.164 | |
replaceJunction | 3.432 | 0.040 | 3.472 | |
skipExonInTranscript | 1.279 | 0.026 | 1.304 | |
summariseExonTypes | 2.191 | 0.024 | 2.215 | |
transcriptChangeSummary | 1.246 | 0.049 | 1.295 | |
whippetTranscriptChangeSummary | 10.809 | 0.210 | 11.020 | |