Back to Multiple platform build/check report for BioC 3.19: simplified long |
|
This page was generated on 2024-07-24 09:07 -0400 (Wed, 24 Jul 2024).
Hostname | OS | Arch (*) | R version | Installed pkgs |
---|---|---|---|---|
nebbiolo1 | Linux (Ubuntu 22.04.3 LTS) | x86_64 | 4.4.1 (2024-06-14) -- "Race for Your Life" | 4747 |
palomino7 | Windows Server 2022 Datacenter | x64 | 4.4.1 (2024-06-14 ucrt) -- "Race for Your Life" | 4489 |
merida1 | macOS 12.7.5 Monterey | x86_64 | 4.4.1 (2024-06-14) -- "Race for Your Life" | 4518 |
kjohnson1 | macOS 13.6.6 Ventura | arm64 | 4.4.1 (2024-06-14) -- "Race for Your Life" | 4467 |
Click on any hostname to see more info about the system (e.g. compilers) (*) as reported by 'uname -p', except on Windows and Mac OS X |
Package 750/2300 | Hostname | OS / Arch | INSTALL | BUILD | CHECK | BUILD BIN | ||||||||
FlowSOM 2.12.0 (landing page) Sofie Van Gassen
| nebbiolo1 | Linux (Ubuntu 22.04.3 LTS) / x86_64 | OK | OK | OK | |||||||||
palomino7 | Windows Server 2022 Datacenter / x64 | OK | OK | OK | OK | |||||||||
merida1 | macOS 12.7.5 Monterey / x86_64 | OK | OK | OK | OK | |||||||||
kjohnson1 | macOS 13.6.6 Ventura / arm64 | OK | OK | OK | OK | |||||||||
To the developers/maintainers of the FlowSOM package: - Allow up to 24 hours (and sometimes 48 hours) for your latest push to git@git.bioconductor.org:packages/FlowSOM.git to reflect on this report. See Troubleshooting Build Report for more information. - Use the following Renviron settings to reproduce errors and warnings. - If 'R CMD check' started to fail recently on the Linux builder(s) over a missing dependency, add the missing dependency to 'Suggests:' in your DESCRIPTION file. See Renviron.bioc for more information. |
Package: FlowSOM |
Version: 2.12.0 |
Command: /Library/Frameworks/R.framework/Resources/bin/R CMD check --install=check:FlowSOM.install-out.txt --library=/Library/Frameworks/R.framework/Resources/library --no-vignettes --timings FlowSOM_2.12.0.tar.gz |
StartedAt: 2024-07-22 21:01:10 -0400 (Mon, 22 Jul 2024) |
EndedAt: 2024-07-22 21:11:56 -0400 (Mon, 22 Jul 2024) |
EllapsedTime: 646.0 seconds |
RetCode: 0 |
Status: OK |
CheckDir: FlowSOM.Rcheck |
Warnings: 0 |
############################################################################## ############################################################################## ### ### Running command: ### ### /Library/Frameworks/R.framework/Resources/bin/R CMD check --install=check:FlowSOM.install-out.txt --library=/Library/Frameworks/R.framework/Resources/library --no-vignettes --timings FlowSOM_2.12.0.tar.gz ### ############################################################################## ############################################################################## * using log directory ‘/Users/biocbuild/bbs-3.19-bioc/meat/FlowSOM.Rcheck’ * using R version 4.4.1 (2024-06-14) * using platform: aarch64-apple-darwin20 * R was compiled by Apple clang version 14.0.0 (clang-1400.0.29.202) GNU Fortran (GCC) 12.2.0 * running under: macOS Ventura 13.6.6 * using session charset: UTF-8 * using option ‘--no-vignettes’ * checking for file ‘FlowSOM/DESCRIPTION’ ... OK * this is package ‘FlowSOM’ version ‘2.12.0’ * package encoding: UTF-8 * checking package namespace information ... OK * checking package dependencies ... OK * checking if this is a source package ... OK * checking if there is a namespace ... OK * checking for hidden files and directories ... OK * checking for portable file names ... OK * checking for sufficient/correct file permissions ... OK * checking whether package ‘FlowSOM’ can be installed ... OK * used C compiler: ‘Apple clang version 15.0.0 (clang-1500.0.40.1)’ * used SDK: ‘MacOSX11.3.sdk’ * checking installed package size ... OK * checking package directory ... OK * checking ‘build’ directory ... OK * checking DESCRIPTION meta-information ... OK * checking top-level files ... OK * checking for left-over files ... OK * checking index information ... OK * checking package subdirectories ... OK * checking code files for non-ASCII characters ... OK * checking R files for syntax errors ... OK * checking whether the package can be loaded ... OK * checking whether the package can be loaded with stated dependencies ... OK * checking whether the package can be unloaded cleanly ... OK * checking whether the namespace can be loaded with stated dependencies ... OK * checking whether the namespace can be unloaded cleanly ... OK * checking whether startup messages can be suppressed ... OK * checking dependencies in R code ... OK * checking S3 generic/method consistency ... OK * checking replacement functions ... OK * checking foreign function calls ... OK * checking R code for possible problems ... OK * checking Rd files ... NOTE checkRd: (-1) PlotDimRed.Rd:55: Lost braces 55 | of the dimred default = function(dimred){dimred$Y}.} | ^ * checking Rd metadata ... OK * checking Rd cross-references ... OK * checking for missing documentation entries ... OK * checking for code/documentation mismatches ... OK * checking Rd \usage sections ... OK * checking Rd contents ... OK * checking for unstated dependencies in examples ... OK * checking line endings in C/C++/Fortran sources/headers ... OK * checking compiled code ... NOTE Note: information on .o files is not available * checking sizes of PDF files under ‘inst/doc’ ... OK * checking files in ‘vignettes’ ... OK * checking examples ... OK Examples with CPU (user + system) or elapsed time > 5s user system elapsed FlowSOMmary 61.334 2.702 67.659 PlotDimRed 54.132 2.787 58.619 PlotMarker 18.563 1.011 19.941 UpdateMetaclusters 18.219 1.032 19.536 PlotOutliers 18.154 0.627 19.091 PlotStars 14.775 0.895 16.147 FlowSOM 13.603 0.879 14.946 PlotGroups 13.204 0.965 14.418 GroupStats 13.274 0.728 14.601 AddAnnotation 10.312 0.658 13.443 QueryMultiple 10.335 0.393 10.934 query_multiple 10.044 0.429 10.644 Plot2DScatters 8.930 0.530 9.691 GetFlowJoLabels 8.676 0.631 9.460 PlotManualBars 8.332 0.560 9.034 PlotVariable 7.791 0.615 8.527 PlotNode 7.531 0.624 8.279 PlotPies 7.369 0.554 8.117 PlotNumbers 7.270 0.540 7.924 QueryStarPlot 7.172 0.346 7.765 CountGroups 6.864 0.568 7.657 MetaclusterMFIs 6.538 0.761 8.225 SaveClustersToFCS 6.388 0.730 7.248 PlotFlowSOM 6.418 0.611 7.131 PlotOverview2D 6.238 0.537 6.872 PlotLabels 6.203 0.530 6.819 NClusters 5.995 0.644 7.330 GetFeatures 6.074 0.374 7.119 GetMetaclusterMFIs 5.854 0.573 6.945 NMetaclusters 5.781 0.628 7.142 MetaclusterCVs 5.780 0.559 6.960 UpdateNodeSize 5.983 0.234 6.316 TestOutliers 5.629 0.553 6.502 GetMetaclusterCVs 5.382 0.641 6.130 print.FlowSOM 5.428 0.592 6.094 GetPercentages 5.408 0.534 6.513 GetMFIs 5.343 0.561 6.028 GetMetaclusters 5.299 0.581 6.669 GetCounts 5.328 0.450 6.209 GetMetaclusterPercentagesPositive 5.106 0.554 6.255 GetClusters 4.993 0.550 6.195 GetClusterMFIs 4.918 0.538 5.674 GetClusterPercentagesPositive 4.960 0.492 6.048 FlowSOMSubset 4.777 0.342 5.301 NewData 4.662 0.361 5.157 * checking for unstated dependencies in vignettes ... OK * checking package vignettes ... OK * checking running R code from vignettes ... SKIPPED * checking re-building of vignette outputs ... SKIPPED * checking PDF version of manual ... OK * DONE Status: 2 NOTEs See ‘/Users/biocbuild/bbs-3.19-bioc/meat/FlowSOM.Rcheck/00check.log’ for details.
FlowSOM.Rcheck/00install.out
############################################################################## ############################################################################## ### ### Running command: ### ### /Library/Frameworks/R.framework/Resources/bin/R CMD INSTALL FlowSOM ### ############################################################################## ############################################################################## * installing to library ‘/Library/Frameworks/R.framework/Versions/4.4-arm64/Resources/library’ * installing *source* package ‘FlowSOM’ ... ** using staged installation ** libs using C compiler: ‘Apple clang version 15.0.0 (clang-1500.0.40.1)’ using SDK: ‘MacOSX11.3.sdk’ clang -arch arm64 -I"/Library/Frameworks/R.framework/Resources/include" -DNDEBUG -I/opt/R/arm64/include -fPIC -falign-functions=64 -Wall -g -O2 -c som.c -o som.o clang -arch arm64 -dynamiclib -Wl,-headerpad_max_install_names -undefined dynamic_lookup -L/Library/Frameworks/R.framework/Resources/lib -L/opt/R/arm64/lib -o FlowSOM.so som.o -F/Library/Frameworks/R.framework/.. -framework R -Wl,-framework -Wl,CoreFoundation installing to /Library/Frameworks/R.framework/Versions/4.4-arm64/Resources/library/00LOCK-FlowSOM/00new/FlowSOM/libs ** R ** inst ** byte-compile and prepare package for lazy loading ** help *** installing help indices ** building package indices ** installing vignettes ** testing if installed package can be loaded from temporary location ** checking absolute paths in shared objects and dynamic libraries ** testing if installed package can be loaded from final location ** testing if installed package keeps a record of temporary installation path * DONE (FlowSOM)
FlowSOM.Rcheck/FlowSOM-Ex.timings
name | user | system | elapsed | |
AddAnnotation | 10.312 | 0.658 | 13.443 | |
AggregateFlowFrames | 0.106 | 0.008 | 0.125 | |
BuildMST | 1.490 | 0.093 | 1.666 | |
BuildSOM | 1.332 | 0.080 | 1.472 | |
CountGroups | 6.864 | 0.568 | 7.657 | |
FMeasure | 0.001 | 0.000 | 0.002 | |
FlowSOM | 13.603 | 0.879 | 14.946 | |
FlowSOMSubset | 4.777 | 0.342 | 5.301 | |
FlowSOMmary | 61.334 | 2.702 | 67.659 | |
GetChannels | 0.043 | 0.004 | 0.047 | |
GetClusterMFIs | 4.918 | 0.538 | 5.674 | |
GetClusterPercentagesPositive | 4.960 | 0.492 | 6.048 | |
GetClusters | 4.993 | 0.550 | 6.195 | |
GetCounts | 5.328 | 0.450 | 6.209 | |
GetFeatures | 6.074 | 0.374 | 7.119 | |
GetFlowJoLabels | 8.676 | 0.631 | 9.460 | |
GetMFIs | 5.343 | 0.561 | 6.028 | |
GetMarkers | 0.044 | 0.005 | 0.049 | |
GetMetaclusterCVs | 5.382 | 0.641 | 6.130 | |
GetMetaclusterMFIs | 5.854 | 0.573 | 6.945 | |
GetMetaclusterPercentagesPositive | 5.106 | 0.554 | 6.255 | |
GetMetaclusters | 5.299 | 0.581 | 6.669 | |
GetPercentages | 5.408 | 0.534 | 6.513 | |
GroupStats | 13.274 | 0.728 | 14.601 | |
Initialize_KWSP | 0.004 | 0.001 | 0.005 | |
Initialize_PCA | 0.001 | 0.000 | 0.001 | |
MetaClustering | 3.920 | 0.403 | 4.444 | |
MetaclusterCVs | 5.780 | 0.559 | 6.960 | |
MetaclusterMFIs | 6.538 | 0.761 | 8.225 | |
NClusters | 5.995 | 0.644 | 7.330 | |
NMetaclusters | 5.781 | 0.628 | 7.142 | |
NewData | 4.662 | 0.361 | 5.157 | |
Plot2DScatters | 8.930 | 0.530 | 9.691 | |
PlotCenters | 1.376 | 0.077 | 1.477 | |
PlotClusters2D | 1.381 | 0.110 | 1.525 | |
PlotDimRed | 54.132 | 2.787 | 58.619 | |
PlotFileScatters | 0.890 | 0.038 | 0.933 | |
PlotFlowSOM | 6.418 | 0.611 | 7.131 | |
PlotGroups | 13.204 | 0.965 | 14.418 | |
PlotLabels | 6.203 | 0.530 | 6.819 | |
PlotManualBars | 8.332 | 0.560 | 9.034 | |
PlotMarker | 18.563 | 1.011 | 19.941 | |
PlotNode | 7.531 | 0.624 | 8.279 | |
PlotNumbers | 7.270 | 0.540 | 7.924 | |
PlotOutliers | 18.154 | 0.627 | 19.091 | |
PlotOverview2D | 6.238 | 0.537 | 6.872 | |
PlotPies | 7.369 | 0.554 | 8.117 | |
PlotSD | 2.121 | 0.145 | 2.320 | |
PlotStars | 14.775 | 0.895 | 16.147 | |
PlotVariable | 7.791 | 0.615 | 8.527 | |
Purity | 0.001 | 0.000 | 0.001 | |
QueryMultiple | 10.335 | 0.393 | 10.934 | |
QueryStarPlot | 7.172 | 0.346 | 7.765 | |
ReadInput | 3.619 | 0.501 | 4.197 | |
SaveClustersToFCS | 6.388 | 0.730 | 7.248 | |
TestOutliers | 5.629 | 0.553 | 6.502 | |
UpdateMetaclusters | 18.219 | 1.032 | 19.536 | |
UpdateNodeSize | 5.983 | 0.234 | 6.316 | |
get_channels | 0.043 | 0.004 | 0.048 | |
get_markers | 0.066 | 0.007 | 0.074 | |
metaClustering_consensus | 2.912 | 0.325 | 3.288 | |
plotStarLegend | 0.473 | 0.005 | 0.483 | |
print.FlowSOM | 5.428 | 0.592 | 6.094 | |
query_multiple | 10.044 | 0.429 | 10.644 | |