Back to Multiple platform build/check report for BioC 3.19: simplified long |
|
This page was generated on 2024-07-24 09:03 -0400 (Wed, 24 Jul 2024).
Hostname | OS | Arch (*) | R version | Installed pkgs |
---|---|---|---|---|
nebbiolo1 | Linux (Ubuntu 22.04.3 LTS) | x86_64 | 4.4.1 (2024-06-14) -- "Race for Your Life" | 4747 |
palomino7 | Windows Server 2022 Datacenter | x64 | 4.4.1 (2024-06-14 ucrt) -- "Race for Your Life" | 4489 |
merida1 | macOS 12.7.5 Monterey | x86_64 | 4.4.1 (2024-06-14) -- "Race for Your Life" | 4518 |
kjohnson1 | macOS 13.6.6 Ventura | arm64 | 4.4.1 (2024-06-14) -- "Race for Your Life" | 4467 |
Click on any hostname to see more info about the system (e.g. compilers) (*) as reported by 'uname -p', except on Windows and Mac OS X |
Package 678/2300 | Hostname | OS / Arch | INSTALL | BUILD | CHECK | BUILD BIN | ||||||||
ERSSA 1.22.0 (landing page) Zixuan Shao
| nebbiolo1 | Linux (Ubuntu 22.04.3 LTS) / x86_64 | OK | OK | OK | |||||||||
palomino7 | Windows Server 2022 Datacenter / x64 | OK | OK | OK | OK | |||||||||
merida1 | macOS 12.7.5 Monterey / x86_64 | OK | OK | OK | OK | |||||||||
kjohnson1 | macOS 13.6.6 Ventura / arm64 | OK | OK | OK | OK | |||||||||
To the developers/maintainers of the ERSSA package: - Allow up to 24 hours (and sometimes 48 hours) for your latest push to git@git.bioconductor.org:packages/ERSSA.git to reflect on this report. See Troubleshooting Build Report for more information. - Use the following Renviron settings to reproduce errors and warnings. - If 'R CMD check' started to fail recently on the Linux builder(s) over a missing dependency, add the missing dependency to 'Suggests:' in your DESCRIPTION file. See Renviron.bioc for more information. |
Package: ERSSA |
Version: 1.22.0 |
Command: /home/biocbuild/bbs-3.19-bioc/R/bin/R CMD check --install=check:ERSSA.install-out.txt --library=/home/biocbuild/bbs-3.19-bioc/R/site-library --timings ERSSA_1.22.0.tar.gz |
StartedAt: 2024-07-22 00:08:14 -0400 (Mon, 22 Jul 2024) |
EndedAt: 2024-07-22 00:13:06 -0400 (Mon, 22 Jul 2024) |
EllapsedTime: 291.6 seconds |
RetCode: 0 |
Status: OK |
CheckDir: ERSSA.Rcheck |
Warnings: 0 |
############################################################################## ############################################################################## ### ### Running command: ### ### /home/biocbuild/bbs-3.19-bioc/R/bin/R CMD check --install=check:ERSSA.install-out.txt --library=/home/biocbuild/bbs-3.19-bioc/R/site-library --timings ERSSA_1.22.0.tar.gz ### ############################################################################## ############################################################################## * using log directory ‘/home/biocbuild/bbs-3.19-bioc/meat/ERSSA.Rcheck’ * using R version 4.4.1 (2024-06-14) * using platform: x86_64-pc-linux-gnu * R was compiled by gcc (Ubuntu 11.4.0-1ubuntu1~22.04) 11.4.0 GNU Fortran (Ubuntu 11.4.0-1ubuntu1~22.04) 11.4.0 * running under: Ubuntu 22.04.4 LTS * using session charset: UTF-8 * checking for file ‘ERSSA/DESCRIPTION’ ... OK * checking extension type ... Package * this is package ‘ERSSA’ version ‘1.22.0’ * package encoding: UTF-8 * checking package namespace information ... OK * checking package dependencies ... OK * checking if this is a source package ... OK * checking if there is a namespace ... OK * checking for hidden files and directories ... OK * checking for portable file names ... OK * checking for sufficient/correct file permissions ... OK * checking whether package ‘ERSSA’ can be installed ... OK * checking installed package size ... OK * checking package directory ... OK * checking ‘build’ directory ... OK * checking DESCRIPTION meta-information ... OK * checking top-level files ... OK * checking for left-over files ... OK * checking index information ... OK * checking package subdirectories ... OK * checking code files for non-ASCII characters ... OK * checking R files for syntax errors ... OK * checking whether the package can be loaded ... OK * checking whether the package can be loaded with stated dependencies ... OK * checking whether the package can be unloaded cleanly ... OK * checking whether the namespace can be loaded with stated dependencies ... OK * checking whether the namespace can be unloaded cleanly ... OK * checking loading without being on the library search path ... OK * checking dependencies in R code ... NOTE Namespace in Imports field not imported from: ‘apeglm’ All declared Imports should be used. * checking S3 generic/method consistency ... OK * checking replacement functions ... OK * checking foreign function calls ... OK * checking R code for possible problems ... OK * checking Rd files ... NOTE checkRd: (-1) erssa.Rd:87: Lost braces in \itemize; \value handles \item{}{} directly checkRd: (-1) erssa.Rd:88: Lost braces in \itemize; \value handles \item{}{} directly checkRd: (-1) erssa.Rd:89: Lost braces in \itemize; \value handles \item{}{} directly checkRd: (-1) erssa.Rd:90-91: Lost braces in \itemize; \value handles \item{}{} directly checkRd: (-1) erssa.Rd:92-94: Lost braces in \itemize; \value handles \item{}{} directly checkRd: (-1) erssa.Rd:95-97: Lost braces in \itemize; \value handles \item{}{} directly checkRd: (-1) erssa.Rd:98-100: Lost braces in \itemize; \value handles \item{}{} directly checkRd: (-1) ggplot2_TPR_FPRPlot.Rd:32-33: Lost braces in \itemize; \value handles \item{}{} directly checkRd: (-1) ggplot2_TPR_FPRPlot.Rd:34: Lost braces in \itemize; \value handles \item{}{} directly checkRd: (-1) ggplot2_TPR_FPRPlot.Rd:35-37: Lost braces in \itemize; \value handles \item{}{} directly checkRd: (-1) ggplot2_dotplot.Rd:20-21: Lost braces in \itemize; \value handles \item{}{} directly checkRd: (-1) ggplot2_dotplot.Rd:22: Lost braces in \itemize; \value handles \item{}{} directly checkRd: (-1) ggplot2_dotplot.Rd:23: Lost braces in \itemize; \value handles \item{}{} directly checkRd: (-1) ggplot2_intersectPlot.Rd:20-21: Lost braces in \itemize; \value handles \item{}{} directly checkRd: (-1) ggplot2_intersectPlot.Rd:22: Lost braces in \itemize; \value handles \item{}{} directly checkRd: (-1) ggplot2_intersectPlot.Rd:23-24: Lost braces in \itemize; \value handles \item{}{} directly checkRd: (-1) ggplot2_intersectPlot.Rd:25-26: Lost braces in \itemize; \value handles \item{}{} directly checkRd: (-1) ggplot2_intersectPlot.Rd:27: Lost braces in \itemize; \value handles \item{}{} directly checkRd: (-1) ggplot2_marginPlot.Rd:23-24: Lost braces in \itemize; \value handles \item{}{} directly checkRd: (-1) ggplot2_marginPlot.Rd:25-26: Lost braces in \itemize; \value handles \item{}{} directly * checking Rd metadata ... OK * checking Rd cross-references ... OK * checking for missing documentation entries ... OK * checking for code/documentation mismatches ... OK * checking Rd \usage sections ... OK * checking Rd contents ... OK * checking for unstated dependencies in examples ... OK * checking contents of ‘data’ directory ... OK * checking data for non-ASCII characters ... OK * checking LazyData ... OK * checking data for ASCII and uncompressed saves ... OK * checking files in ‘vignettes’ ... OK * checking examples ... OK Examples with CPU (user + system) or elapsed time > 5s user system elapsed erssa_deseq2 29.477 0.300 29.777 erssa_deseq2_parallel 29.412 0.328 29.741 erssa 9.415 0.208 9.593 * checking for unstated dependencies in vignettes ... OK * checking package vignettes ... OK * checking re-building of vignette outputs ... OK * checking PDF version of manual ... OK * DONE Status: 2 NOTEs See ‘/home/biocbuild/bbs-3.19-bioc/meat/ERSSA.Rcheck/00check.log’ for details.
ERSSA.Rcheck/00install.out
############################################################################## ############################################################################## ### ### Running command: ### ### /home/biocbuild/bbs-3.19-bioc/R/bin/R CMD INSTALL ERSSA ### ############################################################################## ############################################################################## * installing to library ‘/home/biocbuild/bbs-3.19-bioc/R/site-library’ * installing *source* package ‘ERSSA’ ... ** using staged installation ** R ** data *** moving datasets to lazyload DB ** inst ** byte-compile and prepare package for lazy loading ** help *** installing help indices ** building package indices ** installing vignettes ** testing if installed package can be loaded from temporary location ** testing if installed package can be loaded from final location ** testing if installed package keeps a record of temporary installation path * DONE (ERSSA)
ERSSA.Rcheck/ERSSA-Ex.timings
name | user | system | elapsed | |
comb_gen | 0.007 | 0.000 | 0.008 | |
count_filter | 0.003 | 0.000 | 0.003 | |
erssa | 9.415 | 0.208 | 9.593 | |
erssa_deseq2 | 29.477 | 0.300 | 29.777 | |
erssa_deseq2_parallel | 29.412 | 0.328 | 29.741 | |
erssa_edger | 1.636 | 0.003 | 1.640 | |
erssa_edger_parallel | 4.154 | 0.002 | 4.156 | |
ggplot2_TPR_FPRPlot | 0.342 | 0.009 | 0.352 | |
ggplot2_dotplot | 0.398 | 0.012 | 0.410 | |
ggplot2_intersectPlot | 0.392 | 0.007 | 0.400 | |
ggplot2_marginPlot | 0.317 | 0.001 | 0.317 | |