Back to Multiple platform build/check report for BioC 3.19: simplified long |
|
This page was generated on 2024-07-24 09:03 -0400 (Wed, 24 Jul 2024).
Hostname | OS | Arch (*) | R version | Installed pkgs |
---|---|---|---|---|
nebbiolo1 | Linux (Ubuntu 22.04.3 LTS) | x86_64 | 4.4.1 (2024-06-14) -- "Race for Your Life" | 4747 |
palomino7 | Windows Server 2022 Datacenter | x64 | 4.4.1 (2024-06-14 ucrt) -- "Race for Your Life" | 4489 |
merida1 | macOS 12.7.5 Monterey | x86_64 | 4.4.1 (2024-06-14) -- "Race for Your Life" | 4518 |
kjohnson1 | macOS 13.6.6 Ventura | arm64 | 4.4.1 (2024-06-14) -- "Race for Your Life" | 4467 |
Click on any hostname to see more info about the system (e.g. compilers) (*) as reported by 'uname -p', except on Windows and Mac OS X |
Package 337/2300 | Hostname | OS / Arch | INSTALL | BUILD | CHECK | BUILD BIN | ||||||||
ChIPpeakAnno 3.38.1 (landing page) Jianhong Ou
| nebbiolo1 | Linux (Ubuntu 22.04.3 LTS) / x86_64 | OK | OK | OK | |||||||||
palomino7 | Windows Server 2022 Datacenter / x64 | OK | OK | OK | OK | |||||||||
merida1 | macOS 12.7.5 Monterey / x86_64 | OK | TIMEOUT | skipped | skipped | |||||||||
kjohnson1 | macOS 13.6.6 Ventura / arm64 | OK | OK | OK | OK | |||||||||
To the developers/maintainers of the ChIPpeakAnno package: - Allow up to 24 hours (and sometimes 48 hours) for your latest push to git@git.bioconductor.org:packages/ChIPpeakAnno.git to reflect on this report. See Troubleshooting Build Report for more information. - Use the following Renviron settings to reproduce errors and warnings. - If 'R CMD check' started to fail recently on the Linux builder(s) over a missing dependency, add the missing dependency to 'Suggests:' in your DESCRIPTION file. See Renviron.bioc for more information. |
Package: ChIPpeakAnno |
Version: 3.38.1 |
Command: /home/biocbuild/bbs-3.19-bioc/R/bin/R CMD check --install=check:ChIPpeakAnno.install-out.txt --library=/home/biocbuild/bbs-3.19-bioc/R/site-library --timings ChIPpeakAnno_3.38.1.tar.gz |
StartedAt: 2024-07-21 22:41:49 -0400 (Sun, 21 Jul 2024) |
EndedAt: 2024-07-21 23:06:29 -0400 (Sun, 21 Jul 2024) |
EllapsedTime: 1480.0 seconds |
RetCode: 0 |
Status: OK |
CheckDir: ChIPpeakAnno.Rcheck |
Warnings: 0 |
############################################################################## ############################################################################## ### ### Running command: ### ### /home/biocbuild/bbs-3.19-bioc/R/bin/R CMD check --install=check:ChIPpeakAnno.install-out.txt --library=/home/biocbuild/bbs-3.19-bioc/R/site-library --timings ChIPpeakAnno_3.38.1.tar.gz ### ############################################################################## ############################################################################## * using log directory ‘/home/biocbuild/bbs-3.19-bioc/meat/ChIPpeakAnno.Rcheck’ * using R version 4.4.1 (2024-06-14) * using platform: x86_64-pc-linux-gnu * R was compiled by gcc (Ubuntu 11.4.0-1ubuntu1~22.04) 11.4.0 GNU Fortran (Ubuntu 11.4.0-1ubuntu1~22.04) 11.4.0 * running under: Ubuntu 22.04.4 LTS * using session charset: UTF-8 * checking for file ‘ChIPpeakAnno/DESCRIPTION’ ... OK * checking extension type ... Package * this is package ‘ChIPpeakAnno’ version ‘3.38.1’ * package encoding: UTF-8 * checking package namespace information ... OK * checking package dependencies ... OK * checking if this is a source package ... OK * checking if there is a namespace ... OK * checking for hidden files and directories ... OK * checking for portable file names ... OK * checking for sufficient/correct file permissions ... OK * checking whether package ‘ChIPpeakAnno’ can be installed ... OK * checking installed package size ... NOTE installed size is 19.1Mb sub-directories of 1Mb or more: data 12.6Mb extdata 5.2Mb * checking package directory ... OK * checking ‘build’ directory ... OK * checking DESCRIPTION meta-information ... OK * checking top-level files ... OK * checking for left-over files ... OK * checking index information ... OK * checking package subdirectories ... OK * checking code files for non-ASCII characters ... OK * checking R files for syntax errors ... OK * checking whether the package can be loaded ... OK * checking whether the package can be loaded with stated dependencies ... OK * checking whether the package can be unloaded cleanly ... OK * checking whether the namespace can be loaded with stated dependencies ... OK * checking whether the namespace can be unloaded cleanly ... OK * checking loading without being on the library search path ... OK * checking dependencies in R code ... OK * checking S3 generic/method consistency ... OK * checking replacement functions ... OK * checking foreign function calls ... OK * checking R code for possible problems ... OK * checking Rd files ... NOTE checkRd: (-1) summarizePatternInPeaks.Rd:63: Lost braces; missing escapes or markup? 63 | {shuffle_sequences}} | ^ checkRd: (-1) summarizePatternInPeaks.Rd:69: Lost braces; missing escapes or markup? 69 | \item{"patternNum"}: {number of matched pattern} | ^ checkRd: (-1) summarizePatternInPeaks.Rd:70-71: Lost braces 70 | \item{"totalNumPatternWithSameLen"}: {total number of pattern with the | ^ checkRd: (-1) summarizePatternInPeaks.Rd:72: Lost braces; missing escapes or markup? 72 | \item{"expectedRate"}: {expected rate of pattern for 'binom.test' method} | ^ checkRd: (-1) summarizePatternInPeaks.Rd:73: Lost braces; missing escapes or markup? 73 | \item{"patternRate"}: {real rate of pattern for 'permutation.test' method} | ^ checkRd: (-1) summarizePatternInPeaks.Rd:74: Lost braces; missing escapes or markup? 74 | \item{"pValueBinomTest"}: {p value of bimom test for 'binom.test' method} | ^ checkRd: (-1) summarizePatternInPeaks.Rd:75-76: Lost braces 75 | \item{"cutOffPermutationTest"}: {cut off of permutation test for | ^ checkRd: (-1) summarizePatternInPeaks.Rd:82: Lost braces; missing escapes or markup? 82 | \item{"motifChr"}: {Chromosome of motif} | ^ checkRd: (-1) summarizePatternInPeaks.Rd:83: Lost braces; missing escapes or markup? 83 | \item{"motifStartInChr"}: {motif start position in chromosome} | ^ checkRd: (-1) summarizePatternInPeaks.Rd:84: Lost braces; missing escapes or markup? 84 | \item{"motifEndInChr"}: {motif end position in chromosome} | ^ checkRd: (-1) summarizePatternInPeaks.Rd:85: Lost braces; missing escapes or markup? 85 | \item{"motifName"}: {motif name} | ^ checkRd: (-1) summarizePatternInPeaks.Rd:86: Lost braces; missing escapes or markup? 86 | \item{"motifPattern"}: {motif pattern} | ^ checkRd: (-1) summarizePatternInPeaks.Rd:87: Lost braces; missing escapes or markup? 87 | \item{"motifStartInPeak"}: {motif start position in peak} | ^ checkRd: (-1) summarizePatternInPeaks.Rd:88: Lost braces; missing escapes or markup? 88 | \item{"motifEndInPeak"}: {motif end position in peak} | ^ checkRd: (-1) summarizePatternInPeaks.Rd:89: Lost braces; missing escapes or markup? 89 | \item{"motifFound"}: {specific motif Found in peak} | ^ checkRd: (-1) summarizePatternInPeaks.Rd:90-91: Lost braces 90 | \item{"motifFoundStrand"}: {strand of specific motif Found in peak, "-" | ^ checkRd: (-1) summarizePatternInPeaks.Rd:92: Lost braces; missing escapes or markup? 92 | \item{"peakChr"}: {Chromosome of peak} | ^ checkRd: (-1) summarizePatternInPeaks.Rd:93: Lost braces; missing escapes or markup? 93 | \item{"peakStart"}: {peak start position} | ^ checkRd: (-1) summarizePatternInPeaks.Rd:94: Lost braces; missing escapes or markup? 94 | \item{"peakEnd"}: {peak end position} | ^ checkRd: (-1) summarizePatternInPeaks.Rd:95: Lost braces; missing escapes or markup? 95 | \item{"peakWidth"}: {peak width} | ^ checkRd: (-1) summarizePatternInPeaks.Rd:96: Lost braces; missing escapes or markup? 96 | \item{"peakStrand"}: {peak strand} | ^ * checking Rd metadata ... OK * checking Rd cross-references ... OK * checking for missing documentation entries ... OK * checking for code/documentation mismatches ... OK * checking Rd \usage sections ... OK * checking Rd contents ... OK * checking for unstated dependencies in examples ... OK * checking contents of ‘data’ directory ... OK * checking data for non-ASCII characters ... OK * checking LazyData ... OK * checking data for ASCII and uncompressed saves ... OK * checking files in ‘vignettes’ ... OK * checking examples ... OK Examples with CPU (user + system) or elapsed time > 5s user system elapsed findEnhancers 21.233 0.736 21.970 annotatePeakInBatch 12.234 1.208 13.442 findMotifsInPromoterSeqs 12.384 0.306 12.691 summarizeOverlapsByBins 5.054 0.534 5.321 annoPeaks 3.340 0.379 5.755 * checking for unstated dependencies in ‘tests’ ... OK * checking tests ... Running ‘runTests.R’ OK * checking for unstated dependencies in vignettes ... OK * checking package vignettes ... OK * checking re-building of vignette outputs ... OK * checking PDF version of manual ... OK * DONE Status: 2 NOTEs See ‘/home/biocbuild/bbs-3.19-bioc/meat/ChIPpeakAnno.Rcheck/00check.log’ for details.
ChIPpeakAnno.Rcheck/00install.out
############################################################################## ############################################################################## ### ### Running command: ### ### /home/biocbuild/bbs-3.19-bioc/R/bin/R CMD INSTALL ChIPpeakAnno ### ############################################################################## ############################################################################## * installing to library ‘/home/biocbuild/bbs-3.19-bioc/R/site-library’ * installing *source* package ‘ChIPpeakAnno’ ... ** using staged installation ** R ** data *** moving datasets to lazyload DB ** inst ** byte-compile and prepare package for lazy loading ** help *** installing help indices ** building package indices ** installing vignettes ** testing if installed package can be loaded from temporary location ** testing if installed package can be loaded from final location ** testing if installed package keeps a record of temporary installation path * DONE (ChIPpeakAnno)
ChIPpeakAnno.Rcheck/tests/runTests.Rout
R version 4.4.1 (2024-06-14) -- "Race for Your Life" Copyright (C) 2024 The R Foundation for Statistical Computing Platform: x86_64-pc-linux-gnu R is free software and comes with ABSOLUTELY NO WARRANTY. You are welcome to redistribute it under certain conditions. Type 'license()' or 'licence()' for distribution details. R is a collaborative project with many contributors. Type 'contributors()' for more information and 'citation()' on how to cite R or R packages in publications. Type 'demo()' for some demos, 'help()' for on-line help, or 'help.start()' for an HTML browser interface to help. Type 'q()' to quit R. > require("ChIPpeakAnno") || stop("unable to load Package:ChIPpeakAnno") Loading required package: ChIPpeakAnno Loading required package: IRanges Loading required package: BiocGenerics Attaching package: 'BiocGenerics' The following objects are masked from 'package:stats': IQR, mad, sd, var, xtabs The following objects are masked from 'package:base': Filter, Find, Map, Position, Reduce, anyDuplicated, aperm, append, as.data.frame, basename, cbind, colnames, dirname, do.call, duplicated, eval, evalq, get, grep, grepl, intersect, is.unsorted, lapply, mapply, match, mget, order, paste, pmax, pmax.int, pmin, pmin.int, rank, rbind, rownames, sapply, setdiff, table, tapply, union, unique, unsplit, which.max, which.min Loading required package: S4Vectors Loading required package: stats4 Attaching package: 'S4Vectors' The following object is masked from 'package:utils': findMatches The following objects are masked from 'package:base': I, expand.grid, unname Loading required package: GenomicRanges Loading required package: GenomeInfoDb [1] TRUE > require("BSgenome.Drerio.UCSC.danRer7") || stop("unable to load Package:BSgenome.Drerio.UCSC.danRer7") Loading required package: BSgenome.Drerio.UCSC.danRer7 Loading required package: BSgenome Loading required package: Biostrings Loading required package: XVector Attaching package: 'Biostrings' The following object is masked from 'package:base': strsplit Loading required package: BiocIO Loading required package: rtracklayer Attaching package: 'rtracklayer' The following object is masked from 'package:BiocIO': FileForFormat [1] TRUE > require("BSgenome.Hsapiens.UCSC.hg19") || stop("unable to load Package:BSgenome.Hsapiens.UCSC.hg19") Loading required package: BSgenome.Hsapiens.UCSC.hg19 [1] TRUE > require("org.Hs.eg.db") || stop("unable to load Package:org.Hs.eg.db") Loading required package: org.Hs.eg.db Loading required package: AnnotationDbi Loading required package: Biobase Welcome to Bioconductor Vignettes contain introductory material; view with 'browseVignettes()'. To cite Bioconductor, see 'citation("Biobase")', and for packages 'citation("pkgname")'. [1] TRUE > require("org.Ce.eg.db") || stop("unable to load Package:org.Ce.eg.db") Loading required package: org.Ce.eg.db [1] TRUE > require("BSgenome.Celegans.UCSC.ce10") || stop("unable to load Package:BSgenome.Celegans.UCSC.ce10") Loading required package: BSgenome.Celegans.UCSC.ce10 [1] TRUE > require("EnsDb.Hsapiens.v79") || stop("unable to load Package:EnsDb.Hsapiens.v79") Loading required package: EnsDb.Hsapiens.v79 Loading required package: ensembldb Loading required package: GenomicFeatures Loading required package: AnnotationFilter Attaching package: 'ensembldb' The following object is masked from 'package:stats': filter [1] TRUE > require("TxDb.Hsapiens.UCSC.hg38.knownGene") || stop("unable to load TxDb.Hsapiens.UCSC.hg38.knownGene") Loading required package: TxDb.Hsapiens.UCSC.hg38.knownGene [1] TRUE > require("biomaRt") || stop("unable to load biomaRt") Loading required package: biomaRt [1] TRUE > require("reactome.db") || stop("unable to load reactome.db") Loading required package: reactome.db [1] TRUE > require("testthat") || stop("unable to load testthat") Loading required package: testthat Attaching package: 'testthat' The following object is masked from 'package:AnnotationFilter': not [1] TRUE > test_check("ChIPpeakAnno") INFO [2024-07-21 22:51:33] $cat.cex INFO [2024-07-21 22:51:33] [1] 1 INFO [2024-07-21 22:51:33] INFO [2024-07-21 22:51:33] $cat.col INFO [2024-07-21 22:51:33] [1] "black" INFO [2024-07-21 22:51:33] INFO [2024-07-21 22:51:33] $cat.fontface INFO [2024-07-21 22:51:33] [1] "plain" INFO [2024-07-21 22:51:33] INFO [2024-07-21 22:51:33] $cat.fontfamily INFO [2024-07-21 22:51:33] [1] "serif" INFO [2024-07-21 22:51:33] INFO [2024-07-21 22:51:33] $x INFO [2024-07-21 22:51:33] $x$TF1 INFO [2024-07-21 22:51:33] [1] 3 4 5 INFO [2024-07-21 22:51:33] INFO [2024-07-21 22:51:33] $x$TF2 INFO [2024-07-21 22:51:33] [1] 1 2 3 4 5 INFO [2024-07-21 22:51:33] INFO [2024-07-21 22:51:33] INFO [2024-07-21 22:51:33] $disable.logging INFO [2024-07-21 22:51:33] [1] TRUE INFO [2024-07-21 22:51:33] INFO [2024-07-21 22:51:33] $filename INFO [2024-07-21 22:51:33] NULL INFO [2024-07-21 22:51:33] INFO [2024-07-21 22:51:33] $cat.cex INFO [2024-07-21 22:51:33] [1] 1 INFO [2024-07-21 22:51:33] INFO [2024-07-21 22:51:33] $cat.col INFO [2024-07-21 22:51:33] [1] "black" INFO [2024-07-21 22:51:33] INFO [2024-07-21 22:51:33] $cat.fontface INFO [2024-07-21 22:51:33] [1] "plain" INFO [2024-07-21 22:51:33] INFO [2024-07-21 22:51:33] $cat.fontfamily INFO [2024-07-21 22:51:33] [1] "serif" INFO [2024-07-21 22:51:33] INFO [2024-07-21 22:51:33] $x INFO [2024-07-21 22:51:33] $x$TF1 INFO [2024-07-21 22:51:33] [1] 3 4 5 INFO [2024-07-21 22:51:33] INFO [2024-07-21 22:51:33] $x$TF2 INFO [2024-07-21 22:51:33] [1] 1 2 4 5 INFO [2024-07-21 22:51:33] INFO [2024-07-21 22:51:33] $x$TF3 INFO [2024-07-21 22:51:33] [1] 3 4 5 INFO [2024-07-21 22:51:33] INFO [2024-07-21 22:51:33] $x$TF4 INFO [2024-07-21 22:51:33] [1] 1 2 4 5 INFO [2024-07-21 22:51:33] INFO [2024-07-21 22:51:33] INFO [2024-07-21 22:51:33] $disable.logging INFO [2024-07-21 22:51:33] [1] TRUE INFO [2024-07-21 22:51:33] INFO [2024-07-21 22:51:33] $filename INFO [2024-07-21 22:51:33] NULL INFO [2024-07-21 22:51:33] INFO [2024-07-21 22:51:33] $scaled INFO [2024-07-21 22:51:33] [1] FALSE INFO [2024-07-21 22:51:33] INFO [2024-07-21 22:51:33] $euler.d INFO [2024-07-21 22:51:33] [1] FALSE INFO [2024-07-21 22:51:33] INFO [2024-07-21 22:51:33] $cat.cex INFO [2024-07-21 22:51:33] [1] 1 INFO [2024-07-21 22:51:33] INFO [2024-07-21 22:51:33] $cat.col INFO [2024-07-21 22:51:33] [1] "black" INFO [2024-07-21 22:51:33] INFO [2024-07-21 22:51:33] $cat.fontface INFO [2024-07-21 22:51:33] [1] "plain" INFO [2024-07-21 22:51:33] INFO [2024-07-21 22:51:33] $cat.fontfamily INFO [2024-07-21 22:51:33] [1] "serif" INFO [2024-07-21 22:51:33] INFO [2024-07-21 22:51:33] $x INFO [2024-07-21 22:51:33] $x$TF1 INFO [2024-07-21 22:51:33] [1] 1 2 3 INFO [2024-07-21 22:51:33] INFO [2024-07-21 22:51:33] $x$TF2 INFO [2024-07-21 22:51:33] [1] 1 2 3 INFO [2024-07-21 22:51:33] INFO [2024-07-21 22:51:33] INFO [2024-07-21 22:51:33] $disable.logging INFO [2024-07-21 22:51:33] [1] TRUE INFO [2024-07-21 22:51:33] INFO [2024-07-21 22:51:33] $filename INFO [2024-07-21 22:51:33] NULL INFO [2024-07-21 22:51:33] INFO [2024-07-21 22:51:33] $scaled INFO [2024-07-21 22:51:33] [1] FALSE INFO [2024-07-21 22:51:33] INFO [2024-07-21 22:51:33] $euler.d INFO [2024-07-21 22:51:33] [1] FALSE INFO [2024-07-21 22:51:33] INFO [2024-07-21 22:51:33] $cat.cex INFO [2024-07-21 22:51:33] [1] 1 INFO [2024-07-21 22:51:33] INFO [2024-07-21 22:51:33] $cat.col INFO [2024-07-21 22:51:33] [1] "black" INFO [2024-07-21 22:51:33] INFO [2024-07-21 22:51:33] $cat.fontface INFO [2024-07-21 22:51:33] [1] "plain" INFO [2024-07-21 22:51:33] INFO [2024-07-21 22:51:33] $cat.fontfamily INFO [2024-07-21 22:51:33] [1] "serif" INFO [2024-07-21 22:51:33] INFO [2024-07-21 22:51:33] $x INFO [2024-07-21 22:51:33] $x$TF1 INFO [2024-07-21 22:51:33] [1] 4 5 6 INFO [2024-07-21 22:51:33] INFO [2024-07-21 22:51:33] $x$TF2 INFO [2024-07-21 22:51:33] [1] 1 2 3 INFO [2024-07-21 22:51:33] INFO [2024-07-21 22:51:33] INFO [2024-07-21 22:51:33] $disable.logging INFO [2024-07-21 22:51:33] [1] TRUE INFO [2024-07-21 22:51:33] INFO [2024-07-21 22:51:33] $filename INFO [2024-07-21 22:51:33] NULL INFO [2024-07-21 22:51:33] INFO [2024-07-21 22:51:34] $scaled INFO [2024-07-21 22:51:34] [1] FALSE INFO [2024-07-21 22:51:34] INFO [2024-07-21 22:51:34] $euler.d INFO [2024-07-21 22:51:34] [1] FALSE INFO [2024-07-21 22:51:34] INFO [2024-07-21 22:51:34] $cat.cex INFO [2024-07-21 22:51:34] [1] 1 INFO [2024-07-21 22:51:34] INFO [2024-07-21 22:51:34] $cat.col INFO [2024-07-21 22:51:34] [1] "black" INFO [2024-07-21 22:51:34] INFO [2024-07-21 22:51:34] $cat.fontface INFO [2024-07-21 22:51:34] [1] "plain" INFO [2024-07-21 22:51:34] INFO [2024-07-21 22:51:34] $cat.fontfamily INFO [2024-07-21 22:51:34] [1] "serif" INFO [2024-07-21 22:51:34] INFO [2024-07-21 22:51:34] $x INFO [2024-07-21 22:51:34] $x$TF1 INFO [2024-07-21 22:51:34] [1] 4 5 6 INFO [2024-07-21 22:51:34] INFO [2024-07-21 22:51:34] $x$TF2 INFO [2024-07-21 22:51:34] [1] 1 2 3 INFO [2024-07-21 22:51:34] INFO [2024-07-21 22:51:34] INFO [2024-07-21 22:51:34] $disable.logging INFO [2024-07-21 22:51:34] [1] TRUE INFO [2024-07-21 22:51:34] INFO [2024-07-21 22:51:34] $filename INFO [2024-07-21 22:51:34] NULL INFO [2024-07-21 22:51:34] INFO [2024-07-21 22:51:34] $scaled INFO [2024-07-21 22:51:34] [1] FALSE INFO [2024-07-21 22:51:34] INFO [2024-07-21 22:51:34] $euler.d INFO [2024-07-21 22:51:34] [1] FALSE INFO [2024-07-21 22:51:34] INFO [2024-07-21 22:51:34] $cat.cex INFO [2024-07-21 22:51:34] [1] 1 INFO [2024-07-21 22:51:34] INFO [2024-07-21 22:51:34] $cat.col INFO [2024-07-21 22:51:34] [1] "black" INFO [2024-07-21 22:51:34] INFO [2024-07-21 22:51:34] $cat.fontface INFO [2024-07-21 22:51:34] [1] "plain" INFO [2024-07-21 22:51:34] INFO [2024-07-21 22:51:34] $cat.fontfamily INFO [2024-07-21 22:51:34] [1] "serif" INFO [2024-07-21 22:51:34] INFO [2024-07-21 22:51:34] $x INFO [2024-07-21 22:51:34] $x$TF1 INFO [2024-07-21 22:51:34] [1] 4 5 6 INFO [2024-07-21 22:51:34] INFO [2024-07-21 22:51:34] $x$TF2 INFO [2024-07-21 22:51:34] [1] 1 2 3 INFO [2024-07-21 22:51:34] INFO [2024-07-21 22:51:34] $x$TF3 INFO [2024-07-21 22:51:34] [1] 2 3 6 INFO [2024-07-21 22:51:34] INFO [2024-07-21 22:51:34] INFO [2024-07-21 22:51:34] $disable.logging INFO [2024-07-21 22:51:34] [1] TRUE INFO [2024-07-21 22:51:34] INFO [2024-07-21 22:51:34] $filename INFO [2024-07-21 22:51:34] NULL INFO [2024-07-21 22:51:34] INFO [2024-07-21 22:51:34] $scaled INFO [2024-07-21 22:51:34] [1] FALSE INFO [2024-07-21 22:51:34] INFO [2024-07-21 22:51:34] $euler.d INFO [2024-07-21 22:51:34] [1] FALSE INFO [2024-07-21 22:51:34] INFO [2024-07-21 22:51:34] $cat.cex INFO [2024-07-21 22:51:34] [1] 1 INFO [2024-07-21 22:51:34] INFO [2024-07-21 22:51:34] $cat.col INFO [2024-07-21 22:51:34] [1] "black" INFO [2024-07-21 22:51:34] INFO [2024-07-21 22:51:34] $cat.fontface INFO [2024-07-21 22:51:34] [1] "plain" INFO [2024-07-21 22:51:34] INFO [2024-07-21 22:51:34] $cat.fontfamily INFO [2024-07-21 22:51:34] [1] "serif" INFO [2024-07-21 22:51:34] INFO [2024-07-21 22:51:34] $x INFO [2024-07-21 22:51:34] $x$TF1 INFO [2024-07-21 22:51:34] [1] 3 4 5 INFO [2024-07-21 22:51:34] INFO [2024-07-21 22:51:34] $x$TF2 INFO [2024-07-21 22:51:34] [1] 1 2 5 INFO [2024-07-21 22:51:34] INFO [2024-07-21 22:51:34] $x$TF3 INFO [2024-07-21 22:51:34] [1] 1 2 5 INFO [2024-07-21 22:51:34] INFO [2024-07-21 22:51:34] INFO [2024-07-21 22:51:34] $disable.logging INFO [2024-07-21 22:51:34] [1] TRUE INFO [2024-07-21 22:51:34] INFO [2024-07-21 22:51:34] $filename INFO [2024-07-21 22:51:34] NULL INFO [2024-07-21 22:51:34] INFO [2024-07-21 22:51:35] $scaled INFO [2024-07-21 22:51:35] [1] FALSE INFO [2024-07-21 22:51:35] INFO [2024-07-21 22:51:35] $euler.d INFO [2024-07-21 22:51:35] [1] FALSE INFO [2024-07-21 22:51:35] INFO [2024-07-21 22:51:35] $cat.cex INFO [2024-07-21 22:51:35] [1] 1 INFO [2024-07-21 22:51:35] INFO [2024-07-21 22:51:35] $cat.col INFO [2024-07-21 22:51:35] [1] "black" INFO [2024-07-21 22:51:35] INFO [2024-07-21 22:51:35] $cat.fontface INFO [2024-07-21 22:51:35] [1] "plain" INFO [2024-07-21 22:51:35] INFO [2024-07-21 22:51:35] $cat.fontfamily INFO [2024-07-21 22:51:35] [1] "serif" INFO [2024-07-21 22:51:35] INFO [2024-07-21 22:51:35] $x INFO [2024-07-21 22:51:35] $x$TF1 INFO [2024-07-21 22:51:35] [1] 3 4 5 INFO [2024-07-21 22:51:35] INFO [2024-07-21 22:51:35] $x$TF2 INFO [2024-07-21 22:51:35] [1] 1 2 5 INFO [2024-07-21 22:51:35] INFO [2024-07-21 22:51:35] $x$TF3 INFO [2024-07-21 22:51:35] [1] 1 2 5 INFO [2024-07-21 22:51:35] INFO [2024-07-21 22:51:35] $x$TF4 INFO [2024-07-21 22:51:35] [1] 1 2 5 INFO [2024-07-21 22:51:35] INFO [2024-07-21 22:51:35] INFO [2024-07-21 22:51:35] $disable.logging INFO [2024-07-21 22:51:35] [1] TRUE INFO [2024-07-21 22:51:35] INFO [2024-07-21 22:51:35] $filename INFO [2024-07-21 22:51:35] NULL INFO [2024-07-21 22:51:35] [ FAIL 0 | WARN 3 | SKIP 6 | PASS 320 ] ══ Skipped tests (6) ═══════════════════════════════════════════════════════════ • empty test (6): 'test_binOverGene.R:1:1', 'test_binOverRegions.R:1:1', 'test_enrichmentPlot.R:1:1', 'test_getAnnotation.R:1:1', 'test_reCenterPeaks.R:1:1', 'test_write2FASTA.R:1:1' [ FAIL 0 | WARN 3 | SKIP 6 | PASS 320 ] > > proc.time() user system elapsed 154.604 5.775 162.873
ChIPpeakAnno.Rcheck/ChIPpeakAnno-Ex.timings
name | user | system | elapsed | |
ChIPpeakAnno-package | 0.001 | 0.000 | 0.001 | |
ExonPlusUtr.human.GRCh37 | 3.521 | 0.179 | 3.701 | |
HOT.spots | 0.132 | 0.012 | 0.144 | |
IDRfilter | 0.000 | 0.000 | 0.001 | |
Peaks.Ste12.Replicate1 | 0.052 | 0.000 | 0.052 | |
Peaks.Ste12.Replicate2 | 0.013 | 0.000 | 0.013 | |
Peaks.Ste12.Replicate3 | 0.012 | 0.000 | 0.011 | |
TSS.human.GRCh37 | 0.169 | 0.012 | 0.181 | |
TSS.human.GRCh38 | 0.147 | 0.004 | 0.151 | |
TSS.human.NCBI36 | 0.115 | 0.004 | 0.120 | |
TSS.mouse.GRCm38 | 0.103 | 0.004 | 0.106 | |
TSS.mouse.NCBIM37 | 0.093 | 0.004 | 0.096 | |
TSS.rat.RGSC3.4 | 0.074 | 0.008 | 0.082 | |
TSS.rat.Rnor_5.0 | 0.062 | 0.007 | 0.070 | |
TSS.zebrafish.Zv8 | 0.073 | 0.000 | 0.073 | |
TSS.zebrafish.Zv9 | 0.086 | 0.003 | 0.089 | |
addAncestors | 0.981 | 0.080 | 1.062 | |
addGeneIDs | 0.865 | 0.049 | 0.915 | |
addMetadata | 1.042 | 0.099 | 1.142 | |
annoGR | 0 | 0 | 0 | |
annoPeaks | 3.340 | 0.379 | 5.755 | |
annotatePeakInBatch | 12.234 | 1.208 | 13.442 | |
annotatedPeak | 0.062 | 0.004 | 0.066 | |
assignChromosomeRegion | 0.001 | 0.000 | 0.001 | |
bdp | 0 | 0 | 0 | |
binOverFeature | 0.660 | 0.016 | 0.676 | |
binOverGene | 0.001 | 0.000 | 0.000 | |
binOverRegions | 0 | 0 | 0 | |
condenseMatrixByColnames | 0.010 | 0.000 | 0.011 | |
convert2EntrezID | 0.436 | 0.008 | 0.444 | |
countPatternInSeqs | 0.156 | 0.008 | 0.164 | |
cumulativePercentage | 0 | 0 | 0 | |
downstreams | 0.022 | 0.000 | 0.022 | |
egOrgMap | 0 | 0 | 0 | |
enrichedGO | 0.000 | 0.003 | 0.002 | |
enrichmentPlot | 0.463 | 0.005 | 0.468 | |
estFragmentLength | 0 | 0 | 0 | |
estLibSize | 0.000 | 0.001 | 0.000 | |
featureAlignedDistribution | 0.193 | 0.003 | 0.196 | |
featureAlignedExtendSignal | 0.001 | 0.000 | 0.002 | |
featureAlignedHeatmap | 0.268 | 0.000 | 0.268 | |
featureAlignedSignal | 0.171 | 0.048 | 0.219 | |
findEnhancers | 21.233 | 0.736 | 21.970 | |
findMotifsInPromoterSeqs | 12.384 | 0.306 | 12.691 | |
findOverlappingPeaks | 0.001 | 0.000 | 0.001 | |
findOverlapsOfPeaks | 1.499 | 0.040 | 1.538 | |
genomicElementDistribution | 0.001 | 0.000 | 0.001 | |
genomicElementUpSetR | 0.000 | 0.000 | 0.001 | |
getAllPeakSequence | 0.468 | 0.018 | 0.488 | |
getAnnotation | 0.000 | 0.001 | 0.001 | |
getEnrichedGO | 0.009 | 0.000 | 0.010 | |
getEnrichedPATH | 0.000 | 0.000 | 0.001 | |
getGO | 0 | 0 | 0 | |
getGeneSeq | 0.001 | 0.000 | 0.001 | |
getUniqueGOidCount | 0.000 | 0.001 | 0.001 | |
getVennCounts | 0.000 | 0.001 | 0.001 | |
hyperGtest | 0.000 | 0.001 | 0.001 | |
makeVennDiagram | 0.002 | 0.000 | 0.002 | |
mergePlusMinusPeaks | 0.000 | 0.000 | 0.001 | |
metagenePlot | 1.851 | 0.048 | 1.900 | |
myPeakList | 0.015 | 0.000 | 0.014 | |
oligoFrequency | 0.087 | 0.004 | 0.090 | |
oligoSummary | 0.001 | 0.000 | 0.000 | |
peakPermTest | 0.002 | 0.000 | 0.002 | |
peaks1 | 0.008 | 0.000 | 0.007 | |
peaks2 | 0.007 | 0.000 | 0.006 | |
peaks3 | 0.007 | 0.000 | 0.006 | |
peaksNearBDP | 0.001 | 0.000 | 0.001 | |
pie1 | 0.001 | 0.004 | 0.005 | |
plotBinOverRegions | 0.000 | 0.000 | 0.001 | |
preparePool | 0.000 | 0.000 | 0.001 | |
reCenterPeaks | 0.023 | 0.000 | 0.024 | |
summarizeOverlapsByBins | 5.054 | 0.534 | 5.321 | |
summarizePatternInPeaks | 1.184 | 0.208 | 1.393 | |
tileCount | 0.184 | 0.171 | 0.297 | |
tileGRanges | 0.131 | 0.095 | 0.035 | |
toGRanges | 0.072 | 0.016 | 0.088 | |
translatePattern | 0.001 | 0.000 | 0.001 | |
wgEncodeTfbsV3 | 0.221 | 0.012 | 0.233 | |
write2FASTA | 0.017 | 0.004 | 0.022 | |
xget | 0.109 | 0.012 | 0.122 | |