Back to Multiple platform build/check report for BioC 3.20: simplified long |
|
This page was generated on 2024-07-04 11:44 -0400 (Thu, 04 Jul 2024).
Hostname | OS | Arch (*) | R version | Installed pkgs |
---|---|---|---|---|
nebbiolo2 | Linux (Ubuntu 22.04.3 LTS) | x86_64 | 4.4.1 (2024-06-14) -- "Race for Your Life" | 4411 |
palomino6 | Windows Server 2022 Datacenter | x64 | 4.4.1 (2024-06-14 ucrt) -- "Race for Your Life" | 4413 |
lconway | macOS 12.7.1 Monterey | x86_64 | 4.4.1 (2024-06-14) -- "Race for Your Life" | 4395 |
kjohnson3 | macOS 13.6.5 Ventura | arm64 | 4.4.1 (2024-06-14) -- "Race for Your Life" | 4390 |
kunpeng2 | Linux (openEuler 22.03 LTS-SP1) | aarch64 | 4.4.0 (2024-04-24) -- "Puppy Cup" | 4407 |
Click on any hostname to see more info about the system (e.g. compilers) (*) as reported by 'uname -p', except on Windows and Mac OS X |
Package 2224/2243 | Hostname | OS / Arch | INSTALL | BUILD | CHECK | BUILD BIN | ||||||||
wppi 1.13.0 (landing page) Ana Galhoz
| nebbiolo2 | Linux (Ubuntu 22.04.3 LTS) / x86_64 | OK | OK | OK | |||||||||
palomino6 | Windows Server 2022 Datacenter / x64 | OK | OK | OK | OK | |||||||||
lconway | macOS 12.7.1 Monterey / x86_64 | OK | OK | OK | OK | |||||||||
kjohnson3 | macOS 13.6.5 Ventura / arm64 | OK | OK | OK | OK | |||||||||
kunpeng2 | Linux (openEuler 22.03 LTS-SP1) / aarch64 | OK | OK | OK | ||||||||||
To the developers/maintainers of the wppi package: - Allow up to 24 hours (and sometimes 48 hours) for your latest push to git@git.bioconductor.org:packages/wppi.git to reflect on this report. See Troubleshooting Build Report for more information. - Use the following Renviron settings to reproduce errors and warnings. - If 'R CMD check' started to fail recently on the Linux builder(s) over a missing dependency, add the missing dependency to 'Suggests:' in your DESCRIPTION file. See Renviron.bioc for more information. |
Package: wppi |
Version: 1.13.0 |
Command: /Library/Frameworks/R.framework/Resources/bin/R CMD check --install=check:wppi.install-out.txt --library=/Library/Frameworks/R.framework/Resources/library --no-vignettes --timings wppi_1.13.0.tar.gz |
StartedAt: 2024-07-04 05:10:06 -0400 (Thu, 04 Jul 2024) |
EndedAt: 2024-07-04 05:12:06 -0400 (Thu, 04 Jul 2024) |
EllapsedTime: 119.3 seconds |
RetCode: 0 |
Status: OK |
CheckDir: wppi.Rcheck |
Warnings: 0 |
############################################################################## ############################################################################## ### ### Running command: ### ### /Library/Frameworks/R.framework/Resources/bin/R CMD check --install=check:wppi.install-out.txt --library=/Library/Frameworks/R.framework/Resources/library --no-vignettes --timings wppi_1.13.0.tar.gz ### ############################################################################## ############################################################################## * using log directory ‘/Users/biocbuild/bbs-3.20-bioc/meat/wppi.Rcheck’ * using R version 4.4.1 (2024-06-14) * using platform: aarch64-apple-darwin20 * R was compiled by Apple clang version 14.0.0 (clang-1400.0.29.202) GNU Fortran (GCC) 12.2.0 * running under: macOS Ventura 13.6.5 * using session charset: UTF-8 * using option ‘--no-vignettes’ * checking for file ‘wppi/DESCRIPTION’ ... OK * checking extension type ... Package * this is package ‘wppi’ version ‘1.13.0’ * package encoding: UTF-8 * checking package namespace information ... OK * checking package dependencies ... OK * checking if this is a source package ... OK * checking if there is a namespace ... OK * checking for hidden files and directories ... OK * checking for portable file names ... OK * checking for sufficient/correct file permissions ... OK * checking whether package ‘wppi’ can be installed ... OK * checking installed package size ... OK * checking package directory ... OK * checking ‘build’ directory ... OK * checking DESCRIPTION meta-information ... NOTE License stub is invalid DCF. * checking top-level files ... OK * checking for left-over files ... OK * checking index information ... OK * checking package subdirectories ... OK * checking code files for non-ASCII characters ... OK * checking R files for syntax errors ... OK * checking whether the package can be loaded ... OK * checking whether the package can be loaded with stated dependencies ... OK * checking whether the package can be unloaded cleanly ... OK * checking whether the namespace can be loaded with stated dependencies ... OK * checking whether the namespace can be unloaded cleanly ... OK * checking whether startup messages can be suppressed ... NOTE [2024-07-04 05:10:22] [TRACE] [OmnipathR] Reading JSON from `/Users/biocbuild/Library/Caches/OmnipathR/cache.json` (encoding: UTF-8). [2024-07-04 05:10:22] [TRACE] [OmnipathR] JSON validation successful: TRUE [2024-07-04 05:10:22] [INFO] [OmnipathR] Initialized cache: `/Users/biocbuild/Library/Caches/OmnipathR`. [2024-07-04 05:10:22] [TRACE] [OmnipathR] Running on a build server, wiping cache. [2024-07-04 05:10:22] [TRACE] [OmnipathR] Cache is at `/Users/biocbuild/Library/Caches/OmnipathR`. [2024-07-04 05:10:22] [TRACE] [OmnipathR] Contains 1 files. [2024-07-04 05:10:22] [TRACE] [OmnipathR] Cache is locked: FALSE. [2024-07-04 05:10:22] [TRACE] [OmnipathR] Reading JSON from `/Users/biocbuild/Library/Caches/OmnipathR/cache.json` (encoding: UTF-8). [2024-07-04 05:10:22] [TRACE] [OmnipathR] JSON validation successful: TRUE [2024-07-04 05:10:22] [SUCCESS] [OmnipathR] Removing all cache contents from `/Users/biocbuild/Library/Caches/OmnipathR`. [2024-07-04 05:10:22] [TRACE] [OmnipathR] Pandoc version: `3.1.12.3`. [2024-07-04 05:10:22] [TRACE] [OmnipathR] Reading JSON from `/Library/Frameworks/R.framework/Versions/4.4-arm64/Resources/library/OmnipathR/db/db_def.json` (encoding: UTF-8). [2024-07-04 05:10:22] [TRACE] [OmnipathR] JSON validation successful: TRUE [2024-07-04 05:10:22] [TRACE] [OmnipathR] Reading JSON from `/Library/Frameworks/R.framework/Versions/4.4-arm64/Resources/library/OmnipathR/internal/magic_bytes.json` (encoding: UTF-8). [2024-07-04 05:10:22] [TRACE] [OmnipathR] JSON validation successful: TRUE [2024-07-04 05:10:22] [TRACE] [OmnipathR] Reading JSON from `/Library/Frameworks/R.framework/Versions/4.4-arm64/Resources/library/OmnipathR/internal/urls.json` (encoding: UTF-8). [2024-07-04 05:10:22] [TRACE] [OmnipathR] JSON validation successful: TRUE [2024-07-04 05:10:22] [TRACE] [OmnipathR] Reading JSON from `/Library/Frameworks/R.framework/Versions/4.4-arm64/Resources/library/OmnipathR/internal/id_types.json` (encoding: UTF-8). [2024-07-04 05:10:22] [TRACE] [OmnipathR] JSON validation successful: TRUE [2024-07-04 05:10:22] [TRACE] [OmnipathR] Cache locked: FALSE It looks like this package (or a package it requires) has a startup message which cannot be suppressed: see ?packageStartupMessage. * checking dependencies in R code ... OK * checking S3 generic/method consistency ... OK * checking replacement functions ... OK * checking foreign function calls ... OK * checking R code for possible problems ... NOTE [2024-07-04 05:10:30] [TRACE] [OmnipathR] Reading JSON from `/Users/biocbuild/Library/Caches/OmnipathR/cache.json` (encoding: UTF-8). [2024-07-04 05:10:30] [TRACE] [OmnipathR] JSON validation successful: TRUE [2024-07-04 05:10:30] [INFO] [OmnipathR] Initialized cache: `/Users/biocbuild/Library/Caches/OmnipathR`. [2024-07-04 05:10:30] [TRACE] [OmnipathR] Running on a build server, wiping cache. [2024-07-04 05:10:30] [TRACE] [OmnipathR] Cache is at `/Users/biocbuild/Library/Caches/OmnipathR`. [2024-07-04 05:10:30] [TRACE] [OmnipathR] Contains 1 files. [2024-07-04 05:10:30] [TRACE] [OmnipathR] Cache is locked: FALSE. [2024-07-04 05:10:30] [TRACE] [OmnipathR] Reading JSON from `/Users/biocbuild/Library/Caches/OmnipathR/cache.json` (encoding: UTF-8). [2024-07-04 05:10:30] [TRACE] [OmnipathR] JSON validation successful: TRUE [2024-07-04 05:10:30] [SUCCESS] [OmnipathR] Removing all cache contents from `/Users/biocbuild/Library/Caches/OmnipathR`. [2024-07-04 05:10:30] [TRACE] [OmnipathR] Pandoc version: `3.1.12.3`. [2024-07-04 05:10:30] [TRACE] [OmnipathR] Reading JSON from `/Library/Frameworks/R.framework/Versions/4.4-arm64/Resources/library/OmnipathR/db/db_def.json` (encoding: UTF-8). [2024-07-04 05:10:30] [TRACE] [OmnipathR] JSON validation successful: TRUE [2024-07-04 05:10:30] [TRACE] [OmnipathR] Reading JSON from `/Library/Frameworks/R.framework/Versions/4.4-arm64/Resources/library/OmnipathR/internal/magic_bytes.json` (encoding: UTF-8). [2024-07-04 05:10:30] [TRACE] [OmnipathR] JSON validation successful: TRUE [2024-07-04 05:10:30] [TRACE] [OmnipathR] Reading JSON from `/Library/Frameworks/R.framework/Versions/4.4-arm64/Resources/library/OmnipathR/internal/urls.json` (encoding: UTF-8). [2024-07-04 05:10:30] [TRACE] [OmnipathR] JSON validation successful: TRUE [2024-07-04 05:10:30] [TRACE] [OmnipathR] Reading JSON from `/Library/Frameworks/R.framework/Versions/4.4-arm64/Resources/library/OmnipathR/internal/id_types.json` (encoding: UTF-8). [2024-07-04 05:10:30] [TRACE] [OmnipathR] JSON validation successful: TRUE [2024-07-04 05:10:30] [TRACE] [OmnipathR] Cache locked: FALSE * checking Rd files ... OK * checking Rd metadata ... OK * checking Rd cross-references ... OK * checking for missing documentation entries ... OK * checking for code/documentation mismatches ... OK * checking Rd \usage sections ... OK * checking Rd contents ... OK * checking for unstated dependencies in examples ... OK * checking files in ‘vignettes’ ... OK * checking examples ... OK Examples with CPU (user + system) or elapsed time > 5s user system elapsed wppi 12.810 0.255 14.366 random_walk 6.824 0.190 7.631 prioritization_genes 6.498 0.134 7.346 score_candidate_genes_from_PPI 6.299 0.147 7.237 count_genes 5.449 0.281 6.271 weighted_adj 5.273 0.136 5.949 common_neighbors 2.698 0.128 8.125 * checking for unstated dependencies in vignettes ... OK * checking package vignettes ... OK * checking running R code from vignettes ... SKIPPED * checking re-building of vignette outputs ... SKIPPED * checking PDF version of manual ... OK * DONE Status: 3 NOTEs See ‘/Users/biocbuild/bbs-3.20-bioc/meat/wppi.Rcheck/00check.log’ for details.
wppi.Rcheck/00install.out
############################################################################## ############################################################################## ### ### Running command: ### ### /Library/Frameworks/R.framework/Resources/bin/R CMD INSTALL wppi ### ############################################################################## ############################################################################## * installing to library ‘/Library/Frameworks/R.framework/Versions/4.4-arm64/Resources/library’ * installing *source* package ‘wppi’ ... ** using staged installation ** R ** byte-compile and prepare package for lazy loading [2024-07-03 15:50:21] [TRACE] [OmnipathR] Reading JSON from `/Users/biocbuild/Library/Caches/OmnipathR/cache.json` (encoding: UTF-8). [2024-07-03 15:50:21] [TRACE] [OmnipathR] JSON validation successful: TRUE [2024-07-03 15:50:21] [INFO] [OmnipathR] Initialized cache: `/Users/biocbuild/Library/Caches/OmnipathR`. [2024-07-03 15:50:21] [TRACE] [OmnipathR] Running on a build server, wiping cache. [2024-07-03 15:50:21] [TRACE] [OmnipathR] Cache is at `/Users/biocbuild/Library/Caches/OmnipathR`. [2024-07-03 15:50:21] [TRACE] [OmnipathR] Contains 1 files. [2024-07-03 15:50:21] [TRACE] [OmnipathR] Cache is locked: FALSE. [2024-07-03 15:50:21] [TRACE] [OmnipathR] Reading JSON from `/Users/biocbuild/Library/Caches/OmnipathR/cache.json` (encoding: UTF-8). [2024-07-03 15:50:21] [TRACE] [OmnipathR] JSON validation successful: TRUE [2024-07-03 15:50:21] [SUCCESS] [OmnipathR] Removing all cache contents from `/Users/biocbuild/Library/Caches/OmnipathR`. [2024-07-03 15:50:21] [TRACE] [OmnipathR] Pandoc version: `3.1.12.3`. [2024-07-03 15:50:21] [TRACE] [OmnipathR] Reading JSON from `/Library/Frameworks/R.framework/Versions/4.4-arm64/Resources/library/OmnipathR/db/db_def.json` (encoding: UTF-8). [2024-07-03 15:50:21] [TRACE] [OmnipathR] JSON validation successful: TRUE [2024-07-03 15:50:21] [TRACE] [OmnipathR] Reading JSON from `/Library/Frameworks/R.framework/Versions/4.4-arm64/Resources/library/OmnipathR/internal/magic_bytes.json` (encoding: UTF-8). [2024-07-03 15:50:21] [TRACE] [OmnipathR] JSON validation successful: TRUE [2024-07-03 15:50:21] [TRACE] [OmnipathR] Reading JSON from `/Library/Frameworks/R.framework/Versions/4.4-arm64/Resources/library/OmnipathR/internal/urls.json` (encoding: UTF-8). [2024-07-03 15:50:21] [TRACE] [OmnipathR] JSON validation successful: TRUE [2024-07-03 15:50:21] [TRACE] [OmnipathR] Reading JSON from `/Library/Frameworks/R.framework/Versions/4.4-arm64/Resources/library/OmnipathR/internal/id_types.json` (encoding: UTF-8). [2024-07-03 15:50:21] [TRACE] [OmnipathR] JSON validation successful: TRUE [2024-07-03 15:50:21] [TRACE] [OmnipathR] Cache locked: FALSE Note: wrong number of arguments to '/' ** help *** installing help indices ** building package indices ** installing vignettes ** testing if installed package can be loaded from temporary location [2024-07-03 15:50:23] [TRACE] [OmnipathR] Reading JSON from `/Users/biocbuild/Library/Caches/OmnipathR/cache.json` (encoding: UTF-8). [2024-07-03 15:50:23] [TRACE] [OmnipathR] JSON validation successful: TRUE [2024-07-03 15:50:23] [INFO] [OmnipathR] Initialized cache: `/Users/biocbuild/Library/Caches/OmnipathR`. [2024-07-03 15:50:23] [TRACE] [OmnipathR] Running on a build server, wiping cache. [2024-07-03 15:50:23] [TRACE] [OmnipathR] Cache is at `/Users/biocbuild/Library/Caches/OmnipathR`. [2024-07-03 15:50:23] [TRACE] [OmnipathR] Contains 1 files. [2024-07-03 15:50:23] [TRACE] [OmnipathR] Cache is locked: FALSE. [2024-07-03 15:50:23] [TRACE] [OmnipathR] Reading JSON from `/Users/biocbuild/Library/Caches/OmnipathR/cache.json` (encoding: UTF-8). [2024-07-03 15:50:23] [TRACE] [OmnipathR] JSON validation successful: TRUE [2024-07-03 15:50:23] [SUCCESS] [OmnipathR] Removing all cache contents from `/Users/biocbuild/Library/Caches/OmnipathR`. [2024-07-03 15:50:23] [TRACE] [OmnipathR] Pandoc version: `3.1.12.3`. [2024-07-03 15:50:23] [TRACE] [OmnipathR] Reading JSON from `/Library/Frameworks/R.framework/Versions/4.4-arm64/Resources/library/OmnipathR/db/db_def.json` (encoding: UTF-8). [2024-07-03 15:50:23] [TRACE] [OmnipathR] JSON validation successful: TRUE [2024-07-03 15:50:23] [TRACE] [OmnipathR] Reading JSON from `/Library/Frameworks/R.framework/Versions/4.4-arm64/Resources/library/OmnipathR/internal/magic_bytes.json` (encoding: UTF-8). [2024-07-03 15:50:23] [TRACE] [OmnipathR] JSON validation successful: TRUE [2024-07-03 15:50:23] [TRACE] [OmnipathR] Reading JSON from `/Library/Frameworks/R.framework/Versions/4.4-arm64/Resources/library/OmnipathR/internal/urls.json` (encoding: UTF-8). [2024-07-03 15:50:23] [TRACE] [OmnipathR] JSON validation successful: TRUE [2024-07-03 15:50:23] [TRACE] [OmnipathR] Reading JSON from `/Library/Frameworks/R.framework/Versions/4.4-arm64/Resources/library/OmnipathR/internal/id_types.json` (encoding: UTF-8). [2024-07-03 15:50:23] [TRACE] [OmnipathR] JSON validation successful: TRUE [2024-07-03 15:50:23] [TRACE] [OmnipathR] Cache locked: FALSE ** testing if installed package can be loaded from final location [2024-07-03 15:50:24] [TRACE] [OmnipathR] Reading JSON from `/Users/biocbuild/Library/Caches/OmnipathR/cache.json` (encoding: UTF-8). [2024-07-03 15:50:24] [TRACE] [OmnipathR] JSON validation successful: TRUE [2024-07-03 15:50:24] [INFO] [OmnipathR] Initialized cache: `/Users/biocbuild/Library/Caches/OmnipathR`. [2024-07-03 15:50:24] [TRACE] [OmnipathR] Running on a build server, wiping cache. [2024-07-03 15:50:24] [TRACE] [OmnipathR] Cache is at `/Users/biocbuild/Library/Caches/OmnipathR`. [2024-07-03 15:50:24] [TRACE] [OmnipathR] Contains 1 files. [2024-07-03 15:50:24] [TRACE] [OmnipathR] Cache is locked: FALSE. [2024-07-03 15:50:24] [TRACE] [OmnipathR] Reading JSON from `/Users/biocbuild/Library/Caches/OmnipathR/cache.json` (encoding: UTF-8). [2024-07-03 15:50:24] [TRACE] [OmnipathR] JSON validation successful: TRUE [2024-07-03 15:50:24] [SUCCESS] [OmnipathR] Removing all cache contents from `/Users/biocbuild/Library/Caches/OmnipathR`. [2024-07-03 15:50:24] [TRACE] [OmnipathR] Pandoc version: `3.1.12.3`. [2024-07-03 15:50:24] [TRACE] [OmnipathR] Reading JSON from `/Library/Frameworks/R.framework/Versions/4.4-arm64/Resources/library/OmnipathR/db/db_def.json` (encoding: UTF-8). [2024-07-03 15:50:24] [TRACE] [OmnipathR] JSON validation successful: TRUE [2024-07-03 15:50:24] [TRACE] [OmnipathR] Reading JSON from `/Library/Frameworks/R.framework/Versions/4.4-arm64/Resources/library/OmnipathR/internal/magic_bytes.json` (encoding: UTF-8). [2024-07-03 15:50:24] [TRACE] [OmnipathR] JSON validation successful: TRUE [2024-07-03 15:50:24] [TRACE] [OmnipathR] Reading JSON from `/Library/Frameworks/R.framework/Versions/4.4-arm64/Resources/library/OmnipathR/internal/urls.json` (encoding: UTF-8). [2024-07-03 15:50:24] [TRACE] [OmnipathR] JSON validation successful: TRUE [2024-07-03 15:50:24] [TRACE] [OmnipathR] Reading JSON from `/Library/Frameworks/R.framework/Versions/4.4-arm64/Resources/library/OmnipathR/internal/id_types.json` (encoding: UTF-8). [2024-07-03 15:50:24] [TRACE] [OmnipathR] JSON validation successful: TRUE [2024-07-03 15:50:24] [TRACE] [OmnipathR] Cache locked: FALSE ** testing if installed package keeps a record of temporary installation path * DONE (wppi)
wppi.Rcheck/wppi-Ex.timings
name | user | system | elapsed | |
common_neighbors | 2.698 | 0.128 | 8.125 | |
count_genes | 5.449 | 0.281 | 6.271 | |
filter_annot_with_network | 3.802 | 0.084 | 4.087 | |
functional_annot | 1.405 | 0.124 | 2.943 | |
graph_from_op | 1.534 | 0.029 | 1.707 | |
in_omnipath | 1.358 | 0.029 | 1.585 | |
prioritization_genes | 6.498 | 0.134 | 7.346 | |
process_annot | 0.542 | 0.014 | 0.588 | |
random_walk | 6.824 | 0.190 | 7.631 | |
score_candidate_genes_from_PPI | 6.299 | 0.147 | 7.237 | |
subgraph_op | 1.370 | 0.018 | 1.571 | |
weighted_adj | 5.273 | 0.136 | 5.949 | |
wppi | 12.810 | 0.255 | 14.366 | |
wppi_data | 4.034 | 0.077 | 4.350 | |
wppi_go_data | 1.934 | 0.042 | 2.055 | |
wppi_hpo_data | 0.352 | 0.020 | 0.388 | |
wppi_omnipath_data | 1.409 | 0.012 | 1.557 | |